BEGIN:VCALENDAR
VERSION:2.0
PRODID:-//DRIVE - ECPv6.15.18//NONSGML v1.0//EN
CALSCALE:GREGORIAN
METHOD:PUBLISH
X-WR-CALNAME:DRIVE
X-ORIGINAL-URL:https://driveshops.com
X-WR-CALDESC:Events for DRIVE
REFRESH-INTERVAL;VALUE=DURATION:PT1H
X-Robots-Tag:noindex
X-PUBLISHED-TTL:PT1H
BEGIN:VTIMEZONE
TZID:UTC
BEGIN:STANDARD
TZOFFSETFROM:+0000
TZOFFSETTO:+0000
TZNAME:UTC
DTSTART:20220101T000000
END:STANDARD
END:VTIMEZONE
BEGIN:VEVENT
DTSTART;TZID=UTC:20231025T080000
DTEND;TZID=UTC:20231025T110000
DTSTAMP:20260425T083914
CREATED:20221229T174935Z
LAST-MODIFIED:20221229T174935Z
UID:10004351-1698220800-1698231600@driveshops.com
SUMMARY:Fundamentals of Wealth 2/5
DESCRIPTION:
URL:https://driveshops.com/events/fundamentals-of-wealth-2-5-2/
LOCATION:Online
CATEGORIES:Fundamentals of Wealth,Workshop
ATTACH;FMTTYPE=image/png:https://driveshops.com/wp-content/uploads/2019/04/screen-shot-2019-05-21-at-10.42.34-am-e1558471231325.png
END:VEVENT
BEGIN:VEVENT
DTSTART;TZID=UTC:20231025T080000
DTEND;TZID=UTC:20231025T110000
DTSTAMP:20260425T083914
CREATED:20221229T180128Z
LAST-MODIFIED:20221229T180128Z
UID:10004048-1698220800-1698231600@driveshops.com
SUMMARY:Succession & Exit Planning 2/6
DESCRIPTION:
URL:https://driveshops.com/events/succession-exit-planning-2-6-6/
LOCATION:Online
CATEGORIES:Succession & Exit Planning,Workshop
ATTACH;FMTTYPE=image/png:https://driveshops.com/wp-content/uploads/2019/04/screen-shot-2019-05-21-at-10.36.20-am-e1558471267564.png
END:VEVENT
END:VCALENDAR