BEGIN:VCALENDAR
VERSION:2.0
PRODID:-//DRIVE - ECPv6.15.18//NONSGML v1.0//EN
CALSCALE:GREGORIAN
METHOD:PUBLISH
X-WR-CALNAME:DRIVE
X-ORIGINAL-URL:https://driveshops.com
X-WR-CALDESC:Events for DRIVE
REFRESH-INTERVAL;VALUE=DURATION:PT1H
X-Robots-Tag:noindex
X-PUBLISHED-TTL:PT1H
BEGIN:VTIMEZONE
TZID:UTC
BEGIN:STANDARD
TZOFFSETFROM:+0000
TZOFFSETTO:+0000
TZNAME:UTC
DTSTART:20220101T000000
END:STANDARD
END:VTIMEZONE
BEGIN:VEVENT
DTSTART;TZID=UTC:20231115T080000
DTEND;TZID=UTC:20231115T110000
DTSTAMP:20260425T072720
CREATED:20221229T164519Z
LAST-MODIFIED:20221229T164519Z
UID:10004290-1700035200-1700046000@driveshops.com
SUMMARY:Key To Understanding Your Financial Reports 2/3
DESCRIPTION:
URL:https://driveshops.com/events/the-key-to-understanding-your-financial-reports-2-3-5/
LOCATION:DRIVE HQ\, 324 S Myrtle Ave\, Monrovia\, CA\, 91016\, United States
CATEGORIES:The Key to Understanding Your Financial Reports,Workshop
ATTACH;FMTTYPE=image/png:https://driveshops.com/wp-content/uploads/2019/04/screen-shot-2019-05-21-at-10.04.39-am-e1558471807663.png
END:VEVENT
BEGIN:VEVENT
DTSTART;TZID=UTC:20231115T080000
DTEND;TZID=UTC:20231115T110000
DTSTAMP:20260425T072720
CREATED:20221229T165232Z
LAST-MODIFIED:20221229T165232Z
UID:10004357-1700035200-1700046000@driveshops.com
SUMMARY:Building Your Dream Team 5/5
DESCRIPTION:
URL:https://driveshops.com/events/building-your-dream-team-5-5-13/
LOCATION:Online
CATEGORIES:Building Your Dream Team
ATTACH;FMTTYPE=image/png:https://driveshops.com/wp-content/uploads/2019/03/screen-shot-2019-05-20-at-12.10.22-pm-e1558471852915.png
END:VEVENT
END:VCALENDAR