BEGIN:VCALENDAR
VERSION:2.0
PRODID:-//DRIVE - ECPv6.15.18//NONSGML v1.0//EN
CALSCALE:GREGORIAN
METHOD:PUBLISH
X-WR-CALNAME:DRIVE
X-ORIGINAL-URL:https://driveshops.com
X-WR-CALDESC:Events for DRIVE
REFRESH-INTERVAL;VALUE=DURATION:PT1H
X-Robots-Tag:noindex
X-PUBLISHED-TTL:PT1H
BEGIN:VTIMEZONE
TZID:America/Denver
BEGIN:DAYLIGHT
TZOFFSETFROM:-0700
TZOFFSETTO:-0600
TZNAME:MDT
DTSTART:20230312T090000
END:DAYLIGHT
BEGIN:STANDARD
TZOFFSETFROM:-0600
TZOFFSETTO:-0700
TZNAME:MST
DTSTART:20231105T080000
END:STANDARD
BEGIN:DAYLIGHT
TZOFFSETFROM:-0700
TZOFFSETTO:-0600
TZNAME:MDT
DTSTART:20240310T090000
END:DAYLIGHT
BEGIN:STANDARD
TZOFFSETFROM:-0600
TZOFFSETTO:-0700
TZNAME:MST
DTSTART:20241103T080000
END:STANDARD
BEGIN:DAYLIGHT
TZOFFSETFROM:-0700
TZOFFSETTO:-0600
TZNAME:MDT
DTSTART:20250309T090000
END:DAYLIGHT
BEGIN:STANDARD
TZOFFSETFROM:-0600
TZOFFSETTO:-0700
TZNAME:MST
DTSTART:20251102T080000
END:STANDARD
END:VTIMEZONE
BEGIN:VTIMEZONE
TZID:America/Los_Angeles
BEGIN:DAYLIGHT
TZOFFSETFROM:-0800
TZOFFSETTO:-0700
TZNAME:PDT
DTSTART:20230312T100000
END:DAYLIGHT
BEGIN:STANDARD
TZOFFSETFROM:-0700
TZOFFSETTO:-0800
TZNAME:PST
DTSTART:20231105T090000
END:STANDARD
BEGIN:DAYLIGHT
TZOFFSETFROM:-0800
TZOFFSETTO:-0700
TZNAME:PDT
DTSTART:20240310T100000
END:DAYLIGHT
BEGIN:STANDARD
TZOFFSETFROM:-0700
TZOFFSETTO:-0800
TZNAME:PST
DTSTART:20241103T090000
END:STANDARD
BEGIN:DAYLIGHT
TZOFFSETFROM:-0800
TZOFFSETTO:-0700
TZNAME:PDT
DTSTART:20250309T100000
END:DAYLIGHT
BEGIN:STANDARD
TZOFFSETFROM:-0700
TZOFFSETTO:-0800
TZNAME:PST
DTSTART:20251102T090000
END:STANDARD
END:VTIMEZONE
BEGIN:VEVENT
DTSTART;TZID=America/Denver:20241202T080000
DTEND;TZID=America/Denver:20241202T110000
DTSTAMP:20260424T092450
CREATED:20240405T144626Z
LAST-MODIFIED:20240405T144626Z
UID:10007044-1733126400-1733137200@driveshops.com
SUMMARY:Managing Shop Finances Day 1
DESCRIPTION:
URL:https://driveshops.com/events/managing-shop-finances-day-1/
LOCATION:Online
CATEGORIES:Mastering Shop Finances,Workshop
END:VEVENT
BEGIN:VEVENT
DTSTART;TZID=America/Los_Angeles:20241202T080000
DTEND;TZID=America/Los_Angeles:20241202T110000
DTSTAMP:20260424T092450
CREATED:20240425T162111Z
LAST-MODIFIED:20240425T162111Z
UID:10007087-1733126400-1733137200@driveshops.com
SUMMARY:Essentials of Shop Management  Day 1 of 6
DESCRIPTION:
URL:https://driveshops.com/events/essentials-of-shop-management-day-1-of-6-4/
LOCATION:Online
CATEGORIES:Essentials of Shop Management,Workshop
ATTACH;FMTTYPE=image/png:https://driveshops.com/wp-content/uploads/2019/04/screen-shot-2019-05-21-at-10.17.01-am-e1558471790866.png
END:VEVENT
BEGIN:VEVENT
DTSTART;TZID=America/Los_Angeles:20241202T080000
DTEND;TZID=America/Los_Angeles:20241202T110000
DTSTAMP:20260424T092450
CREATED:20240425T194937Z
LAST-MODIFIED:20240425T194937Z
UID:10007196-1733126400-1733137200@driveshops.com
SUMMARY:Controlling The Front Day 1 of 5
DESCRIPTION:
URL:https://driveshops.com/events/controlling-the-front-day-1-of-5-3/
LOCATION:Online
CATEGORIES:Controlling The Front,Workshop
ATTACH;FMTTYPE=image/png:https://driveshops.com/wp-content/uploads/2019/04/screen-shot-2019-05-21-at-10.21.47-am-e1558471774230.png
END:VEVENT
END:VCALENDAR