BEGIN:VCALENDAR
VERSION:2.0
PRODID:-//DRIVE - ECPv6.15.18//NONSGML v1.0//EN
CALSCALE:GREGORIAN
METHOD:PUBLISH
X-ORIGINAL-URL:https://driveshops.com
X-WR-CALDESC:Events for DRIVE
REFRESH-INTERVAL;VALUE=DURATION:PT1H
X-Robots-Tag:noindex
X-PUBLISHED-TTL:PT1H
BEGIN:VTIMEZONE
TZID:America/Los_Angeles
BEGIN:DAYLIGHT
TZOFFSETFROM:-0800
TZOFFSETTO:-0700
TZNAME:PDT
DTSTART:20240310T100000
END:DAYLIGHT
BEGIN:STANDARD
TZOFFSETFROM:-0700
TZOFFSETTO:-0800
TZNAME:PST
DTSTART:20241103T090000
END:STANDARD
BEGIN:DAYLIGHT
TZOFFSETFROM:-0800
TZOFFSETTO:-0700
TZNAME:PDT
DTSTART:20250309T100000
END:DAYLIGHT
BEGIN:STANDARD
TZOFFSETFROM:-0700
TZOFFSETTO:-0800
TZNAME:PST
DTSTART:20251102T090000
END:STANDARD
BEGIN:DAYLIGHT
TZOFFSETFROM:-0800
TZOFFSETTO:-0700
TZNAME:PDT
DTSTART:20260308T100000
END:DAYLIGHT
BEGIN:STANDARD
TZOFFSETFROM:-0700
TZOFFSETTO:-0800
TZNAME:PST
DTSTART:20261101T090000
END:STANDARD
END:VTIMEZONE
BEGIN:VTIMEZONE
TZID:UTC
BEGIN:STANDARD
TZOFFSETFROM:+0000
TZOFFSETTO:+0000
TZNAME:UTC
DTSTART:20240101T000000
END:STANDARD
END:VTIMEZONE
BEGIN:VEVENT
DTSTART;TZID=America/Los_Angeles:20250221T080000
DTEND;TZID=America/Los_Angeles:20250221T110000
DTSTAMP:20260424T064704
CREATED:20241115T180003Z
LAST-MODIFIED:20250124T151135Z
UID:10007306-1740124800-1740135600@driveshops.com
SUMMARY:Controlling The Front Day 5 of 5
DESCRIPTION:
URL:https://driveshops.com/events/controlling-the-front-day-5-of-5-4/
LOCATION:Online
CATEGORIES:Controlling The Front,Workshop
ATTACH;FMTTYPE=image/png:https://driveshops.com/wp-content/uploads/2019/04/screen-shot-2019-05-21-at-10.21.47-am-e1558471774230.png
END:VEVENT
BEGIN:VEVENT
DTSTART;TZID=America/Los_Angeles:20250221T080000
DTEND;TZID=America/Los_Angeles:20250221T110000
DTSTAMP:20260424T064704
CREATED:20241115T180228Z
LAST-MODIFIED:20250124T151800Z
UID:10007311-1740124800-1740135600@driveshops.com
SUMMARY:Controlling The Front for Collision Shops Day 5 of 5
DESCRIPTION:
URL:https://driveshops.com/events/controlling-the-front-for-collision-shops-day-5-of-5/
LOCATION:Online
CATEGORIES:Collision - Controlling The Front,Workshop
ATTACH;FMTTYPE=image/png:https://driveshops.com/wp-content/uploads/2019/04/screen-shot-2019-05-21-at-10.29.28-am-e1558471305153.png
END:VEVENT
BEGIN:VEVENT
DTSTART;TZID=UTC:20250221T080000
DTEND;TZID=UTC:20250221T110000
DTSTAMP:20260424T064704
CREATED:20241115T182120Z
LAST-MODIFIED:20241115T182120Z
UID:10007327-1740124800-1740135600@driveshops.com
SUMMARY:How to Read and Use Financial Statements Day 6 of 6
DESCRIPTION:
URL:https://driveshops.com/events/how-to-read-and-use-financial-statements-day-6-of-6-3/
LOCATION:Online
CATEGORIES:How to Read and Use Financial Statements,Workshop
END:VEVENT
END:VCALENDAR