BEGIN:VCALENDAR
VERSION:2.0
PRODID:-//DRIVE - ECPv6.15.18//NONSGML v1.0//EN
CALSCALE:GREGORIAN
METHOD:PUBLISH
X-ORIGINAL-URL:https://driveshops.com
X-WR-CALDESC:Events for DRIVE
REFRESH-INTERVAL;VALUE=DURATION:PT1H
X-Robots-Tag:noindex
X-PUBLISHED-TTL:PT1H
BEGIN:VTIMEZONE
TZID:UTC
BEGIN:STANDARD
TZOFFSETFROM:+0000
TZOFFSETTO:+0000
TZNAME:UTC
DTSTART:20240101T000000
END:STANDARD
END:VTIMEZONE
BEGIN:VTIMEZONE
TZID:America/Los_Angeles
BEGIN:DAYLIGHT
TZOFFSETFROM:-0800
TZOFFSETTO:-0700
TZNAME:PDT
DTSTART:20240310T100000
END:DAYLIGHT
BEGIN:STANDARD
TZOFFSETFROM:-0700
TZOFFSETTO:-0800
TZNAME:PST
DTSTART:20241103T090000
END:STANDARD
BEGIN:DAYLIGHT
TZOFFSETFROM:-0800
TZOFFSETTO:-0700
TZNAME:PDT
DTSTART:20250309T100000
END:DAYLIGHT
BEGIN:STANDARD
TZOFFSETFROM:-0700
TZOFFSETTO:-0800
TZNAME:PST
DTSTART:20251102T090000
END:STANDARD
BEGIN:DAYLIGHT
TZOFFSETFROM:-0800
TZOFFSETTO:-0700
TZNAME:PDT
DTSTART:20260308T100000
END:DAYLIGHT
BEGIN:STANDARD
TZOFFSETFROM:-0700
TZOFFSETTO:-0800
TZNAME:PST
DTSTART:20261101T090000
END:STANDARD
END:VTIMEZONE
BEGIN:VEVENT
DTSTART;TZID=UTC:20250305T080000
DTEND;TZID=UTC:20250305T110000
DTSTAMP:20260424T043014
CREATED:20250124T175732Z
LAST-MODIFIED:20250124T175732Z
UID:10007342-1741161600-1741172400@driveshops.com
SUMMARY:Professional Service Advisor Sales Day 5 of 6
DESCRIPTION:
URL:https://driveshops.com/events/professional-service-advisor-sales-day-5-of-6-5/
LOCATION:Online
CATEGORIES:Professional Service Advisor Sales,Workshop
ATTACH;FMTTYPE=image/png:https://driveshops.com/wp-content/uploads/2019/04/screen-shot-2019-05-21-at-10.14.39-am-e1558470540769.png
END:VEVENT
BEGIN:VEVENT
DTSTART;TZID=America/Los_Angeles:20250305T080000
DTEND;TZID=America/Los_Angeles:20250305T110000
DTSTAMP:20260424T043014
CREATED:20250124T180057Z
LAST-MODIFIED:20250124T180057Z
UID:10007348-1741161600-1741172400@driveshops.com
SUMMARY:Planning For Success Day 5 of 5
DESCRIPTION:
URL:https://driveshops.com/events/planning-for-success-day-5-of-5-4/
LOCATION:Online
CATEGORIES:Planning for Success,Workshop
ATTACH;FMTTYPE=image/png:https://driveshops.com/wp-content/uploads/2019/04/screen-shot-2019-05-21-at-10.44.40-am-e1558471214538.png
END:VEVENT
END:VCALENDAR