BEGIN:VCALENDAR
VERSION:2.0
PRODID:-//DRIVE - ECPv6.15.18//NONSGML v1.0//EN
CALSCALE:GREGORIAN
METHOD:PUBLISH
X-ORIGINAL-URL:https://driveshops.com
X-WR-CALDESC:Events for DRIVE
REFRESH-INTERVAL;VALUE=DURATION:PT1H
X-Robots-Tag:noindex
X-PUBLISHED-TTL:PT1H
BEGIN:VTIMEZONE
TZID:America/Los_Angeles
BEGIN:DAYLIGHT
TZOFFSETFROM:-0800
TZOFFSETTO:-0700
TZNAME:PDT
DTSTART:20240310T100000
END:DAYLIGHT
BEGIN:STANDARD
TZOFFSETFROM:-0700
TZOFFSETTO:-0800
TZNAME:PST
DTSTART:20241103T090000
END:STANDARD
BEGIN:DAYLIGHT
TZOFFSETFROM:-0800
TZOFFSETTO:-0700
TZNAME:PDT
DTSTART:20250309T100000
END:DAYLIGHT
BEGIN:STANDARD
TZOFFSETFROM:-0700
TZOFFSETTO:-0800
TZNAME:PST
DTSTART:20251102T090000
END:STANDARD
BEGIN:DAYLIGHT
TZOFFSETFROM:-0800
TZOFFSETTO:-0700
TZNAME:PDT
DTSTART:20260308T100000
END:DAYLIGHT
BEGIN:STANDARD
TZOFFSETFROM:-0700
TZOFFSETTO:-0800
TZNAME:PST
DTSTART:20261101T090000
END:STANDARD
END:VTIMEZONE
BEGIN:VEVENT
DTSTART;TZID=America/Los_Angeles:20250424T080000
DTEND;TZID=America/Los_Angeles:20250424T110000
DTSTAMP:20260424T030632
CREATED:20250127T165455Z
LAST-MODIFIED:20250417T180659Z
UID:10007412-1745481600-1745492400@driveshops.com
SUMMARY:Crafting Business Plans That Win Investors and Secure Loans Day 3 of 3
DESCRIPTION:
URL:https://driveshops.com/events/crafting-business-plans-that-win-investors-and-secure-loans-day-3-of-3/
LOCATION:Online
CATEGORIES:Crafting Business Plans That Win Investors and Secure Loans,Workshop
END:VEVENT
BEGIN:VEVENT
DTSTART;TZID=America/Los_Angeles:20250424T080000
DTEND;TZID=America/Los_Angeles:20250424T110000
DTSTAMP:20260424T030632
CREATED:20250127T170136Z
LAST-MODIFIED:20250319T175012Z
UID:10007417-1745481600-1745492400@driveshops.com
SUMMARY:Planning For Success Day 5 of 5
DESCRIPTION:
URL:https://driveshops.com/events/planning-for-success-day-5-of-5-5/
LOCATION:Online
CATEGORIES:Planning for Success,Workshop
ATTACH;FMTTYPE=image/png:https://driveshops.com/wp-content/uploads/2019/04/screen-shot-2019-05-21-at-10.44.40-am-e1558471214538.png
END:VEVENT
END:VCALENDAR