BEGIN:VCALENDAR
VERSION:2.0
PRODID:-//DRIVE - ECPv6.15.18//NONSGML v1.0//EN
CALSCALE:GREGORIAN
METHOD:PUBLISH
X-WR-CALNAME:DRIVE
X-ORIGINAL-URL:https://driveshops.com
X-WR-CALDESC:Events for DRIVE
REFRESH-INTERVAL;VALUE=DURATION:PT1H
X-Robots-Tag:noindex
X-PUBLISHED-TTL:PT1H
BEGIN:VTIMEZONE
TZID:America/Los_Angeles
BEGIN:DAYLIGHT
TZOFFSETFROM:-0800
TZOFFSETTO:-0700
TZNAME:PDT
DTSTART:20240310T100000
END:DAYLIGHT
BEGIN:STANDARD
TZOFFSETFROM:-0700
TZOFFSETTO:-0800
TZNAME:PST
DTSTART:20241103T090000
END:STANDARD
BEGIN:DAYLIGHT
TZOFFSETFROM:-0800
TZOFFSETTO:-0700
TZNAME:PDT
DTSTART:20250309T100000
END:DAYLIGHT
BEGIN:STANDARD
TZOFFSETFROM:-0700
TZOFFSETTO:-0800
TZNAME:PST
DTSTART:20251102T090000
END:STANDARD
BEGIN:DAYLIGHT
TZOFFSETFROM:-0800
TZOFFSETTO:-0700
TZNAME:PDT
DTSTART:20260308T100000
END:DAYLIGHT
BEGIN:STANDARD
TZOFFSETFROM:-0700
TZOFFSETTO:-0800
TZNAME:PST
DTSTART:20261101T090000
END:STANDARD
END:VTIMEZONE
BEGIN:VEVENT
DTSTART;TZID=America/Los_Angeles:20251016T080000
DTEND;TZID=America/Los_Angeles:20251016T110000
DTSTAMP:20260423T195206
CREATED:20250318T182648Z
LAST-MODIFIED:20250416T174813Z
UID:10007485-1760601600-1760612400@driveshops.com
SUMMARY:Master and Control The Front of Your Shop Day 3 of 5
DESCRIPTION:
URL:https://driveshops.com/events/controlling-the-front-day-3-of-5-6/
LOCATION:Online
CATEGORIES:Master and Control the Front of Your Shop,Workshop
END:VEVENT
BEGIN:VEVENT
DTSTART;TZID=America/Los_Angeles:20251016T080000
DTEND;TZID=America/Los_Angeles:20251016T110000
DTSTAMP:20260423T195206
CREATED:20250318T184347Z
LAST-MODIFIED:20250416T174802Z
UID:10007498-1760601600-1760612400@driveshops.com
SUMMARY:How to Increase Your Profits Day 2 of 4
DESCRIPTION:
URL:https://driveshops.com/events/how-to-increase-your-profits-day-2-of-4-8/
LOCATION:Online
CATEGORIES:How To Increase Your Profits,Workshop
END:VEVENT
BEGIN:VEVENT
DTSTART;TZID=America/Los_Angeles:20251016T080000
DTEND;TZID=America/Los_Angeles:20251016T110000
DTSTAMP:20260423T195206
CREATED:20250318T185531Z
LAST-MODIFIED:20250318T185531Z
UID:10007507-1760601600-1760612400@driveshops.com
SUMMARY:How to Read and Use Financial Statements Day 3 of 6
DESCRIPTION:
URL:https://driveshops.com/events/how-to-read-and-use-financial-statements-day-3-of-6-5/
LOCATION:Online
CATEGORIES:How to Read and Use Financial Statements,Workshop
END:VEVENT
BEGIN:VEVENT
DTSTART;TZID=America/Los_Angeles:20251016T080000
DTEND;TZID=America/Los_Angeles:20251016T110000
DTSTAMP:20260423T195206
CREATED:20250319T173243Z
LAST-MODIFIED:20250416T174746Z
UID:10007547-1760601600-1760612400@driveshops.com
SUMMARY:Succession & Exit Planning Day 3 of 5
DESCRIPTION:
URL:https://driveshops.com/events/succession-exit-planning-day-3-of-5-2/
LOCATION:Online
CATEGORIES:Succession & Exit Planning,Workshop
END:VEVENT
BEGIN:VEVENT
DTSTART;TZID=America/Los_Angeles:20251016T080000
DTEND;TZID=America/Los_Angeles:20251016T110000
DTSTAMP:20260423T195206
CREATED:20250320T131815Z
LAST-MODIFIED:20250416T174737Z
UID:10007678-1760601600-1760612400@driveshops.com
SUMMARY:Essentials of Shop Management Day 3 of 6
DESCRIPTION:
URL:https://driveshops.com/events/essentials-of-shop-management-day-3-of-6-12/
LOCATION:Online
CATEGORIES:Essentials of Shop Management,Workshop
END:VEVENT
BEGIN:VEVENT
DTSTART;TZID=America/Los_Angeles:20251016T080000
DTEND;TZID=America/Los_Angeles:20251016T110000
DTSTAMP:20260423T195206
CREATED:20250320T132636Z
LAST-MODIFIED:20250320T132636Z
UID:10007684-1760601600-1760612400@driveshops.com
SUMMARY:Getting Your Point Across Day 3 of 6
DESCRIPTION:
URL:https://driveshops.com/events/getting-your-point-across-day-3-of-6-3/
LOCATION:Online
CATEGORIES:Getting Your Point Across,Workshop
ORGANIZER;CN="Tony Wisler":MAILTO:scheduling@driveshops.com
END:VEVENT
BEGIN:VEVENT
DTSTART;TZID=America/Los_Angeles:20251016T080000
DTEND;TZID=America/Los_Angeles:20251016T110000
DTSTAMP:20260423T195206
CREATED:20250320T133149Z
LAST-MODIFIED:20250320T133149Z
UID:10007693-1760601600-1760612400@driveshops.com
SUMMARY:Marketing Your Shop Day 2 of 4
DESCRIPTION:
URL:https://driveshops.com/events/marketing-your-shop-day-2-of-4-3/
LOCATION:Online
CATEGORIES:Marketing Your Shop
END:VEVENT
END:VCALENDAR