BEGIN:VCALENDAR
VERSION:2.0
PRODID:-//DRIVE - ECPv6.15.18//NONSGML v1.0//EN
CALSCALE:GREGORIAN
METHOD:PUBLISH
X-ORIGINAL-URL:https://driveshops.com
X-WR-CALDESC:Events for DRIVE
REFRESH-INTERVAL;VALUE=DURATION:PT1H
X-Robots-Tag:noindex
X-PUBLISHED-TTL:PT1H
BEGIN:VTIMEZONE
TZID:America/Los_Angeles
BEGIN:DAYLIGHT
TZOFFSETFROM:-0800
TZOFFSETTO:-0700
TZNAME:PDT
DTSTART:20250309T100000
END:DAYLIGHT
BEGIN:STANDARD
TZOFFSETFROM:-0700
TZOFFSETTO:-0800
TZNAME:PST
DTSTART:20251102T090000
END:STANDARD
BEGIN:DAYLIGHT
TZOFFSETFROM:-0800
TZOFFSETTO:-0700
TZNAME:PDT
DTSTART:20260308T100000
END:DAYLIGHT
BEGIN:STANDARD
TZOFFSETFROM:-0700
TZOFFSETTO:-0800
TZNAME:PST
DTSTART:20261101T090000
END:STANDARD
BEGIN:DAYLIGHT
TZOFFSETFROM:-0800
TZOFFSETTO:-0700
TZNAME:PDT
DTSTART:20270314T100000
END:DAYLIGHT
BEGIN:STANDARD
TZOFFSETFROM:-0700
TZOFFSETTO:-0800
TZNAME:PST
DTSTART:20271107T090000
END:STANDARD
BEGIN:DAYLIGHT
TZOFFSETFROM:-0800
TZOFFSETTO:-0700
TZNAME:PDT
DTSTART:20280312T100000
END:DAYLIGHT
BEGIN:STANDARD
TZOFFSETFROM:-0700
TZOFFSETTO:-0800
TZNAME:PST
DTSTART:20281105T090000
END:STANDARD
END:VTIMEZONE
BEGIN:VTIMEZONE
TZID:UTC
BEGIN:STANDARD
TZOFFSETFROM:+0000
TZOFFSETTO:+0000
TZNAME:UTC
DTSTART:20250101T000000
END:STANDARD
END:VTIMEZONE
BEGIN:VTIMEZONE
TZID:America/Los_Angeles
BEGIN:DAYLIGHT
TZOFFSETFROM:-0800
TZOFFSETTO:-0700
TZNAME:PDT
DTSTART:20250309T100000
END:DAYLIGHT
BEGIN:STANDARD
TZOFFSETFROM:-0700
TZOFFSETTO:-0800
TZNAME:PST
DTSTART:20251102T090000
END:STANDARD
BEGIN:DAYLIGHT
TZOFFSETFROM:-0800
TZOFFSETTO:-0700
TZNAME:PDT
DTSTART:20260308T100000
END:DAYLIGHT
BEGIN:STANDARD
TZOFFSETFROM:-0700
TZOFFSETTO:-0800
TZNAME:PST
DTSTART:20261101T090000
END:STANDARD
BEGIN:DAYLIGHT
TZOFFSETFROM:-0800
TZOFFSETTO:-0700
TZNAME:PDT
DTSTART:20270314T100000
END:DAYLIGHT
BEGIN:STANDARD
TZOFFSETFROM:-0700
TZOFFSETTO:-0800
TZNAME:PST
DTSTART:20271107T090000
END:STANDARD
END:VTIMEZONE
BEGIN:VEVENT
DTSTART;TZID=America/Los_Angeles:20260312T120000
DTEND;TZID=America/Los_Angeles:20270321T150000
DTSTAMP:20260423T134139
CREATED:20260302T182253Z
LAST-MODIFIED:20260302T182407Z
UID:10007946-1773316800-1805641200@driveshops.com
SUMMARY:Master and Control The Front of Your Shop Accelerated Day 3 of 3
DESCRIPTION:
URL:https://driveshops.com/events/master-and-control-the-front-of-your-shop-accelerated-day-3-of-3/
LOCATION:Online
CATEGORIES:Master and Control the Front of Your Shop,Workshop
END:VEVENT
BEGIN:VEVENT
DTSTART;TZID=UTC:20260325T080000
DTEND;TZID=UTC:20260325T110000
DTSTAMP:20260423T134139
CREATED:20260227T142234Z
LAST-MODIFIED:20260227T142234Z
UID:10007768-1774425600-1774436400@driveshops.com
SUMMARY:Professional Service Advisor Sales Day 5 of 6
DESCRIPTION:
URL:https://driveshops.com/events/professional-service-advisor-sales-day-5-of-6-10/
LOCATION:Online
CATEGORIES:Professional Service Advisor Sales,Workshop
END:VEVENT
BEGIN:VEVENT
DTSTART;TZID=America/Los_Angeles:20260325T080000
DTEND;TZID=America/Los_Angeles:20260325T110000
DTSTAMP:20260423T134139
CREATED:20260227T153454Z
LAST-MODIFIED:20260227T153454Z
UID:10007835-1774425600-1774436400@driveshops.com
SUMMARY:Building Your Dream Team Day 5 of 5
DESCRIPTION:
URL:https://driveshops.com/events/building-your-dream-team-day-5-of-5-7/
LOCATION:Online
CATEGORIES:Building Your Dream Team
END:VEVENT
BEGIN:VEVENT
DTSTART;TZID=America/Los_Angeles:20260325T080000
DTEND;TZID=America/Los_Angeles:20260325T110000
DTSTAMP:20260423T134139
CREATED:20260227T161636Z
LAST-MODIFIED:20260227T161916Z
UID:10007881-1774425600-1774436400@driveshops.com
SUMMARY:Getting Your Point Across Day 2 of 5
DESCRIPTION:
URL:https://driveshops.com/events/getting-your-point-across-day-2-of-6-4/
LOCATION:Online
CATEGORIES:Getting Your Point Across,Workshop
ORGANIZER;CN="Tony Wisler":MAILTO:scheduling@driveshops.com
END:VEVENT
BEGIN:VEVENT
DTSTART;TZID=UTC:20260325T080000
DTEND;TZID=UTC:20260325T110000
DTSTAMP:20260423T134139
CREATED:20260227T175104Z
LAST-MODIFIED:20260227T175104Z
UID:10007893-1774425600-1774436400@driveshops.com
SUMMARY:How to Train Your Team Day 2 of 3
DESCRIPTION:
URL:https://driveshops.com/events/how-to-train-your-team-day-2-of-3-4/
CATEGORIES:How to Train Your Team,Workshop
ATTACH;FMTTYPE=image/png:https://driveshops.com/wp-content/uploads/2019/11/httyt_11.26.19-01.png
END:VEVENT
BEGIN:VEVENT
DTSTART;TZID=America/Los_Angeles:20260325T080000
DTEND;TZID=America/Los_Angeles:20260325T110000
DTSTAMP:20260423T134139
CREATED:20260302T191413Z
LAST-MODIFIED:20260302T191705Z
UID:10007962-1774425600-1774436400@driveshops.com
SUMMARY:Clase de Ventas para el Asesor de Servicio Dia 2 de 6
DESCRIPTION:
URL:https://driveshops.com/events/clase-de-ventas-para-el-asesor-de-servicio-dia-1-de-2/
CATEGORIES:Professional Service Advisor School
END:VEVENT
END:VCALENDAR