BEGIN:VCALENDAR
VERSION:2.0
PRODID:-//DRIVE - ECPv6.15.18//NONSGML v1.0//EN
CALSCALE:GREGORIAN
METHOD:PUBLISH
X-ORIGINAL-URL:https://driveshops.com
X-WR-CALDESC:Events for DRIVE
REFRESH-INTERVAL;VALUE=DURATION:PT1H
X-Robots-Tag:noindex
X-PUBLISHED-TTL:PT1H
BEGIN:VTIMEZONE
TZID:America/Los_Angeles
BEGIN:DAYLIGHT
TZOFFSETFROM:-0800
TZOFFSETTO:-0700
TZNAME:PDT
DTSTART:20250309T100000
END:DAYLIGHT
BEGIN:STANDARD
TZOFFSETFROM:-0700
TZOFFSETTO:-0800
TZNAME:PST
DTSTART:20251102T090000
END:STANDARD
BEGIN:DAYLIGHT
TZOFFSETFROM:-0800
TZOFFSETTO:-0700
TZNAME:PDT
DTSTART:20260308T100000
END:DAYLIGHT
BEGIN:STANDARD
TZOFFSETFROM:-0700
TZOFFSETTO:-0800
TZNAME:PST
DTSTART:20261101T090000
END:STANDARD
BEGIN:DAYLIGHT
TZOFFSETFROM:-0800
TZOFFSETTO:-0700
TZNAME:PDT
DTSTART:20270314T100000
END:DAYLIGHT
BEGIN:STANDARD
TZOFFSETFROM:-0700
TZOFFSETTO:-0800
TZNAME:PST
DTSTART:20271107T090000
END:STANDARD
BEGIN:DAYLIGHT
TZOFFSETFROM:-0800
TZOFFSETTO:-0700
TZNAME:PDT
DTSTART:20280312T100000
END:DAYLIGHT
BEGIN:STANDARD
TZOFFSETFROM:-0700
TZOFFSETTO:-0800
TZNAME:PST
DTSTART:20281105T090000
END:STANDARD
END:VTIMEZONE
BEGIN:VTIMEZONE
TZID:America/Denver
BEGIN:DAYLIGHT
TZOFFSETFROM:-0700
TZOFFSETTO:-0600
TZNAME:MDT
DTSTART:20250309T090000
END:DAYLIGHT
BEGIN:STANDARD
TZOFFSETFROM:-0600
TZOFFSETTO:-0700
TZNAME:MST
DTSTART:20251102T080000
END:STANDARD
BEGIN:DAYLIGHT
TZOFFSETFROM:-0700
TZOFFSETTO:-0600
TZNAME:MDT
DTSTART:20260308T090000
END:DAYLIGHT
BEGIN:STANDARD
TZOFFSETFROM:-0600
TZOFFSETTO:-0700
TZNAME:MST
DTSTART:20261101T080000
END:STANDARD
BEGIN:DAYLIGHT
TZOFFSETFROM:-0700
TZOFFSETTO:-0600
TZNAME:MDT
DTSTART:20270314T090000
END:DAYLIGHT
BEGIN:STANDARD
TZOFFSETFROM:-0600
TZOFFSETTO:-0700
TZNAME:MST
DTSTART:20271107T080000
END:STANDARD
END:VTIMEZONE
BEGIN:VEVENT
DTSTART;TZID=America/Los_Angeles:20260312T120000
DTEND;TZID=America/Los_Angeles:20270321T150000
DTSTAMP:20260423T172814
CREATED:20260302T182253Z
LAST-MODIFIED:20260302T182407Z
UID:10007946-1773316800-1805641200@driveshops.com
SUMMARY:Master and Control The Front of Your Shop Accelerated Day 3 of 3
DESCRIPTION:
URL:https://driveshops.com/events/master-and-control-the-front-of-your-shop-accelerated-day-3-of-3/
LOCATION:Online
CATEGORIES:Master and Control the Front of Your Shop,Workshop
END:VEVENT
BEGIN:VEVENT
DTSTART;TZID=America/Los_Angeles:20260811T080000
DTEND;TZID=America/Los_Angeles:20260811T110000
DTSTAMP:20260423T172814
CREATED:20260227T150137Z
LAST-MODIFIED:20260227T150137Z
UID:10007804-1786435200-1786446000@driveshops.com
SUMMARY:Master and Control The Front of Your Shop Day 1 of 5
DESCRIPTION:
URL:https://driveshops.com/events/master-and-control-the-front-of-your-shop-day-1-of-5-3/
LOCATION:Online
CATEGORIES:Master and Control the Front of Your Shop,Workshop
END:VEVENT
BEGIN:VEVENT
DTSTART;TZID=America/Denver:20260811T080000
DTEND;TZID=America/Denver:20260811T110000
DTSTAMP:20260423T172814
CREATED:20260227T160130Z
LAST-MODIFIED:20260227T160130Z
UID:10007862-1786435200-1786446000@driveshops.com
SUMMARY:Managing Shop Finances Day 1 of 6
DESCRIPTION:
URL:https://driveshops.com/events/managing-shop-finances-day-1-of-6-5/
LOCATION:Online
CATEGORIES:Mastering Shop Finances,Workshop
END:VEVENT
BEGIN:VEVENT
DTSTART;TZID=America/Los_Angeles:20260812T080000
DTEND;TZID=America/Los_Angeles:20260812T110000
DTSTAMP:20260423T172814
CREATED:20260227T150144Z
LAST-MODIFIED:20260227T150144Z
UID:10007805-1786521600-1786532400@driveshops.com
SUMMARY:Master and Control The Front of Your Shop Day 2 of 5
DESCRIPTION:
URL:https://driveshops.com/events/master-and-control-the-front-of-your-shop-day-2-of-5-3/
LOCATION:Online
CATEGORIES:Master and Control the Front of Your Shop,Workshop
END:VEVENT
BEGIN:VEVENT
DTSTART;TZID=America/Denver:20260812T080000
DTEND;TZID=America/Denver:20260812T110000
DTSTAMP:20260423T172814
CREATED:20260227T160140Z
LAST-MODIFIED:20260227T160140Z
UID:10007863-1786521600-1786532400@driveshops.com
SUMMARY:Managing Shop Finances Day 2 of 6
DESCRIPTION:
URL:https://driveshops.com/events/managing-shop-finances-day-2-of-6-5/
LOCATION:Online
CATEGORIES:Mastering Shop Finances,Workshop
END:VEVENT
BEGIN:VEVENT
DTSTART;TZID=America/Los_Angeles:20260813T080000
DTEND;TZID=America/Los_Angeles:20260813T110000
DTSTAMP:20260423T172814
CREATED:20260227T150152Z
LAST-MODIFIED:20260227T150152Z
UID:10007806-1786608000-1786618800@driveshops.com
SUMMARY:Master and Control The Front of Your Shop Day 3 of 5
DESCRIPTION:
URL:https://driveshops.com/events/master-and-control-the-front-of-your-shop-day-3-of-5-3/
LOCATION:Online
CATEGORIES:Master and Control the Front of Your Shop,Workshop
END:VEVENT
BEGIN:VEVENT
DTSTART;TZID=America/Denver:20260813T080000
DTEND;TZID=America/Denver:20260813T110000
DTSTAMP:20260423T172814
CREATED:20260227T160150Z
LAST-MODIFIED:20260227T160150Z
UID:10007864-1786608000-1786618800@driveshops.com
SUMMARY:Managing Shop Finances Day 3 of 6
DESCRIPTION:
URL:https://driveshops.com/events/managing-shop-finances-day-3-of-6-5/
LOCATION:Online
CATEGORIES:Mastering Shop Finances,Workshop
END:VEVENT
BEGIN:VEVENT
DTSTART;TZID=America/Los_Angeles:20260818T080000
DTEND;TZID=America/Los_Angeles:20260818T110000
DTSTAMP:20260423T172814
CREATED:20260226T163037Z
LAST-MODIFIED:20260226T163037Z
UID:10007735-1787040000-1787050800@driveshops.com
SUMMARY:Essentials of Shop Management  Day 1 of 6
DESCRIPTION:
URL:https://driveshops.com/events/essentials-of-shop-management-day-1-of-6-20/
LOCATION:Online
CATEGORIES:Essentials of Shop Management,Workshop
ATTACH;FMTTYPE=image/png:https://driveshops.com/wp-content/uploads/2019/04/screen-shot-2019-05-21-at-10.17.01-am-e1558471790866.png
END:VEVENT
BEGIN:VEVENT
DTSTART;TZID=America/Los_Angeles:20260818T080000
DTEND;TZID=America/Los_Angeles:20260818T110000
DTSTAMP:20260423T172814
CREATED:20260227T150202Z
LAST-MODIFIED:20260227T150202Z
UID:10007807-1787040000-1787050800@driveshops.com
SUMMARY:Master and Control The Front of Your Shop Day 4 of 5
DESCRIPTION:
URL:https://driveshops.com/events/master-and-control-the-front-of-your-shop-day-4-of-5-3/
LOCATION:Online
CATEGORIES:Master and Control the Front of Your Shop,Workshop
END:VEVENT
BEGIN:VEVENT
DTSTART;TZID=America/Los_Angeles:20260818T080000
DTEND;TZID=America/Los_Angeles:20260818T110000
DTSTAMP:20260423T172814
CREATED:20260227T152802Z
LAST-MODIFIED:20260227T152802Z
UID:10007825-1787040000-1787050800@driveshops.com
SUMMARY:How to Increase Your Profits Day 1 of 3
DESCRIPTION:
URL:https://driveshops.com/events/how-to-increase-your-profits-day-1-of-3-3/
LOCATION:Online
CATEGORIES:How To Increase Your Profits,Workshop
END:VEVENT
BEGIN:VEVENT
DTSTART;TZID=America/Denver:20260818T080000
DTEND;TZID=America/Denver:20260818T110000
DTSTAMP:20260423T172814
CREATED:20260227T160200Z
LAST-MODIFIED:20260227T160200Z
UID:10007865-1787040000-1787050800@driveshops.com
SUMMARY:Managing Shop Finances Day 4 of 6
DESCRIPTION:
URL:https://driveshops.com/events/managing-shop-finances-day-4-of-6-5/
LOCATION:Online
CATEGORIES:Mastering Shop Finances,Workshop
END:VEVENT
BEGIN:VEVENT
DTSTART;TZID=America/Denver:20260818T080000
DTEND;TZID=America/Denver:20260818T110000
DTSTAMP:20260423T172814
CREATED:20260227T180340Z
LAST-MODIFIED:20260227T180340Z
UID:10007916-1787040000-1787050800@driveshops.com
SUMMARY:Managing Change Day 1 of 5
DESCRIPTION:Understand the basic principles of successful change.\nUnderstand how to make changes that result in a more profitable and successful business.\nPractice the procedure of making changes until it is mastered.
URL:https://driveshops.com/events/managing-change-day-1-of-5-7/
LOCATION:Online
CATEGORIES:Managing Change,Workshop
END:VEVENT
BEGIN:VEVENT
DTSTART;TZID=America/Los_Angeles:20260819T080000
DTEND;TZID=America/Los_Angeles:20260819T110000
DTSTAMP:20260423T172814
CREATED:20260226T163046Z
LAST-MODIFIED:20260226T163046Z
UID:10007736-1787126400-1787137200@driveshops.com
SUMMARY:Essentials of Shop Management  Day 2 of 6
DESCRIPTION:
URL:https://driveshops.com/events/essentials-of-shop-management-day-2-of-6-17/
LOCATION:Online
CATEGORIES:Essentials of Shop Management,Workshop
ATTACH;FMTTYPE=image/png:https://driveshops.com/wp-content/uploads/2019/04/screen-shot-2019-05-21-at-10.17.01-am-e1558471790866.png
END:VEVENT
BEGIN:VEVENT
DTSTART;TZID=America/Los_Angeles:20260819T080000
DTEND;TZID=America/Los_Angeles:20260819T110000
DTSTAMP:20260423T172814
CREATED:20260227T150212Z
LAST-MODIFIED:20260227T150212Z
UID:10007808-1787126400-1787137200@driveshops.com
SUMMARY:Master and Control The Front of Your Shop Day 5 of 5
DESCRIPTION:
URL:https://driveshops.com/events/master-and-control-the-front-of-your-shop-day-5-of-5-3/
LOCATION:Online
CATEGORIES:Master and Control the Front of Your Shop,Workshop
END:VEVENT
BEGIN:VEVENT
DTSTART;TZID=America/Los_Angeles:20260819T080000
DTEND;TZID=America/Los_Angeles:20260819T110000
DTSTAMP:20260423T172814
CREATED:20260227T152812Z
LAST-MODIFIED:20260227T152812Z
UID:10007826-1787126400-1787137200@driveshops.com
SUMMARY:How to Increase Your Profits Day 2 of 3
DESCRIPTION:
URL:https://driveshops.com/events/how-to-increase-your-profits-day-2-of-3-3/
LOCATION:Online
CATEGORIES:How To Increase Your Profits,Workshop
ATTACH;FMTTYPE=image/png:https://driveshops.com/wp-content/uploads/2019/04/screen-shot-2019-05-21-at-10.25.56-am-e1558471321731.png
END:VEVENT
BEGIN:VEVENT
DTSTART;TZID=America/Denver:20260819T080000
DTEND;TZID=America/Denver:20260819T110000
DTSTAMP:20260423T172814
CREATED:20260227T160208Z
LAST-MODIFIED:20260227T160208Z
UID:10007866-1787126400-1787137200@driveshops.com
SUMMARY:Managing Shop Finances Day 5 of 6
DESCRIPTION:
URL:https://driveshops.com/events/managing-shop-finances-day-5-of-6-5/
LOCATION:Online
CATEGORIES:Mastering Shop Finances,Workshop
END:VEVENT
BEGIN:VEVENT
DTSTART;TZID=America/Denver:20260819T080000
DTEND;TZID=America/Denver:20260819T110000
DTSTAMP:20260423T172814
CREATED:20260227T180348Z
LAST-MODIFIED:20260227T180348Z
UID:10007917-1787126400-1787137200@driveshops.com
SUMMARY:Managing Change Day 2 of 5
DESCRIPTION:Understand the basic principles of successful change.\nUnderstand how to make changes that result in a more profitable and successful business.\nPractice the procedure of making changes until it is mastered.
URL:https://driveshops.com/events/managing-change-day-2-of-5-7/
LOCATION:Online
CATEGORIES:Managing Change,Workshop
END:VEVENT
BEGIN:VEVENT
DTSTART;TZID=America/Los_Angeles:20260820T080000
DTEND;TZID=America/Los_Angeles:20260820T110000
DTSTAMP:20260423T172814
CREATED:20260226T163057Z
LAST-MODIFIED:20260226T163057Z
UID:10007737-1787212800-1787223600@driveshops.com
SUMMARY:Essentials of Shop Management  Day 3 of 6
DESCRIPTION:
URL:https://driveshops.com/events/essentials-of-shop-management-day-3-of-6-18/
LOCATION:Online
CATEGORIES:Essentials of Shop Management,Workshop
ATTACH;FMTTYPE=image/png:https://driveshops.com/wp-content/uploads/2019/04/screen-shot-2019-05-21-at-10.17.01-am-e1558471790866.png
END:VEVENT
BEGIN:VEVENT
DTSTART;TZID=America/Los_Angeles:20260820T080000
DTEND;TZID=America/Los_Angeles:20260820T110000
DTSTAMP:20260423T172814
CREATED:20260227T152821Z
LAST-MODIFIED:20260227T152821Z
UID:10007827-1787212800-1787223600@driveshops.com
SUMMARY:How to Increase Your Profits Day 3 of 3
DESCRIPTION:
URL:https://driveshops.com/events/how-to-increase-your-profits-day-3-of-3-3/
LOCATION:Online
CATEGORIES:How To Increase Your Profits,Workshop
END:VEVENT
BEGIN:VEVENT
DTSTART;TZID=America/Denver:20260820T080000
DTEND;TZID=America/Denver:20260820T110000
DTSTAMP:20260423T172814
CREATED:20260227T160221Z
LAST-MODIFIED:20260227T160221Z
UID:10007867-1787212800-1787223600@driveshops.com
SUMMARY:Managing Shop Finances Day 6 of 6
DESCRIPTION:
URL:https://driveshops.com/events/managing-shop-finances-day-6-of-6-5/
LOCATION:Online
CATEGORIES:Mastering Shop Finances,Workshop
END:VEVENT
BEGIN:VEVENT
DTSTART;TZID=America/Denver:20260820T080000
DTEND;TZID=America/Denver:20260820T110000
DTSTAMP:20260423T172814
CREATED:20260227T180358Z
LAST-MODIFIED:20260227T180358Z
UID:10007918-1787212800-1787223600@driveshops.com
SUMMARY:Managing Change Day 3 of 5
DESCRIPTION:Understand the basic principles of successful change.\nUnderstand how to make changes that result in a more profitable and successful business.\nPractice the procedure of making changes until it is mastered.
URL:https://driveshops.com/events/managing-change-day-3-of-5-7/
LOCATION:Online
CATEGORIES:Managing Change,Workshop
END:VEVENT
BEGIN:VEVENT
DTSTART;TZID=America/Los_Angeles:20260825T080000
DTEND;TZID=America/Los_Angeles:20260825T110000
DTSTAMP:20260423T172814
CREATED:20260226T163111Z
LAST-MODIFIED:20260226T163111Z
UID:10007738-1787644800-1787655600@driveshops.com
SUMMARY:Essentials of Shop Management  Day 4 of 6
DESCRIPTION:
URL:https://driveshops.com/events/essentials-of-shop-management-day-4-of-6-18/
LOCATION:Online
CATEGORIES:Essentials of Shop Management,Workshop
ATTACH;FMTTYPE=image/png:https://driveshops.com/wp-content/uploads/2019/04/screen-shot-2019-05-21-at-10.17.01-am-e1558471790866.png
END:VEVENT
BEGIN:VEVENT
DTSTART;TZID=America/Denver:20260825T080000
DTEND;TZID=America/Denver:20260825T110000
DTSTAMP:20260423T172814
CREATED:20260227T180407Z
LAST-MODIFIED:20260227T180407Z
UID:10007919-1787644800-1787655600@driveshops.com
SUMMARY:Managing Change Day 4 of 5
DESCRIPTION:Understand the basic principles of successful change.\nUnderstand how to make changes that result in a more profitable and successful business.\nPractice the procedure of making changes until it is mastered.
URL:https://driveshops.com/events/managing-change-day-4-of-5-7/
LOCATION:Online
CATEGORIES:Managing Change,Workshop
ATTACH;FMTTYPE=image/png:https://driveshops.com/wp-content/uploads/2019/04/screen-shot-2019-05-21-at-10.47.53-am-e1558471201812.png
END:VEVENT
BEGIN:VEVENT
DTSTART;TZID=America/Los_Angeles:20260826T080000
DTEND;TZID=America/Los_Angeles:20260826T110000
DTSTAMP:20260423T172814
CREATED:20260226T163124Z
LAST-MODIFIED:20260226T163124Z
UID:10007739-1787731200-1787742000@driveshops.com
SUMMARY:Essentials of Shop Management  Day 5 of 6
DESCRIPTION:
URL:https://driveshops.com/events/essentials-of-shop-management-day-5-of-6-19/
LOCATION:Online
CATEGORIES:Essentials of Shop Management,Workshop
ATTACH;FMTTYPE=image/png:https://driveshops.com/wp-content/uploads/2019/04/screen-shot-2019-05-21-at-10.17.01-am-e1558471790866.png
END:VEVENT
BEGIN:VEVENT
DTSTART;TZID=America/Denver:20260826T080000
DTEND;TZID=America/Denver:20260826T110000
DTSTAMP:20260423T172814
CREATED:20260227T180416Z
LAST-MODIFIED:20260227T180416Z
UID:10007920-1787731200-1787742000@driveshops.com
SUMMARY:Managing Change Day 5 of 5
DESCRIPTION:Understand the basic principles of successful change.\nUnderstand how to make changes that result in a more profitable and successful business.\nPractice the procedure of making changes until it is mastered.
URL:https://driveshops.com/events/managing-change-day-5-of-5-7/
LOCATION:Online
CATEGORIES:Managing Change,Workshop
END:VEVENT
BEGIN:VEVENT
DTSTART;TZID=America/Los_Angeles:20260827T080000
DTEND;TZID=America/Los_Angeles:20260827T110000
DTSTAMP:20260423T172814
CREATED:20260226T163135Z
LAST-MODIFIED:20260226T163135Z
UID:10007740-1787817600-1787828400@driveshops.com
SUMMARY:Essentials of Shop Management  Day 6 of 6
DESCRIPTION:
URL:https://driveshops.com/events/essentials-of-shop-management-day-6-of-6-17/
LOCATION:Online
CATEGORIES:Essentials of Shop Management,Workshop
ATTACH;FMTTYPE=image/png:https://driveshops.com/wp-content/uploads/2019/04/screen-shot-2019-05-21-at-10.17.01-am-e1558471790866.png
END:VEVENT
END:VCALENDAR