BEGIN:VCALENDAR
VERSION:2.0
PRODID:-//DRIVE - ECPv6.15.18//NONSGML v1.0//EN
CALSCALE:GREGORIAN
METHOD:PUBLISH
X-WR-CALNAME:DRIVE
X-ORIGINAL-URL:https://driveshops.com
X-WR-CALDESC:Events for DRIVE
REFRESH-INTERVAL;VALUE=DURATION:PT1H
X-Robots-Tag:noindex
X-PUBLISHED-TTL:PT1H
BEGIN:VTIMEZONE
TZID:America/Los_Angeles
BEGIN:DAYLIGHT
TZOFFSETFROM:-0800
TZOFFSETTO:-0700
TZNAME:PDT
DTSTART:20250309T100000
END:DAYLIGHT
BEGIN:STANDARD
TZOFFSETFROM:-0700
TZOFFSETTO:-0800
TZNAME:PST
DTSTART:20251102T090000
END:STANDARD
BEGIN:DAYLIGHT
TZOFFSETFROM:-0800
TZOFFSETTO:-0700
TZNAME:PDT
DTSTART:20260308T100000
END:DAYLIGHT
BEGIN:STANDARD
TZOFFSETFROM:-0700
TZOFFSETTO:-0800
TZNAME:PST
DTSTART:20261101T090000
END:STANDARD
BEGIN:DAYLIGHT
TZOFFSETFROM:-0800
TZOFFSETTO:-0700
TZNAME:PDT
DTSTART:20270314T100000
END:DAYLIGHT
BEGIN:STANDARD
TZOFFSETFROM:-0700
TZOFFSETTO:-0800
TZNAME:PST
DTSTART:20271107T090000
END:STANDARD
BEGIN:DAYLIGHT
TZOFFSETFROM:-0800
TZOFFSETTO:-0700
TZNAME:PDT
DTSTART:20280312T100000
END:DAYLIGHT
BEGIN:STANDARD
TZOFFSETFROM:-0700
TZOFFSETTO:-0800
TZNAME:PST
DTSTART:20281105T090000
END:STANDARD
END:VTIMEZONE
BEGIN:VTIMEZONE
TZID:UTC
BEGIN:STANDARD
TZOFFSETFROM:+0000
TZOFFSETTO:+0000
TZNAME:UTC
DTSTART:20250101T000000
END:STANDARD
END:VTIMEZONE
BEGIN:VEVENT
DTSTART;TZID=America/Los_Angeles:20260312T120000
DTEND;TZID=America/Los_Angeles:20270321T150000
DTSTAMP:20260423T184049
CREATED:20260302T182253Z
LAST-MODIFIED:20260302T182407Z
UID:10007946-1773316800-1805641200@driveshops.com
SUMMARY:Master and Control The Front of Your Shop Accelerated Day 3 of 3
DESCRIPTION:
URL:https://driveshops.com/events/master-and-control-the-front-of-your-shop-accelerated-day-3-of-3/
LOCATION:Online
CATEGORIES:Master and Control the Front of Your Shop,Workshop
END:VEVENT
BEGIN:VEVENT
DTSTART;TZID=America/Los_Angeles:20260915T080000
DTEND;TZID=America/Los_Angeles:20260915T110000
DTSTAMP:20260423T184049
CREATED:20260224T201400Z
LAST-MODIFIED:20260226T163244Z
UID:10007711-1789459200-1789470000@driveshops.com
SUMMARY:How to Master Training Workshop Day 1 of 3
DESCRIPTION:
URL:https://driveshops.com/events/how-to-master-training-workshop-day-1-of-3-5/
LOCATION:Online
CATEGORIES:How to Master Training,Workshop
ORGANIZER;CN="Tony Wisler":MAILTO:scheduling@driveshops.com
END:VEVENT
BEGIN:VEVENT
DTSTART;TZID=America/Los_Angeles:20260915T080000
DTEND;TZID=America/Los_Angeles:20260915T110000
DTSTAMP:20260423T184049
CREATED:20260227T142838Z
LAST-MODIFIED:20260227T142838Z
UID:10007782-1789459200-1789470000@driveshops.com
SUMMARY:Professional Service Advisor Sales Day 1 of 6
DESCRIPTION:
URL:https://driveshops.com/events/professional-service-advisor-sales-day-1-of-6-13/
LOCATION:Online
CATEGORIES:Professional Service Advisor Sales,Workshop
END:VEVENT
BEGIN:VEVENT
DTSTART;TZID=America/Los_Angeles:20260915T080000
DTEND;TZID=America/Los_Angeles:20260915T110000
DTSTAMP:20260423T184049
CREATED:20260227T160828Z
LAST-MODIFIED:20260227T160828Z
UID:10007878-1789459200-1789470000@driveshops.com
SUMMARY:Expanding Your Auto Repair Shop Day 1 of 2
DESCRIPTION:
URL:https://driveshops.com/events/expanding-your-auto-repair-shop-day-1-of-2-5/
LOCATION:Online
CATEGORIES:Expanding Your Auto Shop
END:VEVENT
BEGIN:VEVENT
DTSTART;TZID=America/Los_Angeles:20260915T080000
DTEND;TZID=America/Los_Angeles:20260915T110000
DTSTAMP:20260423T184049
CREATED:20260227T195035Z
LAST-MODIFIED:20260227T195035Z
UID:10007938-1789459200-1789470000@driveshops.com
SUMMARY:Managing an Effective Bookkeeping Area Day 1 of 6
DESCRIPTION:
URL:https://driveshops.com/events/managing-an-effective-bookkeeping-area-day-1-of-6-3/
LOCATION:Online
CATEGORIES:Managing an Effective Bookkeeping Area,Workshop
END:VEVENT
BEGIN:VEVENT
DTSTART;TZID=America/Los_Angeles:20260916T080000
DTEND;TZID=America/Los_Angeles:20260916T110000
DTSTAMP:20260423T184049
CREATED:20260224T201432Z
LAST-MODIFIED:20260224T201432Z
UID:10007712-1789545600-1789556400@driveshops.com
SUMMARY:How to Master Training Workshop Day 2 of 3
DESCRIPTION:
URL:https://driveshops.com/events/how-to-master-training-workshop-day-2-of-3-5/
LOCATION:Online
CATEGORIES:How to Master Training,Workshop
ORGANIZER;CN="Tony Wisler":MAILTO:scheduling@driveshops.com
END:VEVENT
BEGIN:VEVENT
DTSTART;TZID=America/Los_Angeles:20260916T080000
DTEND;TZID=America/Los_Angeles:20260916T110000
DTSTAMP:20260423T184049
CREATED:20260227T142919Z
LAST-MODIFIED:20260227T142919Z
UID:10007783-1789545600-1789556400@driveshops.com
SUMMARY:Professional Service Advisor Sales Day 2 of 6
DESCRIPTION:
URL:https://driveshops.com/events/professional-service-advisor-sales-day-2-of-6-13/
LOCATION:Online
CATEGORIES:Professional Service Advisor Sales,Workshop
END:VEVENT
BEGIN:VEVENT
DTSTART;TZID=America/Los_Angeles:20260916T080000
DTEND;TZID=America/Los_Angeles:20260916T110000
DTSTAMP:20260423T184049
CREATED:20260227T195045Z
LAST-MODIFIED:20260227T195045Z
UID:10007939-1789545600-1789556400@driveshops.com
SUMMARY:Managing an Effective Bookkeeping Area  Day 2 of 6
DESCRIPTION:
URL:https://driveshops.com/events/managing-an-effective-bookkeeping-area-day-2-of-6-6/
LOCATION:Online
CATEGORIES:Managing an Effective Bookkeeping Area,Workshop
END:VEVENT
BEGIN:VEVENT
DTSTART;TZID=America/Los_Angeles:20260917T080000
DTEND;TZID=America/Los_Angeles:20260917T110000
DTSTAMP:20260423T184049
CREATED:20260224T201446Z
LAST-MODIFIED:20260224T201446Z
UID:10007713-1789632000-1789642800@driveshops.com
SUMMARY:How to Master Training Workshop Day 3 of 3
DESCRIPTION:
URL:https://driveshops.com/events/how-to-master-training-workshop-day-3-of-3-5/
LOCATION:Online
CATEGORIES:How to Master Training,Workshop
ORGANIZER;CN="Tony Wisler":MAILTO:scheduling@driveshops.com
END:VEVENT
BEGIN:VEVENT
DTSTART;TZID=America/Los_Angeles:20260917T080000
DTEND;TZID=America/Los_Angeles:20260917T110000
DTSTAMP:20260423T184049
CREATED:20260227T142928Z
LAST-MODIFIED:20260227T142928Z
UID:10007784-1789632000-1789642800@driveshops.com
SUMMARY:Professional Service Advisor Sales Day 3 of 6
DESCRIPTION:
URL:https://driveshops.com/events/professional-service-advisor-sales-day-3-of-6-13/
LOCATION:Online
CATEGORIES:Professional Service Advisor Sales,Workshop
ATTACH;FMTTYPE=image/png:https://driveshops.com/wp-content/uploads/2019/04/screen-shot-2019-05-21-at-10.14.39-am-e1558470540769.png
END:VEVENT
BEGIN:VEVENT
DTSTART;TZID=America/Los_Angeles:20260917T080000
DTEND;TZID=America/Los_Angeles:20260917T110000
DTSTAMP:20260423T184049
CREATED:20260227T160839Z
LAST-MODIFIED:20260227T160839Z
UID:10007879-1789632000-1789642800@driveshops.com
SUMMARY:Expanding Your Auto Repair Shop Day 2 of 2
DESCRIPTION:
URL:https://driveshops.com/events/expanding-your-auto-repair-shop-day-2-of-2-5/
LOCATION:Online
CATEGORIES:Expanding Your Auto Shop
END:VEVENT
BEGIN:VEVENT
DTSTART;TZID=America/Los_Angeles:20260917T080000
DTEND;TZID=America/Los_Angeles:20260917T110000
DTSTAMP:20260423T184049
CREATED:20260227T195057Z
LAST-MODIFIED:20260227T195057Z
UID:10007940-1789632000-1789642800@driveshops.com
SUMMARY:Managing an Effective Bookkeeping Area Day 3 of 6
DESCRIPTION:
URL:https://driveshops.com/events/managing-an-effective-bookkeeping-area-day-3-of-6-6/
LOCATION:Online
CATEGORIES:Managing an Effective Bookkeeping Area,Workshop
END:VEVENT
BEGIN:VEVENT
DTSTART;TZID=UTC:20260922T080000
DTEND;TZID=UTC:20260922T110000
DTSTAMP:20260423T184049
CREATED:20260227T142958Z
LAST-MODIFIED:20260227T142958Z
UID:10007785-1790064000-1790074800@driveshops.com
SUMMARY:Professional Service Advisor Sales Day 4 of 6
DESCRIPTION:
URL:https://driveshops.com/events/professional-service-advisor-sales-day-4-of-6-13/
LOCATION:Online
CATEGORIES:Professional Service Advisor Sales,Workshop
END:VEVENT
BEGIN:VEVENT
DTSTART;TZID=America/Los_Angeles:20260922T080000
DTEND;TZID=America/Los_Angeles:20260922T110000
DTSTAMP:20260423T184049
CREATED:20260227T180809Z
LAST-MODIFIED:20260227T180809Z
UID:10007929-1790064000-1790074800@driveshops.com
SUMMARY:Crafting Business Plans That Win Investors and Secure Loans Day 1 of 3
DESCRIPTION:
URL:https://driveshops.com/events/crafting-business-plans-that-win-investors-and-secure-loans-day-1-of-3-3/
LOCATION:Online
CATEGORIES:Crafting Business Plans That Win Investors and Secure Loans,How To Increase Your Profits,Workshop
END:VEVENT
BEGIN:VEVENT
DTSTART;TZID=America/Los_Angeles:20260922T080000
DTEND;TZID=America/Los_Angeles:20260922T110000
DTSTAMP:20260423T184049
CREATED:20260227T195115Z
LAST-MODIFIED:20260227T195115Z
UID:10007941-1790064000-1790074800@driveshops.com
SUMMARY:Managing an Effective Bookkeeping Area Day 4 of 6
DESCRIPTION:
URL:https://driveshops.com/events/managing-an-effective-bookkeeping-area-day-4-of-6-6/
LOCATION:Online
CATEGORIES:Managing an Effective Bookkeeping Area,Workshop
END:VEVENT
BEGIN:VEVENT
DTSTART;TZID=UTC:20260923T080000
DTEND;TZID=UTC:20260923T110000
DTSTAMP:20260423T184049
CREATED:20260227T143008Z
LAST-MODIFIED:20260227T143008Z
UID:10007786-1790150400-1790161200@driveshops.com
SUMMARY:Professional Service Advisor Sales Day 5 of 6
DESCRIPTION:
URL:https://driveshops.com/events/professional-service-advisor-sales-day-5-of-6-13/
LOCATION:Online
CATEGORIES:Professional Service Advisor Sales,Workshop
END:VEVENT
BEGIN:VEVENT
DTSTART;TZID=America/Los_Angeles:20260923T080000
DTEND;TZID=America/Los_Angeles:20260923T110000
DTSTAMP:20260423T184049
CREATED:20260227T180820Z
LAST-MODIFIED:20260227T180820Z
UID:10007930-1790150400-1790161200@driveshops.com
SUMMARY:Crafting Business Plans That Win Investors and Secure Loans Day 3 of 3
DESCRIPTION:
URL:https://driveshops.com/events/crafting-business-plans-that-win-investors-and-secure-loans-day-3-of-3-4/
LOCATION:Online
CATEGORIES:Crafting Business Plans That Win Investors and Secure Loans,Workshop
END:VEVENT
BEGIN:VEVENT
DTSTART;TZID=America/Los_Angeles:20260923T080000
DTEND;TZID=America/Los_Angeles:20260923T110000
DTSTAMP:20260423T184049
CREATED:20260227T195127Z
LAST-MODIFIED:20260227T195127Z
UID:10007942-1790150400-1790161200@driveshops.com
SUMMARY:Managing an Effective Bookkeeping Area Day 5 of 6
DESCRIPTION:
URL:https://driveshops.com/events/managing-an-effective-bookkeeping-area-day-5-of-6-6/
CATEGORIES:Managing an Effective Bookkeeping Area,Workshop
END:VEVENT
BEGIN:VEVENT
DTSTART;TZID=UTC:20260924T080000
DTEND;TZID=UTC:20260924T110000
DTSTAMP:20260423T184049
CREATED:20260227T143020Z
LAST-MODIFIED:20260227T143020Z
UID:10007787-1790236800-1790247600@driveshops.com
SUMMARY:Professional Service Advisor Sales Day 6 of 6
DESCRIPTION:
URL:https://driveshops.com/events/professional-service-advisor-sales-day-6-of-6-13/
LOCATION:Online
CATEGORIES:Professional Service Advisor Sales,Workshop
END:VEVENT
BEGIN:VEVENT
DTSTART;TZID=America/Los_Angeles:20260924T080000
DTEND;TZID=America/Los_Angeles:20260924T110000
DTSTAMP:20260423T184049
CREATED:20260227T180829Z
LAST-MODIFIED:20260227T180829Z
UID:10007931-1790236800-1790247600@driveshops.com
SUMMARY:Crafting Business Plans That Win Investors and Secure Loans Day 2 of 3
DESCRIPTION:
URL:https://driveshops.com/events/crafting-business-plans-that-win-investors-and-secure-loans-day-2-of-3-3/
LOCATION:Online
CATEGORIES:Crafting Business Plans That Win Investors and Secure Loans,Workshop
END:VEVENT
BEGIN:VEVENT
DTSTART;TZID=America/Los_Angeles:20260924T080000
DTEND;TZID=America/Los_Angeles:20260924T110000
DTSTAMP:20260423T184049
CREATED:20260227T195137Z
LAST-MODIFIED:20260227T195137Z
UID:10007943-1790236800-1790247600@driveshops.com
SUMMARY:Managing an Effective Bookkeeping Area Day 6 of 6
DESCRIPTION:
URL:https://driveshops.com/events/managing-an-effective-bookkeeping-area-day-6-of-6-6/
LOCATION:Online
CATEGORIES:Managing an Effective Bookkeeping Area,Workshop
END:VEVENT
END:VCALENDAR