BEGIN:VCALENDAR
VERSION:2.0
PRODID:-//DRIVE - ECPv6.15.18//NONSGML v1.0//EN
CALSCALE:GREGORIAN
METHOD:PUBLISH
X-ORIGINAL-URL:https://driveshops.com
X-WR-CALDESC:Events for DRIVE
REFRESH-INTERVAL;VALUE=DURATION:PT1H
X-Robots-Tag:noindex
X-PUBLISHED-TTL:PT1H
BEGIN:VTIMEZONE
TZID:America/Los_Angeles
BEGIN:DAYLIGHT
TZOFFSETFROM:-0800
TZOFFSETTO:-0700
TZNAME:PDT
DTSTART:20250309T100000
END:DAYLIGHT
BEGIN:STANDARD
TZOFFSETFROM:-0700
TZOFFSETTO:-0800
TZNAME:PST
DTSTART:20251102T090000
END:STANDARD
BEGIN:DAYLIGHT
TZOFFSETFROM:-0800
TZOFFSETTO:-0700
TZNAME:PDT
DTSTART:20260308T100000
END:DAYLIGHT
BEGIN:STANDARD
TZOFFSETFROM:-0700
TZOFFSETTO:-0800
TZNAME:PST
DTSTART:20261101T090000
END:STANDARD
BEGIN:DAYLIGHT
TZOFFSETFROM:-0800
TZOFFSETTO:-0700
TZNAME:PDT
DTSTART:20270314T100000
END:DAYLIGHT
BEGIN:STANDARD
TZOFFSETFROM:-0700
TZOFFSETTO:-0800
TZNAME:PST
DTSTART:20271107T090000
END:STANDARD
BEGIN:DAYLIGHT
TZOFFSETFROM:-0800
TZOFFSETTO:-0700
TZNAME:PDT
DTSTART:20280312T100000
END:DAYLIGHT
BEGIN:STANDARD
TZOFFSETFROM:-0700
TZOFFSETTO:-0800
TZNAME:PST
DTSTART:20281105T090000
END:STANDARD
END:VTIMEZONE
BEGIN:VTIMEZONE
TZID:America/Los_Angeles
BEGIN:DAYLIGHT
TZOFFSETFROM:-0800
TZOFFSETTO:-0700
TZNAME:PDT
DTSTART:20250309T100000
END:DAYLIGHT
BEGIN:STANDARD
TZOFFSETFROM:-0700
TZOFFSETTO:-0800
TZNAME:PST
DTSTART:20251102T090000
END:STANDARD
BEGIN:DAYLIGHT
TZOFFSETFROM:-0800
TZOFFSETTO:-0700
TZNAME:PDT
DTSTART:20260308T100000
END:DAYLIGHT
BEGIN:STANDARD
TZOFFSETFROM:-0700
TZOFFSETTO:-0800
TZNAME:PST
DTSTART:20261101T090000
END:STANDARD
BEGIN:DAYLIGHT
TZOFFSETFROM:-0800
TZOFFSETTO:-0700
TZNAME:PDT
DTSTART:20270314T100000
END:DAYLIGHT
BEGIN:STANDARD
TZOFFSETFROM:-0700
TZOFFSETTO:-0800
TZNAME:PST
DTSTART:20271107T090000
END:STANDARD
END:VTIMEZONE
BEGIN:VTIMEZONE
TZID:UTC
BEGIN:STANDARD
TZOFFSETFROM:+0000
TZOFFSETTO:+0000
TZNAME:UTC
DTSTART:20250101T000000
END:STANDARD
END:VTIMEZONE
BEGIN:VTIMEZONE
TZID:America/Denver
BEGIN:DAYLIGHT
TZOFFSETFROM:-0700
TZOFFSETTO:-0600
TZNAME:MDT
DTSTART:20250309T090000
END:DAYLIGHT
BEGIN:STANDARD
TZOFFSETFROM:-0600
TZOFFSETTO:-0700
TZNAME:MST
DTSTART:20251102T080000
END:STANDARD
BEGIN:DAYLIGHT
TZOFFSETFROM:-0700
TZOFFSETTO:-0600
TZNAME:MDT
DTSTART:20260308T090000
END:DAYLIGHT
BEGIN:STANDARD
TZOFFSETFROM:-0600
TZOFFSETTO:-0700
TZNAME:MST
DTSTART:20261101T080000
END:STANDARD
BEGIN:DAYLIGHT
TZOFFSETFROM:-0700
TZOFFSETTO:-0600
TZNAME:MDT
DTSTART:20270314T090000
END:DAYLIGHT
BEGIN:STANDARD
TZOFFSETFROM:-0600
TZOFFSETTO:-0700
TZNAME:MST
DTSTART:20271107T080000
END:STANDARD
END:VTIMEZONE
BEGIN:VEVENT
DTSTART;TZID=America/Los_Angeles:20260312T120000
DTEND;TZID=America/Los_Angeles:20270321T150000
DTSTAMP:20260423T200119
CREATED:20260302T182253Z
LAST-MODIFIED:20260302T182407Z
UID:10007946-1773316800-1805641200@driveshops.com
SUMMARY:Master and Control The Front of Your Shop Accelerated Day 3 of 3
DESCRIPTION:
URL:https://driveshops.com/events/master-and-control-the-front-of-your-shop-accelerated-day-3-of-3/
LOCATION:Online
CATEGORIES:Master and Control the Front of Your Shop,Workshop
END:VEVENT
BEGIN:VEVENT
DTSTART;TZID=America/Los_Angeles:20261006T080000
DTEND;TZID=America/Los_Angeles:20261006T110000
DTSTAMP:20260423T200119
CREATED:20260226T163430Z
LAST-MODIFIED:20260226T163430Z
UID:10007741-1791273600-1791284400@driveshops.com
SUMMARY:Essentials of Shop Management  Day 1 of 6
DESCRIPTION:
URL:https://driveshops.com/events/essentials-of-shop-management-day-1-of-6-21/
LOCATION:Online
CATEGORIES:Essentials of Shop Management,Workshop
ATTACH;FMTTYPE=image/png:https://driveshops.com/wp-content/uploads/2019/04/screen-shot-2019-05-21-at-10.17.01-am-e1558471790866.png
END:VEVENT
BEGIN:VEVENT
DTSTART;TZID=America/Los_Angeles:20261007T080000
DTEND;TZID=America/Los_Angeles:20261007T110000
DTSTAMP:20260423T200119
CREATED:20260226T163437Z
LAST-MODIFIED:20260226T163437Z
UID:10007742-1791360000-1791370800@driveshops.com
SUMMARY:Essentials of Shop Management  Day 2 of 6
DESCRIPTION:
URL:https://driveshops.com/events/essentials-of-shop-management-day-2-of-6-18/
LOCATION:Online
CATEGORIES:Essentials of Shop Management,Workshop
ATTACH;FMTTYPE=image/png:https://driveshops.com/wp-content/uploads/2019/04/screen-shot-2019-05-21-at-10.17.01-am-e1558471790866.png
END:VEVENT
BEGIN:VEVENT
DTSTART;TZID=America/Los_Angeles:20261008T080000
DTEND;TZID=America/Los_Angeles:20261008T110000
DTSTAMP:20260423T200119
CREATED:20260226T163445Z
LAST-MODIFIED:20260226T163445Z
UID:10007743-1791446400-1791457200@driveshops.com
SUMMARY:Essentials of Shop Management  Day 3 of 6
DESCRIPTION:
URL:https://driveshops.com/events/essentials-of-shop-management-day-3-of-6-19/
LOCATION:Online
CATEGORIES:Essentials of Shop Management,Workshop
ATTACH;FMTTYPE=image/png:https://driveshops.com/wp-content/uploads/2019/04/screen-shot-2019-05-21-at-10.17.01-am-e1558471790866.png
END:VEVENT
BEGIN:VEVENT
DTSTART;TZID=America/Los_Angeles:20261013T080000
DTEND;TZID=America/Los_Angeles:20261013T080000
DTSTAMP:20260423T200119
CREATED:20260302T185805Z
LAST-MODIFIED:20260302T185805Z
UID:10007955-1791878400-1791878400@driveshops.com
SUMMARY:Employee Benefits Solutions for Shops Day 1 of 3
DESCRIPTION:
URL:https://driveshops.com/events/employee-benefits-solutions-for-shops-day-1-of-3-2/
CATEGORIES:Employee Benefit Solutions
END:VEVENT
BEGIN:VEVENT
DTSTART;TZID=America/Los_Angeles:20261013T080000
DTEND;TZID=America/Los_Angeles:20261013T110000
DTSTAMP:20260423T200119
CREATED:20260226T163459Z
LAST-MODIFIED:20260226T163459Z
UID:10007744-1791878400-1791889200@driveshops.com
SUMMARY:Essentials of Shop Management  Day 4 of 6
DESCRIPTION:
URL:https://driveshops.com/events/essentials-of-shop-management-day-4-of-6-19/
LOCATION:Online
CATEGORIES:Essentials of Shop Management,Workshop
ATTACH;FMTTYPE=image/png:https://driveshops.com/wp-content/uploads/2019/04/screen-shot-2019-05-21-at-10.17.01-am-e1558471790866.png
END:VEVENT
BEGIN:VEVENT
DTSTART;TZID=America/Los_Angeles:20261013T080000
DTEND;TZID=America/Los_Angeles:20261013T110000
DTSTAMP:20260423T200119
CREATED:20260227T150307Z
LAST-MODIFIED:20260227T150307Z
UID:10007809-1791878400-1791889200@driveshops.com
SUMMARY:Master and Control The Front of Your Shop Day 1 of 5
DESCRIPTION:
URL:https://driveshops.com/events/master-and-control-the-front-of-your-shop-day-1-of-5-4/
LOCATION:Online
CATEGORIES:Master and Control the Front of Your Shop,Workshop
END:VEVENT
BEGIN:VEVENT
DTSTART;TZID=America/Los_Angeles:20261013T080000
DTEND;TZID=America/Los_Angeles:20261013T110000
DTSTAMP:20260423T200119
CREATED:20260227T155140Z
LAST-MODIFIED:20260227T155140Z
UID:10007846-1791878400-1791889200@driveshops.com
SUMMARY:Building Your Dream Team Day 1 of 5
DESCRIPTION:
URL:https://driveshops.com/events/building-your-dream-team-day-1-of-5-10/
LOCATION:Online
CATEGORIES:Building Your Dream Team
END:VEVENT
BEGIN:VEVENT
DTSTART;TZID=America/Los_Angeles:20261014T080000
DTEND;TZID=America/Los_Angeles:20261014T080000
DTSTAMP:20260423T200119
CREATED:20260302T185817Z
LAST-MODIFIED:20260302T185817Z
UID:10007956-1791964800-1791964800@driveshops.com
SUMMARY:Employee Benefits Solutions for Shops Day 2 of 3
DESCRIPTION:
URL:https://driveshops.com/events/employee-benefits-solutions-for-shops-day-2-of-3-2/
CATEGORIES:Employee Benefit Solutions
END:VEVENT
BEGIN:VEVENT
DTSTART;TZID=America/Los_Angeles:20261014T080000
DTEND;TZID=America/Los_Angeles:20261014T110000
DTSTAMP:20260423T200119
CREATED:20260226T163509Z
LAST-MODIFIED:20260226T163509Z
UID:10007745-1791964800-1791975600@driveshops.com
SUMMARY:Essentials of Shop Management  Day 5 of 6
DESCRIPTION:
URL:https://driveshops.com/events/essentials-of-shop-management-day-5-of-6-20/
LOCATION:Online
CATEGORIES:Essentials of Shop Management,Workshop
ATTACH;FMTTYPE=image/png:https://driveshops.com/wp-content/uploads/2019/04/screen-shot-2019-05-21-at-10.17.01-am-e1558471790866.png
END:VEVENT
BEGIN:VEVENT
DTSTART;TZID=America/Los_Angeles:20261014T080000
DTEND;TZID=America/Los_Angeles:20261014T110000
DTSTAMP:20260423T200119
CREATED:20260227T150315Z
LAST-MODIFIED:20260227T150315Z
UID:10007810-1791964800-1791975600@driveshops.com
SUMMARY:Master and Control The Front of Your Shop Day 2 of 5
DESCRIPTION:
URL:https://driveshops.com/events/master-and-control-the-front-of-your-shop-day-2-of-5-4/
LOCATION:Online
CATEGORIES:Master and Control the Front of Your Shop,Workshop
END:VEVENT
BEGIN:VEVENT
DTSTART;TZID=America/Los_Angeles:20261014T080000
DTEND;TZID=America/Los_Angeles:20261014T110000
DTSTAMP:20260423T200119
CREATED:20260227T155153Z
LAST-MODIFIED:20260227T155153Z
UID:10007847-1791964800-1791975600@driveshops.com
SUMMARY:Building Your Dream Team Day 2 of 5
DESCRIPTION:
URL:https://driveshops.com/events/building-your-dream-team-day-2-of-5-10/
LOCATION:Online
CATEGORIES:Building Your Dream Team
END:VEVENT
BEGIN:VEVENT
DTSTART;TZID=America/Los_Angeles:20261015T080000
DTEND;TZID=America/Los_Angeles:20261015T080000
DTSTAMP:20260423T200119
CREATED:20260302T185847Z
LAST-MODIFIED:20260302T185847Z
UID:10007957-1792051200-1792051200@driveshops.com
SUMMARY:Employee Benefits Solutions for Shops Day 3 of 3
DESCRIPTION:
URL:https://driveshops.com/events/employee-benefits-solutions-for-shops-day-3-of-3-2/
CATEGORIES:Employee Benefit Solutions
END:VEVENT
BEGIN:VEVENT
DTSTART;TZID=America/Los_Angeles:20261015T080000
DTEND;TZID=America/Los_Angeles:20261015T110000
DTSTAMP:20260423T200119
CREATED:20260226T163518Z
LAST-MODIFIED:20260226T163518Z
UID:10007746-1792051200-1792062000@driveshops.com
SUMMARY:Essentials of Shop Management  Day 6 of 6
DESCRIPTION:
URL:https://driveshops.com/events/essentials-of-shop-management-day-6-of-6-18/
LOCATION:Online
CATEGORIES:Essentials of Shop Management,Workshop
ATTACH;FMTTYPE=image/png:https://driveshops.com/wp-content/uploads/2019/04/screen-shot-2019-05-21-at-10.17.01-am-e1558471790866.png
END:VEVENT
BEGIN:VEVENT
DTSTART;TZID=America/Los_Angeles:20261015T080000
DTEND;TZID=America/Los_Angeles:20261015T110000
DTSTAMP:20260423T200119
CREATED:20260227T150322Z
LAST-MODIFIED:20260227T150322Z
UID:10007811-1792051200-1792062000@driveshops.com
SUMMARY:Master and Control The Front of Your Shop Day 3 of 5
DESCRIPTION:
URL:https://driveshops.com/events/master-and-control-the-front-of-your-shop-day-3-of-5-4/
LOCATION:Online
CATEGORIES:Master and Control the Front of Your Shop,Workshop
END:VEVENT
BEGIN:VEVENT
DTSTART;TZID=America/Los_Angeles:20261015T080000
DTEND;TZID=America/Los_Angeles:20261015T110000
DTSTAMP:20260423T200119
CREATED:20260227T155203Z
LAST-MODIFIED:20260227T155203Z
UID:10007848-1792051200-1792062000@driveshops.com
SUMMARY:Building Your Dream Team Day 3 of 5
DESCRIPTION:
URL:https://driveshops.com/events/building-your-dream-team-day-3-of-5-10/
LOCATION:Online
CATEGORIES:Building Your Dream Team
END:VEVENT
BEGIN:VEVENT
DTSTART;TZID=America/Los_Angeles:20261020T080000
DTEND;TZID=America/Los_Angeles:20261020T110000
DTSTAMP:20260423T200119
CREATED:20260227T150338Z
LAST-MODIFIED:20260227T150338Z
UID:10007812-1792483200-1792494000@driveshops.com
SUMMARY:Master and Control The Front of Your Shop Day 4 of 5
DESCRIPTION:
URL:https://driveshops.com/events/master-and-control-the-front-of-your-shop-day-4-of-5-4/
LOCATION:Online
CATEGORIES:Master and Control the Front of Your Shop,Workshop
END:VEVENT
BEGIN:VEVENT
DTSTART;TZID=America/Los_Angeles:20261020T080000
DTEND;TZID=America/Los_Angeles:20261020T110000
DTSTAMP:20260423T200119
CREATED:20260227T155214Z
LAST-MODIFIED:20260227T155214Z
UID:10007849-1792483200-1792494000@driveshops.com
SUMMARY:Building Your Dream Team Day 4 of 5
DESCRIPTION:
URL:https://driveshops.com/events/building-your-dream-team-day-4-of-5-10/
LOCATION:Online
CATEGORIES:Building Your Dream Team
END:VEVENT
BEGIN:VEVENT
DTSTART;TZID=UTC:20261020T080000
DTEND;TZID=UTC:20261020T110000
DTSTAMP:20260423T200119
CREATED:20260227T175253Z
LAST-MODIFIED:20260227T175253Z
UID:10007898-1792483200-1792494000@driveshops.com
SUMMARY:How to Train Your Team Day 1 of 3
DESCRIPTION:
URL:https://driveshops.com/events/how-to-train-your-team-day-1-of-3-5/
CATEGORIES:How to Train Your Team,Workshop
ATTACH;FMTTYPE=image/png:https://driveshops.com/wp-content/uploads/2019/11/httyt_11.26.19-01.png
END:VEVENT
BEGIN:VEVENT
DTSTART;TZID=America/Denver:20261020T080000
DTEND;TZID=America/Denver:20261020T110000
DTSTAMP:20260423T200119
CREATED:20260302T220905Z
LAST-MODIFIED:20260302T220905Z
UID:10007977-1792483200-1792494000@driveshops.com
SUMMARY:Developing Shop Playbooks Day 1 of 5
DESCRIPTION:
URL:https://driveshops.com/events/developing-shop-playbooks-day-1-of-5-9/
LOCATION:Online
CATEGORIES:Developing Shop Playbooks,Workshop
END:VEVENT
BEGIN:VEVENT
DTSTART;TZID=America/Los_Angeles:20261020T080000
DTEND;TZID=America/Los_Angeles:20261020T110000
DTSTAMP:20260423T200119
CREATED:20260309T212647Z
LAST-MODIFIED:20260309T212647Z
UID:10008004-1792483200-1792494000@driveshops.com
SUMMARY:Keys To Understanding Your Financial Reports Day 1 of 3
DESCRIPTION:
URL:https://driveshops.com/events/keys-to-understanding-your-financial-reports-day-1-of-3-4/
LOCATION:DRIVE HQ\, 324 S Myrtle Ave\, Monrovia\, CA\, 91016\, United States
CATEGORIES:The Key to Understanding Your Financial Reports,Workshop
END:VEVENT
BEGIN:VEVENT
DTSTART;TZID=America/Los_Angeles:20261021T080000
DTEND;TZID=America/Los_Angeles:20261021T110000
DTSTAMP:20260423T200119
CREATED:20260227T150347Z
LAST-MODIFIED:20260227T150347Z
UID:10007813-1792569600-1792580400@driveshops.com
SUMMARY:Master and Control The Front of Your Shop Day 5 of 5
DESCRIPTION:
URL:https://driveshops.com/events/master-and-control-the-front-of-your-shop-day-5-of-5-4/
LOCATION:Online
CATEGORIES:Master and Control the Front of Your Shop,Workshop
END:VEVENT
BEGIN:VEVENT
DTSTART;TZID=America/Los_Angeles:20261021T080000
DTEND;TZID=America/Los_Angeles:20261021T110000
DTSTAMP:20260423T200119
CREATED:20260227T155227Z
LAST-MODIFIED:20260227T155227Z
UID:10007850-1792569600-1792580400@driveshops.com
SUMMARY:Building Your Dream Team Day 5 of 5
DESCRIPTION:
URL:https://driveshops.com/events/building-your-dream-team-day-5-of-5-10/
LOCATION:Online
CATEGORIES:Building Your Dream Team
END:VEVENT
BEGIN:VEVENT
DTSTART;TZID=UTC:20261021T080000
DTEND;TZID=UTC:20261021T110000
DTSTAMP:20260423T200119
CREATED:20260227T175304Z
LAST-MODIFIED:20260227T175304Z
UID:10007899-1792569600-1792580400@driveshops.com
SUMMARY:How to Train Your Team Day 2 of 3
DESCRIPTION:
URL:https://driveshops.com/events/how-to-train-your-team-day-2-of-3-6/
CATEGORIES:How to Train Your Team,Workshop
ATTACH;FMTTYPE=image/png:https://driveshops.com/wp-content/uploads/2019/11/httyt_11.26.19-01.png
END:VEVENT
BEGIN:VEVENT
DTSTART;TZID=America/Denver:20261021T080000
DTEND;TZID=America/Denver:20261021T110000
DTSTAMP:20260423T200119
CREATED:20260302T220918Z
LAST-MODIFIED:20260302T220918Z
UID:10007978-1792569600-1792580400@driveshops.com
SUMMARY:Developing Shop Playbooks Day 2 of 5
DESCRIPTION:
URL:https://driveshops.com/events/developing-shop-playbooks-day-2-of-5-9/
LOCATION:Online
CATEGORIES:Developing Shop Playbooks,Workshop
ATTACH;FMTTYPE=image/png:https://driveshops.com/wp-content/uploads/2019/09/screen-shot-2019-09-04-at-11.16.56-am.png
END:VEVENT
BEGIN:VEVENT
DTSTART;TZID=America/Los_Angeles:20261021T080000
DTEND;TZID=America/Los_Angeles:20261021T110000
DTSTAMP:20260423T200119
CREATED:20260309T212706Z
LAST-MODIFIED:20260309T212706Z
UID:10008005-1792569600-1792580400@driveshops.com
SUMMARY:Keys To Understanding Your Financial Reports Day 2 of 3
DESCRIPTION:
URL:https://driveshops.com/events/keys-to-understanding-your-financial-reports-day-2-of-3-4/
LOCATION:DRIVE HQ\, 324 S Myrtle Ave\, Monrovia\, CA\, 91016\, United States
CATEGORIES:The Key to Understanding Your Financial Reports,Workshop
END:VEVENT
BEGIN:VEVENT
DTSTART;TZID=UTC:20261022T080000
DTEND;TZID=UTC:20261022T110000
DTSTAMP:20260423T200119
CREATED:20260227T175318Z
LAST-MODIFIED:20260227T175318Z
UID:10007900-1792656000-1792666800@driveshops.com
SUMMARY:How to Train Your Team Day 3 of 3
DESCRIPTION:
URL:https://driveshops.com/events/how-to-train-your-team-day-3-of-3-6/
CATEGORIES:How to Train Your Team,Workshop
ATTACH;FMTTYPE=image/png:https://driveshops.com/wp-content/uploads/2019/11/httyt_11.26.19-01.png
END:VEVENT
BEGIN:VEVENT
DTSTART;TZID=America/Denver:20261022T080000
DTEND;TZID=America/Denver:20261022T110000
DTSTAMP:20260423T200119
CREATED:20260302T220928Z
LAST-MODIFIED:20260302T220928Z
UID:10007979-1792656000-1792666800@driveshops.com
SUMMARY:Developing Shop Playbooks Day 3 of 5
DESCRIPTION:
URL:https://driveshops.com/events/developing-shop-playbooks-day-3-of-5-9/
LOCATION:Online
CATEGORIES:Developing Shop Playbooks,Workshop
ATTACH;FMTTYPE=image/png:https://driveshops.com/wp-content/uploads/2019/09/screen-shot-2019-09-04-at-11.16.56-am.png
END:VEVENT
BEGIN:VEVENT
DTSTART;TZID=America/Los_Angeles:20261022T080000
DTEND;TZID=America/Los_Angeles:20261022T110000
DTSTAMP:20260423T200119
CREATED:20260309T212719Z
LAST-MODIFIED:20260309T212719Z
UID:10008006-1792656000-1792666800@driveshops.com
SUMMARY:Keys To Understanding Your Financial Reports Day 3 of 3
DESCRIPTION:
URL:https://driveshops.com/events/keys-to-understanding-your-financial-reports-day-3-of-3-4/
LOCATION:DRIVE HQ\, 324 S Myrtle Ave\, Monrovia\, CA\, 91016\, United States
CATEGORIES:The Key to Understanding Your Financial Reports,Workshop
END:VEVENT
BEGIN:VEVENT
DTSTART;TZID=America/Denver:20261027T080000
DTEND;TZID=America/Denver:20261027T110000
DTSTAMP:20260423T200119
CREATED:20260302T220938Z
LAST-MODIFIED:20260302T220938Z
UID:10007980-1793088000-1793098800@driveshops.com
SUMMARY:Developing Shop Playbooks Day 4 of 5
DESCRIPTION:
URL:https://driveshops.com/events/developing-shop-playbooks-day-4-of-5-9/
LOCATION:Online
CATEGORIES:Developing Shop Playbooks,Workshop
ATTACH;FMTTYPE=image/png:https://driveshops.com/wp-content/uploads/2019/09/screen-shot-2019-09-04-at-11.16.56-am.png
END:VEVENT
END:VCALENDAR