BEGIN:VCALENDAR
VERSION:2.0
PRODID:-//DRIVE - ECPv6.15.18//NONSGML v1.0//EN
CALSCALE:GREGORIAN
METHOD:PUBLISH
X-ORIGINAL-URL:https://driveshops.com
X-WR-CALDESC:Events for DRIVE
REFRESH-INTERVAL;VALUE=DURATION:PT1H
X-Robots-Tag:noindex
X-PUBLISHED-TTL:PT1H
BEGIN:VTIMEZONE
TZID:America/Los_Angeles
BEGIN:DAYLIGHT
TZOFFSETFROM:-0800
TZOFFSETTO:-0700
TZNAME:PDT
DTSTART:20250309T100000
END:DAYLIGHT
BEGIN:STANDARD
TZOFFSETFROM:-0700
TZOFFSETTO:-0800
TZNAME:PST
DTSTART:20251102T090000
END:STANDARD
BEGIN:DAYLIGHT
TZOFFSETFROM:-0800
TZOFFSETTO:-0700
TZNAME:PDT
DTSTART:20260308T100000
END:DAYLIGHT
BEGIN:STANDARD
TZOFFSETFROM:-0700
TZOFFSETTO:-0800
TZNAME:PST
DTSTART:20261101T090000
END:STANDARD
BEGIN:DAYLIGHT
TZOFFSETFROM:-0800
TZOFFSETTO:-0700
TZNAME:PDT
DTSTART:20270314T100000
END:DAYLIGHT
BEGIN:STANDARD
TZOFFSETFROM:-0700
TZOFFSETTO:-0800
TZNAME:PST
DTSTART:20271107T090000
END:STANDARD
BEGIN:DAYLIGHT
TZOFFSETFROM:-0800
TZOFFSETTO:-0700
TZNAME:PDT
DTSTART:20280312T100000
END:DAYLIGHT
BEGIN:STANDARD
TZOFFSETFROM:-0700
TZOFFSETTO:-0800
TZNAME:PST
DTSTART:20281105T090000
END:STANDARD
END:VTIMEZONE
BEGIN:VTIMEZONE
TZID:UTC
BEGIN:STANDARD
TZOFFSETFROM:+0000
TZOFFSETTO:+0000
TZNAME:UTC
DTSTART:20250101T000000
END:STANDARD
END:VTIMEZONE
BEGIN:VTIMEZONE
TZID:America/Denver
BEGIN:DAYLIGHT
TZOFFSETFROM:-0700
TZOFFSETTO:-0600
TZNAME:MDT
DTSTART:20250309T090000
END:DAYLIGHT
BEGIN:STANDARD
TZOFFSETFROM:-0600
TZOFFSETTO:-0700
TZNAME:MST
DTSTART:20251102T080000
END:STANDARD
BEGIN:DAYLIGHT
TZOFFSETFROM:-0700
TZOFFSETTO:-0600
TZNAME:MDT
DTSTART:20260308T090000
END:DAYLIGHT
BEGIN:STANDARD
TZOFFSETFROM:-0600
TZOFFSETTO:-0700
TZNAME:MST
DTSTART:20261101T080000
END:STANDARD
BEGIN:DAYLIGHT
TZOFFSETFROM:-0700
TZOFFSETTO:-0600
TZNAME:MDT
DTSTART:20270314T090000
END:DAYLIGHT
BEGIN:STANDARD
TZOFFSETFROM:-0600
TZOFFSETTO:-0700
TZNAME:MST
DTSTART:20271107T080000
END:STANDARD
END:VTIMEZONE
BEGIN:VEVENT
DTSTART;TZID=America/Los_Angeles:20260312T120000
DTEND;TZID=America/Los_Angeles:20270321T150000
DTSTAMP:20260423T211613
CREATED:20260302T182253Z
LAST-MODIFIED:20260302T182407Z
UID:10007946-1773316800-1805641200@driveshops.com
SUMMARY:Master and Control The Front of Your Shop Accelerated Day 3 of 3
DESCRIPTION:
URL:https://driveshops.com/events/master-and-control-the-front-of-your-shop-accelerated-day-3-of-3/
LOCATION:Online
CATEGORIES:Master and Control the Front of Your Shop,Workshop
END:VEVENT
BEGIN:VEVENT
DTSTART;TZID=America/Los_Angeles:20261103T080000
DTEND;TZID=America/Los_Angeles:20261103T110000
DTSTAMP:20260423T211613
CREATED:20260227T143553Z
LAST-MODIFIED:20260227T143553Z
UID:10007788-1793692800-1793703600@driveshops.com
SUMMARY:Professional Service Advisor Sales Day 1 of 6
DESCRIPTION:
URL:https://driveshops.com/events/professional-service-advisor-sales-day-1-of-6-14/
LOCATION:Online
CATEGORIES:Professional Service Advisor Sales,Workshop
END:VEVENT
BEGIN:VEVENT
DTSTART;TZID=UTC:20261103T080000
DTEND;TZID=UTC:20261103T110000
DTSTAMP:20260423T211613
CREATED:20260227T172415Z
LAST-MODIFIED:20260227T172415Z
UID:10007889-1793692800-1793703600@driveshops.com
SUMMARY:Reputation Management Day 1 of 3
DESCRIPTION:
URL:https://driveshops.com/events/reputation-management-day-1-of-3-6/
LOCATION:Online
CATEGORIES:Public Relations,Workshop
END:VEVENT
BEGIN:VEVENT
DTSTART;TZID=America/Denver:20261103T080000
DTEND;TZID=America/Denver:20261103T110000
DTSTAMP:20260423T211613
CREATED:20260227T180458Z
LAST-MODIFIED:20260227T180458Z
UID:10007921-1793692800-1793703600@driveshops.com
SUMMARY:Managing Change Day 1 of 5
DESCRIPTION:Understand the basic principles of successful change.\nUnderstand how to make changes that result in a more profitable and successful business.\nPractice the procedure of making changes until it is mastered.
URL:https://driveshops.com/events/managing-change-day-1-of-5-8/
LOCATION:Online
CATEGORIES:Managing Change,Workshop
END:VEVENT
BEGIN:VEVENT
DTSTART;TZID=America/Los_Angeles:20261104T080000
DTEND;TZID=America/Los_Angeles:20261104T110000
DTSTAMP:20260423T211613
CREATED:20260227T143602Z
LAST-MODIFIED:20260227T143602Z
UID:10007789-1793779200-1793790000@driveshops.com
SUMMARY:Professional Service Advisor Sales Day 2 of 6
DESCRIPTION:
URL:https://driveshops.com/events/professional-service-advisor-sales-day-2-of-6-14/
LOCATION:Online
CATEGORIES:Professional Service Advisor Sales,Workshop
END:VEVENT
BEGIN:VEVENT
DTSTART;TZID=UTC:20261104T080000
DTEND;TZID=UTC:20261104T110000
DTSTAMP:20260423T211613
CREATED:20260227T172425Z
LAST-MODIFIED:20260227T172425Z
UID:10007890-1793779200-1793790000@driveshops.com
SUMMARY:Reputation Management Day 2 of 3
DESCRIPTION:
URL:https://driveshops.com/events/reputation-management-day-2-of-3-6/
LOCATION:Online
CATEGORIES:Public Relations,Workshop
END:VEVENT
BEGIN:VEVENT
DTSTART;TZID=America/Denver:20261104T080000
DTEND;TZID=America/Denver:20261104T110000
DTSTAMP:20260423T211613
CREATED:20260227T180506Z
LAST-MODIFIED:20260227T180506Z
UID:10007922-1793779200-1793790000@driveshops.com
SUMMARY:Managing Change Day 2 of 5
DESCRIPTION:Understand the basic principles of successful change.\nUnderstand how to make changes that result in a more profitable and successful business.\nPractice the procedure of making changes until it is mastered.
URL:https://driveshops.com/events/managing-change-day-2-of-5-8/
LOCATION:Online
CATEGORIES:Managing Change,Workshop
END:VEVENT
BEGIN:VEVENT
DTSTART;TZID=America/Los_Angeles:20261105T080000
DTEND;TZID=America/Los_Angeles:20261105T110000
DTSTAMP:20260423T211613
CREATED:20260227T143609Z
LAST-MODIFIED:20260227T143609Z
UID:10007790-1793865600-1793876400@driveshops.com
SUMMARY:Professional Service Advisor Sales Day 3 of 6
DESCRIPTION:
URL:https://driveshops.com/events/professional-service-advisor-sales-day-3-of-6-14/
LOCATION:Online
CATEGORIES:Professional Service Advisor Sales,Workshop
ATTACH;FMTTYPE=image/png:https://driveshops.com/wp-content/uploads/2019/04/screen-shot-2019-05-21-at-10.14.39-am-e1558470540769.png
END:VEVENT
BEGIN:VEVENT
DTSTART;TZID=UTC:20261105T080000
DTEND;TZID=UTC:20261105T110000
DTSTAMP:20260423T211613
CREATED:20260227T172436Z
LAST-MODIFIED:20260227T172436Z
UID:10007891-1793865600-1793876400@driveshops.com
SUMMARY:Reputation Management Day 3 of 3
DESCRIPTION:
URL:https://driveshops.com/events/reputation-management-day-3-of-3-6/
LOCATION:Online
CATEGORIES:Public Relations,Workshop
END:VEVENT
BEGIN:VEVENT
DTSTART;TZID=America/Denver:20261105T080000
DTEND;TZID=America/Denver:20261105T110000
DTSTAMP:20260423T211613
CREATED:20260227T180515Z
LAST-MODIFIED:20260227T180515Z
UID:10007923-1793865600-1793876400@driveshops.com
SUMMARY:Managing Change Day 3 of 5
DESCRIPTION:Understand the basic principles of successful change.\nUnderstand how to make changes that result in a more profitable and successful business.\nPractice the procedure of making changes until it is mastered.
URL:https://driveshops.com/events/managing-change-day-3-of-5-8/
LOCATION:Online
CATEGORIES:Managing Change,Workshop
END:VEVENT
BEGIN:VEVENT
DTSTART;TZID=America/Los_Angeles:20261106T080000
DTEND;TZID=America/Los_Angeles:20261106T153000
DTSTAMP:20260423T211613
CREATED:20260226T180732Z
LAST-MODIFIED:20260226T180732Z
UID:10007747-1793952000-1793979000@driveshops.com
SUMMARY:Essentials of Shop Management  Day 1 of 3
DESCRIPTION:
URL:https://driveshops.com/events/essentials-of-shop-management-day-1-of-3-3/
LOCATION:Online
CATEGORIES:Essentials of Shop Management,Workshop
ATTACH;FMTTYPE=image/png:https://driveshops.com/wp-content/uploads/2019/04/screen-shot-2019-05-21-at-10.17.01-am-e1558471790866.png
END:VEVENT
BEGIN:VEVENT
DTSTART;TZID=America/Los_Angeles:20261107T080000
DTEND;TZID=America/Los_Angeles:20261107T153000
DTSTAMP:20260423T211613
CREATED:20260226T180753Z
LAST-MODIFIED:20260226T180753Z
UID:10007748-1794038400-1794065400@driveshops.com
SUMMARY:Essentials of Shop Management  Day 2 of 3
DESCRIPTION:
URL:https://driveshops.com/events/essentials-of-shop-management-day-2-of-3-4/
LOCATION:Online
CATEGORIES:Essentials of Shop Management,Workshop
ATTACH;FMTTYPE=image/png:https://driveshops.com/wp-content/uploads/2019/04/screen-shot-2019-05-21-at-10.17.01-am-e1558471790866.png
END:VEVENT
BEGIN:VEVENT
DTSTART;TZID=America/Los_Angeles:20261108T080000
DTEND;TZID=America/Los_Angeles:20261108T153000
DTSTAMP:20260423T211613
CREATED:20260226T180825Z
LAST-MODIFIED:20260226T180825Z
UID:10007749-1794124800-1794151800@driveshops.com
SUMMARY:Essentials of Shop Management  Day 3 of 3
DESCRIPTION:
URL:https://driveshops.com/events/essentials-of-shop-management-day-3-of-3-4/
LOCATION:Online
CATEGORIES:Essentials of Shop Management,Workshop
ATTACH;FMTTYPE=image/png:https://driveshops.com/wp-content/uploads/2019/04/screen-shot-2019-05-21-at-10.17.01-am-e1558471790866.png
END:VEVENT
BEGIN:VEVENT
DTSTART;TZID=UTC:20261110T080000
DTEND;TZID=UTC:20261110T110000
DTSTAMP:20260423T211613
CREATED:20260227T143618Z
LAST-MODIFIED:20260227T143618Z
UID:10007791-1794297600-1794308400@driveshops.com
SUMMARY:Professional Service Advisor Sales Day 4 of 6
DESCRIPTION:
URL:https://driveshops.com/events/professional-service-advisor-sales-day-4-of-6-14/
LOCATION:Online
CATEGORIES:Professional Service Advisor Sales,Workshop
END:VEVENT
BEGIN:VEVENT
DTSTART;TZID=America/Los_Angeles:20261110T080000
DTEND;TZID=America/Los_Angeles:20261110T110000
DTSTAMP:20260423T211613
CREATED:20260227T152924Z
LAST-MODIFIED:20260227T152924Z
UID:10007828-1794297600-1794308400@driveshops.com
SUMMARY:How to Increase Your Profits Day 1 of 3
DESCRIPTION:
URL:https://driveshops.com/events/how-to-increase-your-profits-day-1-of-3-4/
LOCATION:Online
CATEGORIES:How To Increase Your Profits,Workshop
END:VEVENT
BEGIN:VEVENT
DTSTART;TZID=America/Denver:20261110T080000
DTEND;TZID=America/Denver:20261110T110000
DTSTAMP:20260423T211613
CREATED:20260227T180526Z
LAST-MODIFIED:20260227T180526Z
UID:10007924-1794297600-1794308400@driveshops.com
SUMMARY:Managing Change Day 4 of 5
DESCRIPTION:Understand the basic principles of successful change.\nUnderstand how to make changes that result in a more profitable and successful business.\nPractice the procedure of making changes until it is mastered.
URL:https://driveshops.com/events/managing-change-day-4-of-5-8/
LOCATION:Online
CATEGORIES:Managing Change,Workshop
ATTACH;FMTTYPE=image/png:https://driveshops.com/wp-content/uploads/2019/04/screen-shot-2019-05-21-at-10.47.53-am-e1558471201812.png
END:VEVENT
BEGIN:VEVENT
DTSTART;TZID=America/Los_Angeles:20261110T080000
DTEND;TZID=America/Los_Angeles:20261110T110000
DTSTAMP:20260423T211613
CREATED:20260309T211836Z
LAST-MODIFIED:20260309T211836Z
UID:10007995-1794297600-1794308400@driveshops.com
SUMMARY:How to Read and Use Financial Statements Day 1 of 6
DESCRIPTION:
URL:https://driveshops.com/events/how-to-read-and-use-financial-statements-day-1-of-6-7/
LOCATION:Online
CATEGORIES:How to Read and Use Financial Statements,Workshop
END:VEVENT
BEGIN:VEVENT
DTSTART;TZID=UTC:20261111T080000
DTEND;TZID=UTC:20261111T110000
DTSTAMP:20260423T211613
CREATED:20260227T143627Z
LAST-MODIFIED:20260227T143627Z
UID:10007792-1794384000-1794394800@driveshops.com
SUMMARY:Professional Service Advisor Sales Day 5 of 6
DESCRIPTION:
URL:https://driveshops.com/events/professional-service-advisor-sales-day-5-of-6-14/
LOCATION:Online
CATEGORIES:Professional Service Advisor Sales,Workshop
END:VEVENT
BEGIN:VEVENT
DTSTART;TZID=America/Los_Angeles:20261111T080000
DTEND;TZID=America/Los_Angeles:20261111T110000
DTSTAMP:20260423T211613
CREATED:20260227T152935Z
LAST-MODIFIED:20260227T152935Z
UID:10007829-1794384000-1794394800@driveshops.com
SUMMARY:How to Increase Your Profits Day 2 of 3
DESCRIPTION:
URL:https://driveshops.com/events/how-to-increase-your-profits-day-2-of-3-4/
LOCATION:Online
CATEGORIES:How To Increase Your Profits,Workshop
ATTACH;FMTTYPE=image/png:https://driveshops.com/wp-content/uploads/2019/04/screen-shot-2019-05-21-at-10.25.56-am-e1558471321731.png
END:VEVENT
BEGIN:VEVENT
DTSTART;TZID=America/Denver:20261111T080000
DTEND;TZID=America/Denver:20261111T110000
DTSTAMP:20260423T211613
CREATED:20260227T180536Z
LAST-MODIFIED:20260227T180536Z
UID:10007925-1794384000-1794394800@driveshops.com
SUMMARY:Managing Change Day 5 of 5
DESCRIPTION:Understand the basic principles of successful change.\nUnderstand how to make changes that result in a more profitable and successful business.\nPractice the procedure of making changes until it is mastered.
URL:https://driveshops.com/events/managing-change-day-5-of-5-8/
LOCATION:Online
CATEGORIES:Managing Change,Workshop
END:VEVENT
BEGIN:VEVENT
DTSTART;TZID=America/Los_Angeles:20261111T080000
DTEND;TZID=America/Los_Angeles:20261111T110000
DTSTAMP:20260423T211613
CREATED:20260309T211855Z
LAST-MODIFIED:20260309T211855Z
UID:10007996-1794384000-1794394800@driveshops.com
SUMMARY:How to Read and Use Financial Statements Day 2 of 6
DESCRIPTION:
URL:https://driveshops.com/events/how-to-read-and-use-financial-statements-day-2-of-6-7/
LOCATION:Online
CATEGORIES:How to Read and Use Financial Statements,Workshop
END:VEVENT
BEGIN:VEVENT
DTSTART;TZID=UTC:20261112T080000
DTEND;TZID=UTC:20261112T110000
DTSTAMP:20260423T211613
CREATED:20260227T143638Z
LAST-MODIFIED:20260227T143638Z
UID:10007793-1794470400-1794481200@driveshops.com
SUMMARY:Professional Service Advisor Sales Day 6 of 6
DESCRIPTION:
URL:https://driveshops.com/events/professional-service-advisor-sales-day-6-of-6-14/
LOCATION:Online
CATEGORIES:Professional Service Advisor Sales,Workshop
END:VEVENT
BEGIN:VEVENT
DTSTART;TZID=America/Los_Angeles:20261112T080000
DTEND;TZID=America/Los_Angeles:20261112T110000
DTSTAMP:20260423T211613
CREATED:20260227T152943Z
LAST-MODIFIED:20260227T152943Z
UID:10007830-1794470400-1794481200@driveshops.com
SUMMARY:How to Increase Your Profits Day 3 of 3
DESCRIPTION:
URL:https://driveshops.com/events/how-to-increase-your-profits-day-3-of-3-4/
LOCATION:Online
CATEGORIES:How To Increase Your Profits,Workshop
END:VEVENT
BEGIN:VEVENT
DTSTART;TZID=America/Los_Angeles:20261112T080000
DTEND;TZID=America/Los_Angeles:20261112T110000
DTSTAMP:20260423T211613
CREATED:20260309T211909Z
LAST-MODIFIED:20260309T211909Z
UID:10007997-1794470400-1794481200@driveshops.com
SUMMARY:How to Read and Use Financial Statements Day 3 of 6
DESCRIPTION:
URL:https://driveshops.com/events/how-to-read-and-use-financial-statements-day-3-of-6-7/
LOCATION:Online
CATEGORIES:How to Read and Use Financial Statements,Workshop
END:VEVENT
BEGIN:VEVENT
DTSTART;TZID=UTC:20261117T080000
DTEND;TZID=UTC:20261117T110000
DTSTAMP:20260423T211613
CREATED:20260309T211957Z
LAST-MODIFIED:20260309T211957Z
UID:10007998-1794902400-1794913200@driveshops.com
SUMMARY:How to Read and Use Financial Statements Day 4 of 6
DESCRIPTION:
URL:https://driveshops.com/events/how-to-read-and-use-financial-statements-day-4-of-6-7/
LOCATION:Online
CATEGORIES:How to Read and Use Financial Statements,Workshop
END:VEVENT
BEGIN:VEVENT
DTSTART;TZID=UTC:20261118T080000
DTEND;TZID=UTC:20261118T110000
DTSTAMP:20260423T211613
CREATED:20260309T211945Z
LAST-MODIFIED:20260309T211945Z
UID:10007999-1794988800-1794999600@driveshops.com
SUMMARY:How to Read and Use Financial Statements Day 5 of 6
DESCRIPTION:
URL:https://driveshops.com/events/how-to-read-and-use-financial-statements-day-5-of-6-7/
LOCATION:Online
CATEGORIES:How to Read and Use Financial Statements,Workshop
END:VEVENT
BEGIN:VEVENT
DTSTART;TZID=UTC:20261119T080000
DTEND;TZID=UTC:20261119T110000
DTSTAMP:20260423T211613
CREATED:20260309T212025Z
LAST-MODIFIED:20260309T212025Z
UID:10008000-1795075200-1795086000@driveshops.com
SUMMARY:How to Read and Use Financial Statements Day 6 of 6
DESCRIPTION:
URL:https://driveshops.com/events/how-to-read-and-use-financial-statements-day-6-of-6-7/
LOCATION:Online
CATEGORIES:How to Read and Use Financial Statements,Workshop
END:VEVENT
END:VCALENDAR