BEGIN:VCALENDAR
VERSION:2.0
PRODID:-//DRIVE - ECPv6.15.18//NONSGML v1.0//EN
CALSCALE:GREGORIAN
METHOD:PUBLISH
X-ORIGINAL-URL:https://driveshops.com
X-WR-CALDESC:Events for DRIVE
REFRESH-INTERVAL;VALUE=DURATION:PT1H
X-Robots-Tag:noindex
X-PUBLISHED-TTL:PT1H
BEGIN:VTIMEZONE
TZID:UTC
BEGIN:STANDARD
TZOFFSETFROM:+0000
TZOFFSETTO:+0000
TZNAME:UTC
DTSTART:20220101T000000
END:STANDARD
END:VTIMEZONE
BEGIN:VEVENT
DTSTART;TZID=UTC:20230530T080000
DTEND;TZID=UTC:20230530T110000
DTSTAMP:20260425T181710
CREATED:20221227T222752Z
LAST-MODIFIED:20221227T222752Z
UID:10004359-1685433600-1685444400@driveshops.com
SUMMARY:Professional Service Advisor Sales 4/6
DESCRIPTION:
URL:https://driveshops.com/events/professional-service-advisor-sales-4-6-14/
LOCATION:Online
CATEGORIES:Professional Service Advisor Sales,Workshop
ATTACH;FMTTYPE=image/png:https://driveshops.com/wp-content/uploads/2019/04/screen-shot-2019-05-21-at-10.14.39-am-e1558470540769.png
END:VEVENT
END:VCALENDAR