BEGIN:VCALENDAR
VERSION:2.0
PRODID:-//DRIVE - ECPv6.15.18//NONSGML v1.0//EN
CALSCALE:GREGORIAN
METHOD:PUBLISH
X-ORIGINAL-URL:https://driveshops.com
X-WR-CALDESC:Events for DRIVE
REFRESH-INTERVAL;VALUE=DURATION:PT1H
X-Robots-Tag:noindex
X-PUBLISHED-TTL:PT1H
BEGIN:VTIMEZONE
TZID:UTC
BEGIN:STANDARD
TZOFFSETFROM:+0000
TZOFFSETTO:+0000
TZNAME:UTC
DTSTART:20220101T000000
END:STANDARD
END:VTIMEZONE
BEGIN:VEVENT
DTSTART;TZID=UTC:20230621T080000
DTEND;TZID=UTC:20230621T110000
DTSTAMP:20260425T165123
CREATED:20221227T172842Z
LAST-MODIFIED:20221227T172842Z
UID:10003917-1687334400-1687345200@driveshops.com
SUMMARY:Getting Your Point Across 2/6
DESCRIPTION:
URL:https://driveshops.com/events/getting-your-point-across-2-7-3/
LOCATION:Online
CATEGORIES:Getting Your Point Across,Workshop
ORGANIZER;CN="Tony Wisler":MAILTO:scheduling@driveshops.com
END:VEVENT
BEGIN:VEVENT
DTSTART;TZID=UTC:20230621T080000
DTEND;TZID=UTC:20230621T110000
DTSTAMP:20260425T165123
CREATED:20221227T174007Z
LAST-MODIFIED:20221227T174007Z
UID:10004303-1687334400-1687345200@driveshops.com
SUMMARY:Succession & Exit Planning 2/6
DESCRIPTION:
URL:https://driveshops.com/events/succession-exit-planning-2-6-5/
LOCATION:Online
CATEGORIES:Succession & Exit Planning,Workshop
ATTACH;FMTTYPE=image/png:https://driveshops.com/wp-content/uploads/2019/04/screen-shot-2019-05-21-at-10.36.20-am-e1558471267564.png
END:VEVENT
END:VCALENDAR