BEGIN:VCALENDAR
VERSION:2.0
PRODID:-//DRIVE - ECPv6.15.18//NONSGML v1.0//EN
CALSCALE:GREGORIAN
METHOD:PUBLISH
X-WR-CALNAME:DRIVE
X-ORIGINAL-URL:https://driveshops.com
X-WR-CALDESC:Events for DRIVE
REFRESH-INTERVAL;VALUE=DURATION:PT1H
X-Robots-Tag:noindex
X-PUBLISHED-TTL:PT1H
BEGIN:VTIMEZONE
TZID:UTC
BEGIN:STANDARD
TZOFFSETFROM:+0000
TZOFFSETTO:+0000
TZNAME:UTC
DTSTART:20220101T000000
END:STANDARD
END:VTIMEZONE
BEGIN:VEVENT
DTSTART;TZID=UTC:20230726T080000
DTEND;TZID=UTC:20230726T110000
DTSTAMP:20260425T141148
CREATED:20221227T210019Z
LAST-MODIFIED:20221227T210019Z
UID:10004333-1690358400-1690369200@driveshops.com
SUMMARY:Planning For Success 2/5
DESCRIPTION:
URL:https://driveshops.com/events/planning-for-success-2-5-6/
LOCATION:Online
CATEGORIES:Planning for Success,Workshop
ATTACH;FMTTYPE=image/png:https://driveshops.com/wp-content/uploads/2019/04/screen-shot-2019-05-21-at-10.44.40-am-e1558471214538.png
END:VEVENT
BEGIN:VEVENT
DTSTART;TZID=UTC:20230726T080000
DTEND;TZID=UTC:20230726T110000
DTSTAMP:20260425T141148
CREATED:20221227T211544Z
LAST-MODIFIED:20221227T211544Z
UID:10004339-1690358400-1690369200@driveshops.com
SUMMARY:Sales Training for Collision Shops 2/5
DESCRIPTION:
URL:https://driveshops.com/events/sales-training-for-collision-shops-2-5-5/
LOCATION:Online
CATEGORIES:Sales Training for Collision Shops,Workshop
ATTACH;FMTTYPE=image/png:https://driveshops.com/wp-content/uploads/2019/04/screen-shot-2019-05-21-at-10.29.28-am-e1558471305153.png
END:VEVENT
END:VCALENDAR