BEGIN:VCALENDAR
VERSION:2.0
PRODID:-//DRIVE - ECPv6.15.18//NONSGML v1.0//EN
CALSCALE:GREGORIAN
METHOD:PUBLISH
X-ORIGINAL-URL:https://driveshops.com
X-WR-CALDESC:Events for DRIVE
REFRESH-INTERVAL;VALUE=DURATION:PT1H
X-Robots-Tag:noindex
X-PUBLISHED-TTL:PT1H
BEGIN:VTIMEZONE
TZID:UTC
BEGIN:STANDARD
TZOFFSETFROM:+0000
TZOFFSETTO:+0000
TZNAME:UTC
DTSTART:20220101T000000
END:STANDARD
END:VTIMEZONE
BEGIN:VEVENT
DTSTART;TZID=UTC:20231108T080000
DTEND;TZID=UTC:20231108T110000
DTSTAMP:20260425T073842
CREATED:20221229T165200Z
LAST-MODIFIED:20221229T165200Z
UID:10004302-1699430400-1699441200@driveshops.com
SUMMARY:Building Your Dream Team 2/5
DESCRIPTION:
URL:https://driveshops.com/events/building-your-dream-team-2-5-12/
LOCATION:Online
CATEGORIES:Building Your Dream Team
ATTACH;FMTTYPE=image/png:https://driveshops.com/wp-content/uploads/2019/03/screen-shot-2019-05-20-at-12.10.22-pm-e1558471852915.png
END:VEVENT
BEGIN:VEVENT
DTSTART;TZID=UTC:20231108T080000
DTEND;TZID=UTC:20231108T110000
DTSTAMP:20260425T073842
CREATED:20230920T150245Z
LAST-MODIFIED:20230920T150245Z
UID:10006956-1699430400-1699441200@driveshops.com
SUMMARY:Managing Change 5/5
DESCRIPTION:Understand the basic principles of successful change.\nUnderstand how to make changes that result in a more profitable and successful business.\nPractice the procedure of making changes until it is mastered.
URL:https://driveshops.com/events/managing-change-5-5-8/
LOCATION:Online
CATEGORIES:Managing Change,Workshop
ATTACH;FMTTYPE=image/png:https://driveshops.com/wp-content/uploads/2019/04/screen-shot-2019-05-21-at-10.47.53-am-e1558471201812.png
END:VEVENT
BEGIN:VEVENT
DTSTART;TZID=UTC:20231108T080000
DTEND;TZID=UTC:20231108T110000
DTSTAMP:20260425T073842
CREATED:20230920T150621Z
LAST-MODIFIED:20230920T150621Z
UID:10006958-1699430400-1699441200@driveshops.com
SUMMARY:Professional Service Advisor Sales 5/6
DESCRIPTION:
URL:https://driveshops.com/events/professional-service-advisor-sales-5-6-16/
LOCATION:Online
CATEGORIES:Professional Service Advisor Sales,Workshop
ATTACH;FMTTYPE=image/png:https://driveshops.com/wp-content/uploads/2019/04/screen-shot-2019-05-21-at-10.14.39-am-e1558470540769.png
END:VEVENT
END:VCALENDAR