BEGIN:VCALENDAR
VERSION:2.0
PRODID:-//DRIVE - ECPv6.15.18//NONSGML v1.0//EN
CALSCALE:GREGORIAN
METHOD:PUBLISH
X-ORIGINAL-URL:https://driveshops.com
X-WR-CALDESC:Events for DRIVE
REFRESH-INTERVAL;VALUE=DURATION:PT1H
X-Robots-Tag:noindex
X-PUBLISHED-TTL:PT1H
BEGIN:VTIMEZONE
TZID:UTC
BEGIN:STANDARD
TZOFFSETFROM:+0000
TZOFFSETTO:+0000
TZNAME:UTC
DTSTART:20220101T000000
END:STANDARD
END:VTIMEZONE
BEGIN:VEVENT
DTSTART;TZID=UTC:20231206T080000
DTEND;TZID=UTC:20231206T110000
DTSTAMP:20260425T073840
CREATED:20221228T215700Z
LAST-MODIFIED:20221228T215700Z
UID:10004412-1701849600-1701860400@driveshops.com
SUMMARY:Mastering Shop Finances 2/6
DESCRIPTION:
URL:https://driveshops.com/events/mastering-shop-finances-2-6-3/
LOCATION:Online
CATEGORIES:Mastering Shop Finances,Workshop
ATTACH;FMTTYPE=image/png:https://driveshops.com/wp-content/uploads/2019/12/mastering-shop-finances_12.04.19-01.png
END:VEVENT
BEGIN:VEVENT
DTSTART;TZID=UTC:20231206T080000
DTEND;TZID=UTC:20231206T110000
DTSTAMP:20260425T073840
CREATED:20221228T220005Z
LAST-MODIFIED:20221228T220005Z
UID:10004286-1701849600-1701860400@driveshops.com
SUMMARY:Developing Shop Playbooks 2/5
DESCRIPTION:
URL:https://driveshops.com/events/developing-shop-playbooks-2-5-2/
LOCATION:Online
CATEGORIES:Developing Shop Playbooks,Workshop
ATTACH;FMTTYPE=image/png:https://driveshops.com/wp-content/uploads/2019/09/screen-shot-2019-09-04-at-11.16.56-am.png
END:VEVENT
BEGIN:VEVENT
DTSTART;TZID=UTC:20231206T080000
DTEND;TZID=UTC:20231206T110000
DTSTAMP:20260425T073840
CREATED:20221228T220535Z
LAST-MODIFIED:20221228T220535Z
UID:10004273-1701849600-1701860400@driveshops.com
SUMMARY:Essentials of Shop Management 2/6
DESCRIPTION:
URL:https://driveshops.com/events/essentials-of-shop-management-2-6-26/
LOCATION:Online
CATEGORIES:Essentials of Shop Management,Workshop
ATTACH;FMTTYPE=image/png:https://driveshops.com/wp-content/uploads/2019/04/screen-shot-2019-05-21-at-10.17.01-am-e1558471790866.png
END:VEVENT
END:VCALENDAR