BEGIN:VCALENDAR
VERSION:2.0
PRODID:-//DRIVE - ECPv6.15.18//NONSGML v1.0//EN
CALSCALE:GREGORIAN
METHOD:PUBLISH
X-WR-CALNAME:DRIVE
X-ORIGINAL-URL:https://driveshops.com
X-WR-CALDESC:Events for DRIVE
REFRESH-INTERVAL;VALUE=DURATION:PT1H
X-Robots-Tag:noindex
X-PUBLISHED-TTL:PT1H
BEGIN:VTIMEZONE
TZID:UTC
BEGIN:STANDARD
TZOFFSETFROM:+0000
TZOFFSETTO:+0000
TZNAME:UTC
DTSTART:20220101T000000
END:STANDARD
END:VTIMEZONE
BEGIN:VEVENT
DTSTART;TZID=UTC:20231215T080000
DTEND;TZID=UTC:20231215T110000
DTSTAMP:20260425T061602
CREATED:20221228T215740Z
LAST-MODIFIED:20221228T215740Z
UID:10004378-1702627200-1702638000@driveshops.com
SUMMARY:Mastering Shop Finances 6/6
DESCRIPTION:
URL:https://driveshops.com/events/mastering-shop-finances-6-6-3/
LOCATION:Online
CATEGORIES:Mastering Shop Finances,Workshop
ATTACH;FMTTYPE=image/png:https://driveshops.com/wp-content/uploads/2019/12/mastering-shop-finances_12.04.19-01.png
END:VEVENT
BEGIN:VEVENT
DTSTART;TZID=UTC:20231215T080000
DTEND;TZID=UTC:20231215T110000
DTSTAMP:20260425T061602
CREATED:20221228T220620Z
LAST-MODIFIED:20221228T220620Z
UID:10004280-1702627200-1702638000@driveshops.com
SUMMARY:Essentials of Shop Management 6/6
DESCRIPTION:
URL:https://driveshops.com/events/essentials-of-shop-management-6-6-27/
CATEGORIES:Essentials of Shop Management,Workshop
ATTACH;FMTTYPE=image/png:https://driveshops.com/wp-content/uploads/2019/04/screen-shot-2019-05-21-at-10.17.01-am-e1558471790866.png
END:VEVENT
BEGIN:VEVENT
DTSTART;TZID=UTC:20231215T080000
DTEND;TZID=UTC:20231215T110000
DTSTAMP:20260425T061602
CREATED:20230120T213554Z
LAST-MODIFIED:20230120T213554Z
UID:10004397-1702627200-1702638000@driveshops.com
SUMMARY:Mastering Shop Finances 6/6
DESCRIPTION:
URL:https://driveshops.com/events/mastering-shop-finances-6-6-4/
LOCATION:Online
CATEGORIES:Mastering Shop Finances,Workshop
ATTACH;FMTTYPE=image/png:https://driveshops.com/wp-content/uploads/2019/12/mastering-shop-finances_12.04.19-01.png
END:VEVENT
END:VCALENDAR