BEGIN:VCALENDAR
VERSION:2.0
PRODID:-//DRIVE - ECPv6.15.18//NONSGML v1.0//EN
CALSCALE:GREGORIAN
METHOD:PUBLISH
X-WR-CALNAME:DRIVE
X-ORIGINAL-URL:https://driveshops.com
X-WR-CALDESC:Events for DRIVE
REFRESH-INTERVAL;VALUE=DURATION:PT1H
X-Robots-Tag:noindex
X-PUBLISHED-TTL:PT1H
BEGIN:VTIMEZONE
TZID:America/Los_Angeles
BEGIN:DAYLIGHT
TZOFFSETFROM:-0800
TZOFFSETTO:-0700
TZNAME:PDT
DTSTART:20230312T100000
END:DAYLIGHT
BEGIN:STANDARD
TZOFFSETFROM:-0700
TZOFFSETTO:-0800
TZNAME:PST
DTSTART:20231105T090000
END:STANDARD
BEGIN:DAYLIGHT
TZOFFSETFROM:-0800
TZOFFSETTO:-0700
TZNAME:PDT
DTSTART:20240310T100000
END:DAYLIGHT
BEGIN:STANDARD
TZOFFSETFROM:-0700
TZOFFSETTO:-0800
TZNAME:PST
DTSTART:20241103T090000
END:STANDARD
BEGIN:DAYLIGHT
TZOFFSETFROM:-0800
TZOFFSETTO:-0700
TZNAME:PDT
DTSTART:20250309T100000
END:DAYLIGHT
BEGIN:STANDARD
TZOFFSETFROM:-0700
TZOFFSETTO:-0800
TZNAME:PST
DTSTART:20251102T090000
END:STANDARD
END:VTIMEZONE
BEGIN:VEVENT
DTSTART;TZID=America/Los_Angeles:20240206T080000
DTEND;TZID=America/Los_Angeles:20240206T110000
DTSTAMP:20260425T033432
CREATED:20230714T191717Z
LAST-MODIFIED:20230714T191717Z
UID:10006893-1707206400-1707217200@driveshops.com
SUMMARY:Collision - Controlling The Front 3/5
DESCRIPTION:
URL:https://driveshops.com/events/collision-controlling-the-front-3-5-5/
LOCATION:Online
CATEGORIES:Collision - Controlling The Front,Workshop
ATTACH;FMTTYPE=image/png:https://driveshops.com/wp-content/uploads/2019/04/screen-shot-2019-05-21-at-10.29.28-am-e1558471305153.png
END:VEVENT
BEGIN:VEVENT
DTSTART;TZID=America/Los_Angeles:20240206T080000
DTEND;TZID=America/Los_Angeles:20240206T110000
DTSTAMP:20260425T033432
CREATED:20230714T211351Z
LAST-MODIFIED:20230714T211351Z
UID:10006918-1707206400-1707217200@driveshops.com
SUMMARY:How to Increase Your Profits 1/4
DESCRIPTION:
URL:https://driveshops.com/events/how-to-increase-your-profits-1-4-8/
LOCATION:Online
CATEGORIES:How To Increase Your Profits,Workshop
ATTACH;FMTTYPE=image/png:https://driveshops.com/wp-content/uploads/2019/04/screen-shot-2019-05-21-at-10.25.56-am-e1558471321731.png
END:VEVENT
BEGIN:VEVENT
DTSTART;TZID=America/Los_Angeles:20240206T080000
DTEND;TZID=America/Los_Angeles:20240206T110000
DTSTAMP:20260425T033432
CREATED:20230714T211902Z
LAST-MODIFIED:20230714T211902Z
UID:10006922-1707206400-1707217200@driveshops.com
SUMMARY:Mastering Social Media 1/3
DESCRIPTION:
URL:https://driveshops.com/events/mastering-social-media-1-3-4/
LOCATION:Online
CATEGORIES:Mastering Social Media
END:VEVENT
END:VCALENDAR