BEGIN:VCALENDAR
VERSION:2.0
PRODID:-//DRIVE - ECPv6.15.18//NONSGML v1.0//EN
CALSCALE:GREGORIAN
METHOD:PUBLISH
X-WR-CALNAME:DRIVE
X-ORIGINAL-URL:https://driveshops.com
X-WR-CALDESC:Events for DRIVE
REFRESH-INTERVAL;VALUE=DURATION:PT1H
X-Robots-Tag:noindex
X-PUBLISHED-TTL:PT1H
BEGIN:VTIMEZONE
TZID:America/Los_Angeles
BEGIN:DAYLIGHT
TZOFFSETFROM:-0800
TZOFFSETTO:-0700
TZNAME:PDT
DTSTART:20230312T100000
END:DAYLIGHT
BEGIN:STANDARD
TZOFFSETFROM:-0700
TZOFFSETTO:-0800
TZNAME:PST
DTSTART:20231105T090000
END:STANDARD
BEGIN:DAYLIGHT
TZOFFSETFROM:-0800
TZOFFSETTO:-0700
TZNAME:PDT
DTSTART:20240310T100000
END:DAYLIGHT
BEGIN:STANDARD
TZOFFSETFROM:-0700
TZOFFSETTO:-0800
TZNAME:PST
DTSTART:20241103T090000
END:STANDARD
BEGIN:DAYLIGHT
TZOFFSETFROM:-0800
TZOFFSETTO:-0700
TZNAME:PDT
DTSTART:20250309T100000
END:DAYLIGHT
BEGIN:STANDARD
TZOFFSETFROM:-0700
TZOFFSETTO:-0800
TZNAME:PST
DTSTART:20251102T090000
END:STANDARD
END:VTIMEZONE
BEGIN:VEVENT
DTSTART;TZID=America/Los_Angeles:20240214T080000
DTEND;TZID=America/Los_Angeles:20240214T110000
DTSTAMP:20260425T033428
CREATED:20230714T192343Z
LAST-MODIFIED:20230714T192343Z
UID:10006900-1707897600-1707908400@driveshops.com
SUMMARY:Controlling The Front 5/5
DESCRIPTION:
URL:https://driveshops.com/events/controlling-the-front-5-5-11/
LOCATION:Online
CATEGORIES:Controlling The Front,Workshop
ATTACH;FMTTYPE=image/png:https://driveshops.com/wp-content/uploads/2019/04/screen-shot-2019-05-21-at-10.21.47-am-e1558471774230.png
END:VEVENT
BEGIN:VEVENT
DTSTART;TZID=America/Los_Angeles:20240214T080000
DTEND;TZID=America/Los_Angeles:20240214T110000
DTSTAMP:20260425T033428
CREATED:20230714T202823Z
LAST-MODIFIED:20230714T202823Z
UID:10006905-1707897600-1707908400@driveshops.com
SUMMARY:Getting Your Point Across 5/6
DESCRIPTION:
URL:https://driveshops.com/events/getting-your-point-across-5-6-2/
LOCATION:Online
CATEGORIES:Getting Your Point Across,Workshop
ORGANIZER;CN="Tony Wisler":MAILTO:scheduling@driveshops.com
END:VEVENT
BEGIN:VEVENT
DTSTART;TZID=America/Los_Angeles:20240214T080000
DTEND;TZID=America/Los_Angeles:20240214T110000
DTSTAMP:20260425T033428
CREATED:20230714T203341Z
LAST-MODIFIED:20231214T162525Z
UID:10006911-1707897600-1707908400@driveshops.com
SUMMARY:Succession & Exit Planning 5/5
DESCRIPTION:
URL:https://driveshops.com/events/succession-exit-planning-5-6-7/
LOCATION:Online
CATEGORIES:Succession & Exit Planning,Workshop
ATTACH;FMTTYPE=image/png:https://driveshops.com/wp-content/uploads/2019/04/screen-shot-2019-05-21-at-10.36.20-am-e1558471267564.png
END:VEVENT
BEGIN:VEVENT
DTSTART;TZID=America/Los_Angeles:20240214T080000
DTEND;TZID=America/Los_Angeles:20240214T110000
DTSTAMP:20260425T033428
CREATED:20230714T210525Z
LAST-MODIFIED:20230714T210525Z
UID:10006916-1707897600-1707908400@driveshops.com
SUMMARY:How to Read and Understand Financial Statements 5/6
DESCRIPTION:
URL:https://driveshops.com/events/how-to-read-and-understand-financial-statements-5-6/
LOCATION:Online
CATEGORIES:How to Read and Use Financial Statements,Workshop
ATTACH;FMTTYPE=image/png:https://driveshops.com/wp-content/uploads/2019/04/screen-shot-2019-05-21-at-10.36.20-am-e1558471267564.png
END:VEVENT
END:VCALENDAR