BEGIN:VCALENDAR
VERSION:2.0
PRODID:-//DRIVE - ECPv6.15.18//NONSGML v1.0//EN
CALSCALE:GREGORIAN
METHOD:PUBLISH
X-WR-CALNAME:DRIVE
X-ORIGINAL-URL:https://driveshops.com
X-WR-CALDESC:Events for DRIVE
REFRESH-INTERVAL;VALUE=DURATION:PT1H
X-Robots-Tag:noindex
X-PUBLISHED-TTL:PT1H
BEGIN:VTIMEZONE
TZID:America/Los_Angeles
BEGIN:DAYLIGHT
TZOFFSETFROM:-0800
TZOFFSETTO:-0700
TZNAME:PDT
DTSTART:20240310T100000
END:DAYLIGHT
BEGIN:STANDARD
TZOFFSETFROM:-0700
TZOFFSETTO:-0800
TZNAME:PST
DTSTART:20241103T090000
END:STANDARD
BEGIN:DAYLIGHT
TZOFFSETFROM:-0800
TZOFFSETTO:-0700
TZNAME:PDT
DTSTART:20250309T100000
END:DAYLIGHT
BEGIN:STANDARD
TZOFFSETFROM:-0700
TZOFFSETTO:-0800
TZNAME:PST
DTSTART:20251102T090000
END:STANDARD
BEGIN:DAYLIGHT
TZOFFSETFROM:-0800
TZOFFSETTO:-0700
TZNAME:PDT
DTSTART:20260308T100000
END:DAYLIGHT
BEGIN:STANDARD
TZOFFSETFROM:-0700
TZOFFSETTO:-0800
TZNAME:PST
DTSTART:20261101T090000
END:STANDARD
END:VTIMEZONE
BEGIN:VTIMEZONE
TZID:UTC
BEGIN:STANDARD
TZOFFSETFROM:+0000
TZOFFSETTO:+0000
TZNAME:UTC
DTSTART:20240101T000000
END:STANDARD
END:VTIMEZONE
BEGIN:VEVENT
DTSTART;TZID=America/Los_Angeles:20250717T080000
DTEND;TZID=America/Los_Angeles:20250717T110000
DTSTAMP:20260424T004921
CREATED:20250318T205055Z
LAST-MODIFIED:20250318T205055Z
UID:10007532-1752739200-1752750000@driveshops.com
SUMMARY:Managing an Effective Bookkeeping Area Day 3 of 6
DESCRIPTION:
URL:https://driveshops.com/events/managing-an-effective-bookkeeping-area-day-3-of-6-3/
LOCATION:Online
CATEGORIES:Managing an Effective Bookkeeping Area,Workshop
END:VEVENT
BEGIN:VEVENT
DTSTART;TZID=America/Los_Angeles:20250717T080000
DTEND;TZID=America/Los_Angeles:20250717T110000
DTSTAMP:20260424T004921
CREATED:20250319T183001Z
LAST-MODIFIED:20250319T183001Z
UID:10007567-1752739200-1752750000@driveshops.com
SUMMARY:Essentials of Shop Management Day 3 of 6
DESCRIPTION:
URL:https://driveshops.com/events/essentials-of-shop-management-day-3-of-6-8/
LOCATION:Online
CATEGORIES:Essentials of Shop Management,Workshop
ATTACH;FMTTYPE=image/png:https://driveshops.com/wp-content/uploads/2019/04/screen-shot-2019-05-21-at-10.17.01-am-e1558471790866.png
END:VEVENT
BEGIN:VEVENT
DTSTART;TZID=UTC:20250717T080000
DTEND;TZID=UTC:20250717T110000
DTSTAMP:20260424T004921
CREATED:20250319T184316Z
LAST-MODIFIED:20250319T184316Z
UID:10007594-1752739200-1752750000@driveshops.com
SUMMARY:Professional Service Advisor Sales Day 6 of 6
DESCRIPTION:
URL:https://driveshops.com/events/professional-service-advisor-sales-day-6-of-6-7/
LOCATION:Online
CATEGORIES:Professional Service Advisor Sales,Workshop
ATTACH;FMTTYPE=image/png:https://driveshops.com/wp-content/uploads/2019/04/screen-shot-2019-05-21-at-10.14.39-am-e1558470540769.png
END:VEVENT
BEGIN:VEVENT
DTSTART;TZID=America/Los_Angeles:20250717T080000
DTEND;TZID=America/Los_Angeles:20250717T110000
DTSTAMP:20260424T004921
CREATED:20250319T185447Z
LAST-MODIFIED:20250319T185447Z
UID:10007609-1752739200-1752750000@driveshops.com
SUMMARY:Building Your Dream Team Day 3 of 5
DESCRIPTION:
URL:https://driveshops.com/events/building-your-dream-team-day-3-of-5-4/
LOCATION:Online
CATEGORIES:Building Your Dream Team
ATTACH;FMTTYPE=image/png:https://driveshops.com/wp-content/uploads/2019/03/screen-shot-2019-05-20-at-12.10.22-pm-e1558471852915.png
END:VEVENT
BEGIN:VEVENT
DTSTART;TZID=America/Los_Angeles:20250717T080000
DTEND;TZID=America/Los_Angeles:20250717T110000
DTSTAMP:20260424T004921
CREATED:20250320T121001Z
LAST-MODIFIED:20250320T121001Z
UID:10007655-1752739200-1752750000@driveshops.com
SUMMARY:Planning For Success Day 3 of 5
DESCRIPTION:
URL:https://driveshops.com/events/planning-for-success-day-3-of-5-6/
LOCATION:Online
CATEGORIES:Planning for Success,Workshop
ATTACH;FMTTYPE=image/png:https://driveshops.com/wp-content/uploads/2019/04/screen-shot-2019-05-21-at-10.44.40-am-e1558471214538.png
END:VEVENT
BEGIN:VEVENT
DTSTART;TZID=America/Los_Angeles:20250717T080000
DTEND;TZID=America/Los_Angeles:20250717T110000
DTSTAMP:20260424T004921
CREATED:20250320T133025Z
LAST-MODIFIED:20250320T133025Z
UID:10007689-1752739200-1752750000@driveshops.com
SUMMARY:Marketing Your Shop Day 2 of 4
DESCRIPTION:
URL:https://driveshops.com/events/marketing-your-shop-day-2-of-4-2/
LOCATION:Online
CATEGORIES:Marketing Your Shop
END:VEVENT
END:VCALENDAR