BEGIN:VCALENDAR
VERSION:2.0
PRODID:-//DRIVE - ECPv6.15.18//NONSGML v1.0//EN
CALSCALE:GREGORIAN
METHOD:PUBLISH
X-ORIGINAL-URL:https://driveshops.com
X-WR-CALDESC:Events for DRIVE
REFRESH-INTERVAL;VALUE=DURATION:PT1H
X-Robots-Tag:noindex
X-PUBLISHED-TTL:PT1H
BEGIN:VTIMEZONE
TZID:America/Los_Angeles
BEGIN:DAYLIGHT
TZOFFSETFROM:-0800
TZOFFSETTO:-0700
TZNAME:PDT
DTSTART:20240310T100000
END:DAYLIGHT
BEGIN:STANDARD
TZOFFSETFROM:-0700
TZOFFSETTO:-0800
TZNAME:PST
DTSTART:20241103T090000
END:STANDARD
BEGIN:DAYLIGHT
TZOFFSETFROM:-0800
TZOFFSETTO:-0700
TZNAME:PDT
DTSTART:20250309T100000
END:DAYLIGHT
BEGIN:STANDARD
TZOFFSETFROM:-0700
TZOFFSETTO:-0800
TZNAME:PST
DTSTART:20251102T090000
END:STANDARD
BEGIN:DAYLIGHT
TZOFFSETFROM:-0800
TZOFFSETTO:-0700
TZNAME:PDT
DTSTART:20260308T100000
END:DAYLIGHT
BEGIN:STANDARD
TZOFFSETFROM:-0700
TZOFFSETTO:-0800
TZNAME:PST
DTSTART:20261101T090000
END:STANDARD
END:VTIMEZONE
BEGIN:VEVENT
DTSTART;TZID=America/Los_Angeles:20250723T080000
DTEND;TZID=America/Los_Angeles:20250723T110000
DTSTAMP:20260424T005117
CREATED:20250318T205118Z
LAST-MODIFIED:20250318T205118Z
UID:10007534-1753257600-1753268400@driveshops.com
SUMMARY:Managing an Effective Bookkeeping Area Day 5 of 6
DESCRIPTION:
URL:https://driveshops.com/events/managing-an-effective-bookkeeping-area-day-5-of-6-3/
CATEGORIES:Managing an Effective Bookkeeping Area,Workshop
END:VEVENT
BEGIN:VEVENT
DTSTART;TZID=America/Los_Angeles:20250723T080000
DTEND;TZID=America/Los_Angeles:20250723T110000
DTSTAMP:20260424T005117
CREATED:20250319T183023Z
LAST-MODIFIED:20250319T183023Z
UID:10007569-1753257600-1753268400@driveshops.com
SUMMARY:Essentials of Shop Management Day 5 of 6
DESCRIPTION:
URL:https://driveshops.com/events/essentials-of-shop-management-day-5-of-6-8/
CATEGORIES:Essentials of Shop Management,Workshop
ATTACH;FMTTYPE=image/png:https://driveshops.com/wp-content/uploads/2019/04/screen-shot-2019-05-21-at-10.17.01-am-e1558471790866.png
END:VEVENT
BEGIN:VEVENT
DTSTART;TZID=America/Los_Angeles:20250723T080000
DTEND;TZID=America/Los_Angeles:20250723T110000
DTSTAMP:20260424T005117
CREATED:20250319T185514Z
LAST-MODIFIED:20250319T185514Z
UID:10007611-1753257600-1753268400@driveshops.com
SUMMARY:Building Your Dream Team Day 5 of 5
DESCRIPTION:
URL:https://driveshops.com/events/building-your-dream-team-day-5-of-5-4/
LOCATION:Online
CATEGORIES:Building Your Dream Team
ATTACH;FMTTYPE=image/png:https://driveshops.com/wp-content/uploads/2019/03/screen-shot-2019-05-20-at-12.10.22-pm-e1558471852915.png
END:VEVENT
BEGIN:VEVENT
DTSTART;TZID=America/Los_Angeles:20250723T080000
DTEND;TZID=America/Los_Angeles:20250723T110000
DTSTAMP:20260424T005117
CREATED:20250320T121031Z
LAST-MODIFIED:20250320T121031Z
UID:10007657-1753257600-1753268400@driveshops.com
SUMMARY:Planning For Success Day 5 of 5
DESCRIPTION:
URL:https://driveshops.com/events/planning-for-success-day-5-of-5-6/
LOCATION:Online
CATEGORIES:Planning for Success,Workshop
ATTACH;FMTTYPE=image/png:https://driveshops.com/wp-content/uploads/2019/04/screen-shot-2019-05-21-at-10.44.40-am-e1558471214538.png
END:VEVENT
END:VCALENDAR