BEGIN:VCALENDAR
VERSION:2.0
PRODID:-//DRIVE - ECPv6.15.18//NONSGML v1.0//EN
CALSCALE:GREGORIAN
METHOD:PUBLISH
X-ORIGINAL-URL:https://driveshops.com
X-WR-CALDESC:Events for DRIVE
REFRESH-INTERVAL;VALUE=DURATION:PT1H
X-Robots-Tag:noindex
X-PUBLISHED-TTL:PT1H
BEGIN:VTIMEZONE
TZID:America/Los_Angeles
BEGIN:DAYLIGHT
TZOFFSETFROM:-0800
TZOFFSETTO:-0700
TZNAME:PDT
DTSTART:20240310T100000
END:DAYLIGHT
BEGIN:STANDARD
TZOFFSETFROM:-0700
TZOFFSETTO:-0800
TZNAME:PST
DTSTART:20241103T090000
END:STANDARD
BEGIN:DAYLIGHT
TZOFFSETFROM:-0800
TZOFFSETTO:-0700
TZNAME:PDT
DTSTART:20250309T100000
END:DAYLIGHT
BEGIN:STANDARD
TZOFFSETFROM:-0700
TZOFFSETTO:-0800
TZNAME:PST
DTSTART:20251102T090000
END:STANDARD
BEGIN:DAYLIGHT
TZOFFSETFROM:-0800
TZOFFSETTO:-0700
TZNAME:PDT
DTSTART:20260308T100000
END:DAYLIGHT
BEGIN:STANDARD
TZOFFSETFROM:-0700
TZOFFSETTO:-0800
TZNAME:PST
DTSTART:20261101T090000
END:STANDARD
END:VTIMEZONE
BEGIN:VEVENT
DTSTART;TZID=America/Los_Angeles:20251014T080000
DTEND;TZID=America/Los_Angeles:20251014T110000
DTSTAMP:20260423T211947
CREATED:20250318T182628Z
LAST-MODIFIED:20250415T190144Z
UID:10007483-1760428800-1760439600@driveshops.com
SUMMARY:Master and Control The Front of Your Shop Day 1 of 5
DESCRIPTION:
URL:https://driveshops.com/events/controlling-the-front-day-1-of-5-6/
LOCATION:Online
CATEGORIES:Master and Control the Front of Your Shop,Workshop
ATTACH;FMTTYPE=image/png:https://driveshops.com/wp-content/uploads/2019/04/screen-shot-2019-05-21-at-10.29.28-am-e1558471305153.png
END:VEVENT
BEGIN:VEVENT
DTSTART;TZID=America/Los_Angeles:20251014T080000
DTEND;TZID=America/Los_Angeles:20251014T110000
DTSTAMP:20260423T211947
CREATED:20250318T184339Z
LAST-MODIFIED:20250318T184339Z
UID:10007497-1760428800-1760439600@driveshops.com
SUMMARY:How to Increase Your Profits Day 1 of 4
DESCRIPTION:
URL:https://driveshops.com/events/how-to-increase-your-profits-day-1-of-4-8/
LOCATION:Online
CATEGORIES:How To Increase Your Profits,Workshop
ATTACH;FMTTYPE=image/png:https://driveshops.com/wp-content/uploads/2019/04/screen-shot-2019-05-21-at-10.25.56-am-e1558471321731.png
END:VEVENT
BEGIN:VEVENT
DTSTART;TZID=America/Los_Angeles:20251014T080000
DTEND;TZID=America/Los_Angeles:20251014T110000
DTSTAMP:20260423T211947
CREATED:20250318T185505Z
LAST-MODIFIED:20250318T185505Z
UID:10007505-1760428800-1760439600@driveshops.com
SUMMARY:How to Read and Use Financial Statements Day 1 of 6
DESCRIPTION:
URL:https://driveshops.com/events/how-to-read-and-use-financial-statements-day-1-of-6-5/
LOCATION:Online
CATEGORIES:How to Read and Use Financial Statements,Workshop
END:VEVENT
BEGIN:VEVENT
DTSTART;TZID=America/Los_Angeles:20251014T080000
DTEND;TZID=America/Los_Angeles:20251014T110000
DTSTAMP:20260423T211947
CREATED:20250319T173218Z
LAST-MODIFIED:20250319T173218Z
UID:10007545-1760428800-1760439600@driveshops.com
SUMMARY:Succession & Exit Planning Day 1 of 5
DESCRIPTION:
URL:https://driveshops.com/events/succession-exit-planning-day-1-of-5-2/
LOCATION:Online
CATEGORIES:Succession & Exit Planning,Workshop
ATTACH;FMTTYPE=image/png:https://driveshops.com/wp-content/uploads/2019/04/screen-shot-2019-05-21-at-10.36.20-am-e1558471267564.png
END:VEVENT
BEGIN:VEVENT
DTSTART;TZID=America/Los_Angeles:20251014T080000
DTEND;TZID=America/Los_Angeles:20251014T110000
DTSTAMP:20260423T211947
CREATED:20250320T131753Z
LAST-MODIFIED:20250320T131753Z
UID:10007676-1760428800-1760439600@driveshops.com
SUMMARY:Essentials of Shop Management  Day 1 of 6
DESCRIPTION:
URL:https://driveshops.com/events/essentials-of-shop-management-day-1-of-6-12/
LOCATION:Online
CATEGORIES:Essentials of Shop Management,Workshop
ATTACH;FMTTYPE=image/png:https://driveshops.com/wp-content/uploads/2019/04/screen-shot-2019-05-21-at-10.17.01-am-e1558471790866.png
END:VEVENT
BEGIN:VEVENT
DTSTART;TZID=America/Los_Angeles:20251014T080000
DTEND;TZID=America/Los_Angeles:20251014T110000
DTSTAMP:20260423T211947
CREATED:20250320T132613Z
LAST-MODIFIED:20250320T132613Z
UID:10007682-1760428800-1760439600@driveshops.com
SUMMARY:Getting Your Point Across Day 1 of 6
DESCRIPTION:
URL:https://driveshops.com/events/getting-your-point-across-day-1-of-6-3/
LOCATION:Online
CATEGORIES:Getting Your Point Across,Workshop
ORGANIZER;CN="Tony Wisler":MAILTO:scheduling@driveshops.com
END:VEVENT
BEGIN:VEVENT
DTSTART;TZID=America/Los_Angeles:20251014T080000
DTEND;TZID=America/Los_Angeles:20251014T110000
DTSTAMP:20260423T211947
CREATED:20250320T133138Z
LAST-MODIFIED:20250320T133138Z
UID:10007692-1760428800-1760439600@driveshops.com
SUMMARY:Marketing Your Shop Day 1 of 4
DESCRIPTION:
URL:https://driveshops.com/events/marketing-your-shop-day-1-of-4-4/
LOCATION:Online
CATEGORIES:Marketing Your Shop
END:VEVENT
END:VCALENDAR