BEGIN:VCALENDAR
VERSION:2.0
PRODID:-//DRIVE - ECPv6.15.18//NONSGML v1.0//EN
CALSCALE:GREGORIAN
METHOD:PUBLISH
X-WR-CALNAME:DRIVE
X-ORIGINAL-URL:https://driveshops.com
X-WR-CALDESC:Events for DRIVE
REFRESH-INTERVAL;VALUE=DURATION:PT1H
X-Robots-Tag:noindex
X-PUBLISHED-TTL:PT1H
BEGIN:VTIMEZONE
TZID:America/Denver
BEGIN:DAYLIGHT
TZOFFSETFROM:-0700
TZOFFSETTO:-0600
TZNAME:MDT
DTSTART:20240310T090000
END:DAYLIGHT
BEGIN:STANDARD
TZOFFSETFROM:-0600
TZOFFSETTO:-0700
TZNAME:MST
DTSTART:20241103T080000
END:STANDARD
BEGIN:DAYLIGHT
TZOFFSETFROM:-0700
TZOFFSETTO:-0600
TZNAME:MDT
DTSTART:20250309T090000
END:DAYLIGHT
BEGIN:STANDARD
TZOFFSETFROM:-0600
TZOFFSETTO:-0700
TZNAME:MST
DTSTART:20251102T080000
END:STANDARD
BEGIN:DAYLIGHT
TZOFFSETFROM:-0700
TZOFFSETTO:-0600
TZNAME:MDT
DTSTART:20260308T090000
END:DAYLIGHT
BEGIN:STANDARD
TZOFFSETFROM:-0600
TZOFFSETTO:-0700
TZNAME:MST
DTSTART:20261101T080000
END:STANDARD
END:VTIMEZONE
BEGIN:VEVENT
DTSTART;TZID=America/Denver:20250310T080000
DTEND;TZID=America/Denver:20250310T110000
DTSTAMP:20260424T093251
CREATED:20250124T181350Z
LAST-MODIFIED:20250124T181350Z
UID:10007366-1741593600-1741604400@driveshops.com
SUMMARY:Developing Shop Playbooks Day 1 of 5
DESCRIPTION:
URL:https://driveshops.com/events/developing-shop-playbooks-day-1-of-5-4/
LOCATION:Online
CATEGORIES:Developing Shop Playbooks,Workshop
ATTACH;FMTTYPE=image/png:https://driveshops.com/wp-content/uploads/2019/09/screen-shot-2019-09-04-at-11.16.56-am.png
END:VEVENT
BEGIN:VEVENT
DTSTART;TZID=America/Denver:20250312T080000
DTEND;TZID=America/Denver:20250312T110000
DTSTAMP:20260424T093251
CREATED:20250124T181403Z
LAST-MODIFIED:20250124T181403Z
UID:10007367-1741766400-1741777200@driveshops.com
SUMMARY:Developing Shop Playbooks Day 2 of 5
DESCRIPTION:
URL:https://driveshops.com/events/developing-shop-playbooks-day-2-of-5-4/
LOCATION:Online
CATEGORIES:Developing Shop Playbooks,Workshop
ATTACH;FMTTYPE=image/png:https://driveshops.com/wp-content/uploads/2019/09/screen-shot-2019-09-04-at-11.16.56-am.png
END:VEVENT
BEGIN:VEVENT
DTSTART;TZID=America/Denver:20250314T080000
DTEND;TZID=America/Denver:20250314T110000
DTSTAMP:20260424T093251
CREATED:20250124T181413Z
LAST-MODIFIED:20250124T181413Z
UID:10007368-1741939200-1741950000@driveshops.com
SUMMARY:Developing Shop Playbooks Day 3 of 5
DESCRIPTION:
URL:https://driveshops.com/events/developing-shop-playbooks-day-3-of-5-4/
LOCATION:Online
CATEGORIES:Developing Shop Playbooks,Workshop
ATTACH;FMTTYPE=image/png:https://driveshops.com/wp-content/uploads/2019/09/screen-shot-2019-09-04-at-11.16.56-am.png
END:VEVENT
BEGIN:VEVENT
DTSTART;TZID=America/Denver:20250317T080000
DTEND;TZID=America/Denver:20250317T110000
DTSTAMP:20260424T093251
CREATED:20250124T181442Z
LAST-MODIFIED:20250124T181442Z
UID:10007369-1742198400-1742209200@driveshops.com
SUMMARY:Developing Shop Playbooks Day 4 of 5
DESCRIPTION:
URL:https://driveshops.com/events/developing-shop-playbooks-day-4-of-5-4/
LOCATION:Online
CATEGORIES:Developing Shop Playbooks,Workshop
ATTACH;FMTTYPE=image/png:https://driveshops.com/wp-content/uploads/2019/09/screen-shot-2019-09-04-at-11.16.56-am.png
END:VEVENT
BEGIN:VEVENT
DTSTART;TZID=America/Denver:20250319T080000
DTEND;TZID=America/Denver:20250319T110000
DTSTAMP:20260424T093251
CREATED:20250124T181455Z
LAST-MODIFIED:20250124T181455Z
UID:10007370-1742371200-1742382000@driveshops.com
SUMMARY:Developing Shop Playbooks Day 5 of 5
DESCRIPTION:
URL:https://driveshops.com/events/developing-shop-playbooks-day-5-of-5-4/
LOCATION:Online
CATEGORIES:Developing Shop Playbooks,Workshop
ATTACH;FMTTYPE=image/png:https://driveshops.com/wp-content/uploads/2019/09/screen-shot-2019-09-04-at-11.16.56-am.png
END:VEVENT
END:VCALENDAR