BEGIN:VCALENDAR
VERSION:2.0
PRODID:-//DRIVE - ECPv6.15.18//NONSGML v1.0//EN
CALSCALE:GREGORIAN
METHOD:PUBLISH
X-ORIGINAL-URL:https://driveshops.com
X-WR-CALDESC:Events for DRIVE
REFRESH-INTERVAL;VALUE=DURATION:PT1H
X-Robots-Tag:noindex
X-PUBLISHED-TTL:PT1H
BEGIN:VTIMEZONE
TZID:America/Denver
BEGIN:DAYLIGHT
TZOFFSETFROM:-0700
TZOFFSETTO:-0600
TZNAME:MDT
DTSTART:20240310T090000
END:DAYLIGHT
BEGIN:STANDARD
TZOFFSETFROM:-0600
TZOFFSETTO:-0700
TZNAME:MST
DTSTART:20241103T080000
END:STANDARD
BEGIN:DAYLIGHT
TZOFFSETFROM:-0700
TZOFFSETTO:-0600
TZNAME:MDT
DTSTART:20250309T090000
END:DAYLIGHT
BEGIN:STANDARD
TZOFFSETFROM:-0600
TZOFFSETTO:-0700
TZNAME:MST
DTSTART:20251102T080000
END:STANDARD
BEGIN:DAYLIGHT
TZOFFSETFROM:-0700
TZOFFSETTO:-0600
TZNAME:MDT
DTSTART:20260308T090000
END:DAYLIGHT
BEGIN:STANDARD
TZOFFSETFROM:-0600
TZOFFSETTO:-0700
TZNAME:MST
DTSTART:20261101T080000
END:STANDARD
END:VTIMEZONE
BEGIN:VEVENT
DTSTART;TZID=America/Denver:20250610T080000
DTEND;TZID=America/Denver:20250610T110000
DTSTAMP:20260424T042828
CREATED:20250127T175724Z
LAST-MODIFIED:20250417T174037Z
UID:10007464-1749542400-1749553200@driveshops.com
SUMMARY:Developing Shop Playbooks Day 1 of 5
DESCRIPTION:
URL:https://driveshops.com/events/developing-shop-playbooks-day-1-of-5-5/
LOCATION:Online
CATEGORIES:Developing Shop Playbooks,Workshop
END:VEVENT
BEGIN:VEVENT
DTSTART;TZID=America/Denver:20250611T080000
DTEND;TZID=America/Denver:20250611T110000
DTSTAMP:20260424T042828
CREATED:20250127T175736Z
LAST-MODIFIED:20250417T174046Z
UID:10007465-1749628800-1749639600@driveshops.com
SUMMARY:Developing Shop Playbooks Day 2 of 5
DESCRIPTION:
URL:https://driveshops.com/events/developing-shop-playbooks-day-2-of-5-5/
LOCATION:Online
CATEGORIES:Developing Shop Playbooks,Workshop
END:VEVENT
BEGIN:VEVENT
DTSTART;TZID=America/Denver:20250612T080000
DTEND;TZID=America/Denver:20250612T110000
DTSTAMP:20260424T042828
CREATED:20250127T175752Z
LAST-MODIFIED:20250417T174055Z
UID:10007466-1749715200-1749726000@driveshops.com
SUMMARY:Developing Shop Playbooks Day 3 of 5
DESCRIPTION:
URL:https://driveshops.com/events/developing-shop-playbooks-day-3-of-5-5/
LOCATION:Online
CATEGORIES:Developing Shop Playbooks,Workshop
END:VEVENT
BEGIN:VEVENT
DTSTART;TZID=America/Denver:20250617T080000
DTEND;TZID=America/Denver:20250617T110000
DTSTAMP:20260424T042828
CREATED:20250127T175821Z
LAST-MODIFIED:20250417T174104Z
UID:10007467-1750147200-1750158000@driveshops.com
SUMMARY:Developing Shop Playbooks Day 4 of 5
DESCRIPTION:
URL:https://driveshops.com/events/developing-shop-playbooks-day-4-of-5-5/
LOCATION:Online
CATEGORIES:Developing Shop Playbooks,Workshop
END:VEVENT
BEGIN:VEVENT
DTSTART;TZID=America/Denver:20250618T080000
DTEND;TZID=America/Denver:20250618T110000
DTSTAMP:20260424T042828
CREATED:20250127T175845Z
LAST-MODIFIED:20250417T174114Z
UID:10007468-1750233600-1750244400@driveshops.com
SUMMARY:Developing Shop Playbooks Day 5 of 5
DESCRIPTION:
URL:https://driveshops.com/events/developing-shop-playbooks-day-5-of-5-5/
LOCATION:Online
CATEGORIES:Developing Shop Playbooks,Workshop
END:VEVENT
END:VCALENDAR