BEGIN:VCALENDAR
VERSION:2.0
PRODID:-//DRIVE - ECPv6.15.18//NONSGML v1.0//EN
CALSCALE:GREGORIAN
METHOD:PUBLISH
X-WR-CALNAME:DRIVE
X-ORIGINAL-URL:https://driveshops.com
X-WR-CALDESC:Events for DRIVE
REFRESH-INTERVAL;VALUE=DURATION:PT1H
X-Robots-Tag:noindex
X-PUBLISHED-TTL:PT1H
BEGIN:VTIMEZONE
TZID:UTC
BEGIN:STANDARD
TZOFFSETFROM:+0000
TZOFFSETTO:+0000
TZNAME:UTC
DTSTART:20220101T000000
END:STANDARD
END:VTIMEZONE
BEGIN:VEVENT
DTSTART;TZID=UTC:20230206T080000
DTEND;TZID=UTC:20230206T110000
DTSTAMP:20260425T192312
CREATED:20221220T183927Z
LAST-MODIFIED:20221220T183927Z
UID:10004215-1675670400-1675681200@driveshops.com
SUMMARY:Essentials of Shop Management 1/6
DESCRIPTION:
URL:https://driveshops.com/events/essentials-of-shop-management-1-6-20/
LOCATION:Online
CATEGORIES:Essentials of Shop Management,Workshop
ATTACH;FMTTYPE=image/png:https://driveshops.com/wp-content/uploads/2019/04/screen-shot-2019-05-21-at-10.17.01-am-e1558471790866.png
END:VEVENT
BEGIN:VEVENT
DTSTART;TZID=UTC:20230208T080000
DTEND;TZID=UTC:20230208T110000
DTSTAMP:20260425T192312
CREATED:20221220T183937Z
LAST-MODIFIED:20221220T183937Z
UID:10004216-1675843200-1675854000@driveshops.com
SUMMARY:Essentials of Shop Management 2/6
DESCRIPTION:
URL:https://driveshops.com/events/essentials-of-shop-management-2-6-21/
LOCATION:Online
CATEGORIES:Essentials of Shop Management,Workshop
ATTACH;FMTTYPE=image/png:https://driveshops.com/wp-content/uploads/2019/04/screen-shot-2019-05-21-at-10.17.01-am-e1558471790866.png
END:VEVENT
BEGIN:VEVENT
DTSTART;TZID=UTC:20230210T080000
DTEND;TZID=UTC:20230210T110000
DTSTAMP:20260425T192312
CREATED:20221220T183943Z
LAST-MODIFIED:20221220T183943Z
UID:10004217-1676016000-1676026800@driveshops.com
SUMMARY:Essentials of Shop Management 3/6
DESCRIPTION:
URL:https://driveshops.com/events/essentials-of-shop-management-3-6-21/
LOCATION:Online
CATEGORIES:Essentials of Shop Management,Workshop
ATTACH;FMTTYPE=image/png:https://driveshops.com/wp-content/uploads/2019/04/screen-shot-2019-05-21-at-10.17.01-am-e1558471790866.png
END:VEVENT
BEGIN:VEVENT
DTSTART;TZID=UTC:20230213T080000
DTEND;TZID=UTC:20230213T110000
DTSTAMP:20260425T192312
CREATED:20221220T184025Z
LAST-MODIFIED:20221220T184025Z
UID:10004220-1676275200-1676286000@driveshops.com
SUMMARY:Essentials of Shop Management 4/6
DESCRIPTION:
URL:https://driveshops.com/events/essentials-of-shop-management-4-6-21/
LOCATION:Online
CATEGORIES:Essentials of Shop Management,Workshop
ATTACH;FMTTYPE=image/png:https://driveshops.com/wp-content/uploads/2019/04/screen-shot-2019-05-21-at-10.17.01-am-e1558471790866.png
END:VEVENT
BEGIN:VEVENT
DTSTART;TZID=UTC:20230215T080000
DTEND;TZID=UTC:20230215T110000
DTSTAMP:20260425T192312
CREATED:20221220T184013Z
LAST-MODIFIED:20221220T184013Z
UID:10004219-1676448000-1676458800@driveshops.com
SUMMARY:Essentials of Shop Management 5/6
DESCRIPTION:
URL:https://driveshops.com/events/essentials-of-shop-management-5-6-21/
LOCATION:Online
CATEGORIES:Essentials of Shop Management,Workshop
ATTACH;FMTTYPE=image/png:https://driveshops.com/wp-content/uploads/2019/04/screen-shot-2019-05-21-at-10.17.01-am-e1558471790866.png
END:VEVENT
BEGIN:VEVENT
DTSTART;TZID=UTC:20230217T080000
DTEND;TZID=UTC:20230217T110000
DTSTAMP:20260425T192312
CREATED:20221220T184003Z
LAST-MODIFIED:20221220T184003Z
UID:10004218-1676620800-1676631600@driveshops.com
SUMMARY:Essentials of Shop Management 6/6
DESCRIPTION:
URL:https://driveshops.com/events/essentials-of-shop-management-6-6-22/
LOCATION:Online
CATEGORIES:Essentials of Shop Management,Workshop
ATTACH;FMTTYPE=image/png:https://driveshops.com/wp-content/uploads/2019/04/screen-shot-2019-05-21-at-10.17.01-am-e1558471790866.png
END:VEVENT
END:VCALENDAR