BEGIN:VCALENDAR
VERSION:2.0
PRODID:-//DRIVE - ECPv6.15.18//NONSGML v1.0//EN
CALSCALE:GREGORIAN
METHOD:PUBLISH
X-ORIGINAL-URL:https://driveshops.com
X-WR-CALDESC:Events for DRIVE
REFRESH-INTERVAL;VALUE=DURATION:PT1H
X-Robots-Tag:noindex
X-PUBLISHED-TTL:PT1H
BEGIN:VTIMEZONE
TZID:UTC
BEGIN:STANDARD
TZOFFSETFROM:+0000
TZOFFSETTO:+0000
TZNAME:UTC
DTSTART:20220101T000000
END:STANDARD
END:VTIMEZONE
BEGIN:VEVENT
DTSTART;TZID=UTC:20230417T080000
DTEND;TZID=UTC:20230417T110000
DTSTAMP:20260425T163924
CREATED:20221221T144602Z
LAST-MODIFIED:20221221T144602Z
UID:10003900-1681718400-1681729200@driveshops.com
SUMMARY:Essentials of Shop Management 1/6
DESCRIPTION:
URL:https://driveshops.com/events/essentials-of-shop-management-1-6-21/
LOCATION:Online
CATEGORIES:Essentials of Shop Management,Workshop
ATTACH;FMTTYPE=image/png:https://driveshops.com/wp-content/uploads/2019/04/screen-shot-2019-05-21-at-10.17.01-am-e1558471790866.png
END:VEVENT
BEGIN:VEVENT
DTSTART;TZID=UTC:20230419T080000
DTEND;TZID=UTC:20230419T110000
DTSTAMP:20260425T163924
CREATED:20221221T144640Z
LAST-MODIFIED:20221221T144640Z
UID:10003901-1681891200-1681902000@driveshops.com
SUMMARY:Essentials of Shop Management 2/6
DESCRIPTION:
URL:https://driveshops.com/events/essentials-of-shop-management-2-6-22/
LOCATION:Online
CATEGORIES:Essentials of Shop Management,Workshop
ATTACH;FMTTYPE=image/png:https://driveshops.com/wp-content/uploads/2019/04/screen-shot-2019-05-21-at-10.17.01-am-e1558471790866.png
END:VEVENT
BEGIN:VEVENT
DTSTART;TZID=UTC:20230421T080000
DTEND;TZID=UTC:20230421T110000
DTSTAMP:20260425T163924
CREATED:20221221T144708Z
LAST-MODIFIED:20221221T144708Z
UID:10003903-1682064000-1682074800@driveshops.com
SUMMARY:Essentials of Shop Management 3/6
DESCRIPTION:
URL:https://driveshops.com/events/essentials-of-shop-management-3-6-22/
LOCATION:Online
CATEGORIES:Essentials of Shop Management,Workshop
ATTACH;FMTTYPE=image/png:https://driveshops.com/wp-content/uploads/2019/04/screen-shot-2019-05-21-at-10.17.01-am-e1558471790866.png
END:VEVENT
BEGIN:VEVENT
DTSTART;TZID=UTC:20230424T080000
DTEND;TZID=UTC:20230424T110000
DTSTAMP:20260425T163924
CREATED:20221221T144717Z
LAST-MODIFIED:20221221T144717Z
UID:10004255-1682323200-1682334000@driveshops.com
SUMMARY:Essentials of Shop Management 4/6
DESCRIPTION:
URL:https://driveshops.com/events/essentials-of-shop-management-4-6-22/
LOCATION:Online
CATEGORIES:Essentials of Shop Management,Workshop
ATTACH;FMTTYPE=image/png:https://driveshops.com/wp-content/uploads/2019/04/screen-shot-2019-05-21-at-10.17.01-am-e1558471790866.png
END:VEVENT
BEGIN:VEVENT
DTSTART;TZID=UTC:20230426T080000
DTEND;TZID=UTC:20230426T110000
DTSTAMP:20260425T163924
CREATED:20221221T144728Z
LAST-MODIFIED:20221221T144728Z
UID:10004256-1682496000-1682506800@driveshops.com
SUMMARY:Essentials of Shop Management 5/6
DESCRIPTION:
URL:https://driveshops.com/events/essentials-of-shop-management-5-6-22/
LOCATION:Online
CATEGORIES:Essentials of Shop Management,Workshop
ATTACH;FMTTYPE=image/png:https://driveshops.com/wp-content/uploads/2019/04/screen-shot-2019-05-21-at-10.17.01-am-e1558471790866.png
END:VEVENT
BEGIN:VEVENT
DTSTART;TZID=UTC:20230428T080000
DTEND;TZID=UTC:20230428T110000
DTSTAMP:20260425T163924
CREATED:20221221T144736Z
LAST-MODIFIED:20221221T144736Z
UID:10004257-1682668800-1682679600@driveshops.com
SUMMARY:Essentials of Shop Management 6/6
DESCRIPTION:
URL:https://driveshops.com/events/essentials-of-shop-management-6-6-23/
LOCATION:Online
CATEGORIES:Essentials of Shop Management,Workshop
ATTACH;FMTTYPE=image/png:https://driveshops.com/wp-content/uploads/2019/04/screen-shot-2019-05-21-at-10.17.01-am-e1558471790866.png
END:VEVENT
END:VCALENDAR