BEGIN:VCALENDAR
VERSION:2.0
PRODID:-//DRIVE - ECPv6.15.18//NONSGML v1.0//EN
CALSCALE:GREGORIAN
METHOD:PUBLISH
X-ORIGINAL-URL:https://driveshops.com
X-WR-CALDESC:Events for DRIVE
REFRESH-INTERVAL;VALUE=DURATION:PT1H
X-Robots-Tag:noindex
X-PUBLISHED-TTL:PT1H
BEGIN:VTIMEZONE
TZID:America/Los_Angeles
BEGIN:DAYLIGHT
TZOFFSETFROM:-0800
TZOFFSETTO:-0700
TZNAME:PDT
DTSTART:20230312T100000
END:DAYLIGHT
BEGIN:STANDARD
TZOFFSETFROM:-0700
TZOFFSETTO:-0800
TZNAME:PST
DTSTART:20231105T090000
END:STANDARD
BEGIN:DAYLIGHT
TZOFFSETFROM:-0800
TZOFFSETTO:-0700
TZNAME:PDT
DTSTART:20240310T100000
END:DAYLIGHT
BEGIN:STANDARD
TZOFFSETFROM:-0700
TZOFFSETTO:-0800
TZNAME:PST
DTSTART:20241103T090000
END:STANDARD
BEGIN:DAYLIGHT
TZOFFSETFROM:-0800
TZOFFSETTO:-0700
TZNAME:PDT
DTSTART:20250309T100000
END:DAYLIGHT
BEGIN:STANDARD
TZOFFSETFROM:-0700
TZOFFSETTO:-0800
TZNAME:PST
DTSTART:20251102T090000
END:STANDARD
END:VTIMEZONE
BEGIN:VEVENT
DTSTART;TZID=America/Los_Angeles:20241007T080000
DTEND;TZID=America/Los_Angeles:20241007T110000
DTSTAMP:20260424T144447
CREATED:20240425T161858Z
LAST-MODIFIED:20240425T161858Z
UID:10007081-1728288000-1728298800@driveshops.com
SUMMARY:Essentials of Shop Management  Day 1 of 6
DESCRIPTION:
URL:https://driveshops.com/events/essentials-of-shop-management-day-1-of-6-3/
LOCATION:Online
CATEGORIES:Essentials of Shop Management,Workshop
ATTACH;FMTTYPE=image/png:https://driveshops.com/wp-content/uploads/2019/04/screen-shot-2019-05-21-at-10.17.01-am-e1558471790866.png
END:VEVENT
BEGIN:VEVENT
DTSTART;TZID=America/Los_Angeles:20241009T080000
DTEND;TZID=America/Los_Angeles:20241009T110000
DTSTAMP:20260424T144447
CREATED:20240425T161907Z
LAST-MODIFIED:20240425T161907Z
UID:10007082-1728460800-1728471600@driveshops.com
SUMMARY:Essentials of Shop Management Day 2 of 6
DESCRIPTION:
URL:https://driveshops.com/events/essentials-of-shop-management-day-2-of-6-3/
LOCATION:Online
CATEGORIES:Essentials of Shop Management,Workshop
ATTACH;FMTTYPE=image/png:https://driveshops.com/wp-content/uploads/2019/04/screen-shot-2019-05-21-at-10.17.01-am-e1558471790866.png
END:VEVENT
BEGIN:VEVENT
DTSTART;TZID=America/Los_Angeles:20241011T080000
DTEND;TZID=America/Los_Angeles:20241011T110000
DTSTAMP:20260424T144447
CREATED:20240425T161917Z
LAST-MODIFIED:20240425T161917Z
UID:10007083-1728633600-1728644400@driveshops.com
SUMMARY:Essentials of Shop Management Day 3 of 6
DESCRIPTION:
URL:https://driveshops.com/events/essentials-of-shop-management-day-3-of-6-3/
LOCATION:Online
CATEGORIES:Essentials of Shop Management,Workshop
ATTACH;FMTTYPE=image/png:https://driveshops.com/wp-content/uploads/2019/04/screen-shot-2019-05-21-at-10.17.01-am-e1558471790866.png
END:VEVENT
BEGIN:VEVENT
DTSTART;TZID=America/Los_Angeles:20241014T080000
DTEND;TZID=America/Los_Angeles:20241014T110000
DTSTAMP:20260424T144447
CREATED:20240425T161928Z
LAST-MODIFIED:20240425T161928Z
UID:10007084-1728892800-1728903600@driveshops.com
SUMMARY:Essentials of Shop Management Day 4 of 6
DESCRIPTION:
URL:https://driveshops.com/events/essentials-of-shop-management-day-4-of-6-3/
LOCATION:Online
CATEGORIES:Essentials of Shop Management,Workshop
ATTACH;FMTTYPE=image/png:https://driveshops.com/wp-content/uploads/2019/04/screen-shot-2019-05-21-at-10.17.01-am-e1558471790866.png
END:VEVENT
BEGIN:VEVENT
DTSTART;TZID=America/Los_Angeles:20241016T080000
DTEND;TZID=America/Los_Angeles:20241016T110000
DTSTAMP:20260424T144447
CREATED:20240425T161938Z
LAST-MODIFIED:20240425T161938Z
UID:10007085-1729065600-1729076400@driveshops.com
SUMMARY:Essentials of Shop Management Day 5 of 6
DESCRIPTION:
URL:https://driveshops.com/events/essentials-of-shop-management-day-5-of-6-3/
CATEGORIES:Essentials of Shop Management,Workshop
ATTACH;FMTTYPE=image/png:https://driveshops.com/wp-content/uploads/2019/04/screen-shot-2019-05-21-at-10.17.01-am-e1558471790866.png
END:VEVENT
BEGIN:VEVENT
DTSTART;TZID=America/Los_Angeles:20241018T080000
DTEND;TZID=America/Los_Angeles:20241018T110000
DTSTAMP:20260424T144447
CREATED:20240425T161952Z
LAST-MODIFIED:20240425T161952Z
UID:10007086-1729238400-1729249200@driveshops.com
SUMMARY:Essentials of Shop Management Day 6 of 6
DESCRIPTION:
URL:https://driveshops.com/events/essentials-of-shop-management-day-6-of-6-2/
LOCATION:Online
CATEGORIES:Essentials of Shop Management,Workshop
ATTACH;FMTTYPE=image/png:https://driveshops.com/wp-content/uploads/2019/04/screen-shot-2019-05-21-at-10.17.01-am-e1558471790866.png
END:VEVENT
END:VCALENDAR