BEGIN:VCALENDAR
VERSION:2.0
PRODID:-//DRIVE - ECPv6.15.18//NONSGML v1.0//EN
CALSCALE:GREGORIAN
METHOD:PUBLISH
X-ORIGINAL-URL:https://driveshops.com
X-WR-CALDESC:Events for DRIVE
REFRESH-INTERVAL;VALUE=DURATION:PT1H
X-Robots-Tag:noindex
X-PUBLISHED-TTL:PT1H
BEGIN:VTIMEZONE
TZID:America/Los_Angeles
BEGIN:DAYLIGHT
TZOFFSETFROM:-0800
TZOFFSETTO:-0700
TZNAME:PDT
DTSTART:20250309T100000
END:DAYLIGHT
BEGIN:STANDARD
TZOFFSETFROM:-0700
TZOFFSETTO:-0800
TZNAME:PST
DTSTART:20251102T090000
END:STANDARD
BEGIN:DAYLIGHT
TZOFFSETFROM:-0800
TZOFFSETTO:-0700
TZNAME:PDT
DTSTART:20260308T100000
END:DAYLIGHT
BEGIN:STANDARD
TZOFFSETFROM:-0700
TZOFFSETTO:-0800
TZNAME:PST
DTSTART:20261101T090000
END:STANDARD
BEGIN:DAYLIGHT
TZOFFSETFROM:-0800
TZOFFSETTO:-0700
TZNAME:PDT
DTSTART:20270314T100000
END:DAYLIGHT
BEGIN:STANDARD
TZOFFSETFROM:-0700
TZOFFSETTO:-0800
TZNAME:PST
DTSTART:20271107T090000
END:STANDARD
END:VTIMEZONE
BEGIN:VEVENT
DTSTART;TZID=America/Los_Angeles:20260505T080000
DTEND;TZID=America/Los_Angeles:20260505T110000
DTSTAMP:20260423T145917
CREATED:20260226T160103Z
LAST-MODIFIED:20260226T160103Z
UID:10007720-1777968000-1777978800@driveshops.com
SUMMARY:Essentials of Shop Management  Day 1 of 6
DESCRIPTION:
URL:https://driveshops.com/events/essentials-of-shop-management-day-1-of-6-17/
LOCATION:Online
CATEGORIES:Essentials of Shop Management,Workshop
ATTACH;FMTTYPE=image/png:https://driveshops.com/wp-content/uploads/2019/04/screen-shot-2019-05-21-at-10.17.01-am-e1558471790866.png
END:VEVENT
BEGIN:VEVENT
DTSTART;TZID=America/Los_Angeles:20260506T080000
DTEND;TZID=America/Los_Angeles:20260506T110000
DTSTAMP:20260423T145917
CREATED:20260226T160111Z
LAST-MODIFIED:20260226T160111Z
UID:10007721-1778054400-1778065200@driveshops.com
SUMMARY:Essentials of Shop Management  Day 2 of 6
DESCRIPTION:
URL:https://driveshops.com/events/essentials-of-shop-management-day-2-of-6-16/
LOCATION:Online
CATEGORIES:Essentials of Shop Management,Workshop
ATTACH;FMTTYPE=image/png:https://driveshops.com/wp-content/uploads/2019/04/screen-shot-2019-05-21-at-10.17.01-am-e1558471790866.png
END:VEVENT
BEGIN:VEVENT
DTSTART;TZID=America/Los_Angeles:20260507T080000
DTEND;TZID=America/Los_Angeles:20260507T110000
DTSTAMP:20260423T145917
CREATED:20260226T160118Z
LAST-MODIFIED:20260226T160118Z
UID:10007722-1778140800-1778151600@driveshops.com
SUMMARY:Essentials of Shop Management  Day 3 of 6
DESCRIPTION:
URL:https://driveshops.com/events/essentials-of-shop-management-day-3-of-6-16/
LOCATION:Online
CATEGORIES:Essentials of Shop Management,Workshop
ATTACH;FMTTYPE=image/png:https://driveshops.com/wp-content/uploads/2019/04/screen-shot-2019-05-21-at-10.17.01-am-e1558471790866.png
END:VEVENT
BEGIN:VEVENT
DTSTART;TZID=America/Los_Angeles:20260512T080000
DTEND;TZID=America/Los_Angeles:20260512T110000
DTSTAMP:20260423T145917
CREATED:20260226T160132Z
LAST-MODIFIED:20260226T160132Z
UID:10007723-1778572800-1778583600@driveshops.com
SUMMARY:Essentials of Shop Management  Day 4 of 6
DESCRIPTION:
URL:https://driveshops.com/events/essentials-of-shop-management-day-4-of-6-16/
LOCATION:Online
CATEGORIES:Essentials of Shop Management,Workshop
ATTACH;FMTTYPE=image/png:https://driveshops.com/wp-content/uploads/2019/04/screen-shot-2019-05-21-at-10.17.01-am-e1558471790866.png
END:VEVENT
BEGIN:VEVENT
DTSTART;TZID=America/Los_Angeles:20260513T080000
DTEND;TZID=America/Los_Angeles:20260513T110000
DTSTAMP:20260423T145917
CREATED:20260226T160140Z
LAST-MODIFIED:20260226T160140Z
UID:10007724-1778659200-1778670000@driveshops.com
SUMMARY:Essentials of Shop Management  Day 5 of 6
DESCRIPTION:
URL:https://driveshops.com/events/essentials-of-shop-management-day-5-of-6-17/
LOCATION:Online
CATEGORIES:Essentials of Shop Management,Workshop
ATTACH;FMTTYPE=image/png:https://driveshops.com/wp-content/uploads/2019/04/screen-shot-2019-05-21-at-10.17.01-am-e1558471790866.png
END:VEVENT
BEGIN:VEVENT
DTSTART;TZID=America/Los_Angeles:20260514T080000
DTEND;TZID=America/Los_Angeles:20260514T110000
DTSTAMP:20260423T145917
CREATED:20260226T160150Z
LAST-MODIFIED:20260226T160150Z
UID:10007725-1778745600-1778756400@driveshops.com
SUMMARY:Essentials of Shop Management  Day 6 of 6
DESCRIPTION:
URL:https://driveshops.com/events/essentials-of-shop-management-day-6-of-6-14/
LOCATION:Online
CATEGORIES:Essentials of Shop Management,Workshop
ATTACH;FMTTYPE=image/png:https://driveshops.com/wp-content/uploads/2019/04/screen-shot-2019-05-21-at-10.17.01-am-e1558471790866.png
END:VEVENT
BEGIN:VEVENT
DTSTART;TZID=America/Los_Angeles:20260612T080000
DTEND;TZID=America/Los_Angeles:20260612T153000
DTSTAMP:20260423T145917
CREATED:20260226T160420Z
LAST-MODIFIED:20260226T160438Z
UID:10007726-1781251200-1781278200@driveshops.com
SUMMARY:Essentials of Shop Management  Day 1 of 3
DESCRIPTION:
URL:https://driveshops.com/events/essentials-of-shop-management-day-1-of-6-18/
LOCATION:Online
CATEGORIES:Essentials of Shop Management,Workshop
ATTACH;FMTTYPE=image/png:https://driveshops.com/wp-content/uploads/2019/04/screen-shot-2019-05-21-at-10.17.01-am-e1558471790866.png
END:VEVENT
BEGIN:VEVENT
DTSTART;TZID=America/Los_Angeles:20260613T080000
DTEND;TZID=America/Los_Angeles:20260613T153000
DTSTAMP:20260423T145917
CREATED:20260226T160501Z
LAST-MODIFIED:20260226T160501Z
UID:10007727-1781337600-1781364600@driveshops.com
SUMMARY:Essentials of Shop Management  Day 2 of 3
DESCRIPTION:
URL:https://driveshops.com/events/essentials-of-shop-management-day-2-of-3-3/
LOCATION:Online
CATEGORIES:Essentials of Shop Management,Workshop
ATTACH;FMTTYPE=image/png:https://driveshops.com/wp-content/uploads/2019/04/screen-shot-2019-05-21-at-10.17.01-am-e1558471790866.png
END:VEVENT
BEGIN:VEVENT
DTSTART;TZID=America/Los_Angeles:20260614T080000
DTEND;TZID=America/Los_Angeles:20260614T153000
DTSTAMP:20260423T145917
CREATED:20260226T160525Z
LAST-MODIFIED:20260226T160525Z
UID:10007728-1781424000-1781451000@driveshops.com
SUMMARY:Essentials of Shop Management  Day 3 of 3
DESCRIPTION:
URL:https://driveshops.com/events/essentials-of-shop-management-day-3-of-3-3/
LOCATION:Online
CATEGORIES:Essentials of Shop Management,Workshop
ATTACH;FMTTYPE=image/png:https://driveshops.com/wp-content/uploads/2019/04/screen-shot-2019-05-21-at-10.17.01-am-e1558471790866.png
END:VEVENT
BEGIN:VEVENT
DTSTART;TZID=America/Los_Angeles:20260707T080000
DTEND;TZID=America/Los_Angeles:20260707T110000
DTSTAMP:20260423T145917
CREATED:20260226T162831Z
LAST-MODIFIED:20260226T162831Z
UID:10007732-1783411200-1783422000@driveshops.com
SUMMARY:Essentials of Shop Management  Day 1 of 6
DESCRIPTION:
URL:https://driveshops.com/events/essentials-of-shop-management-day-1-of-6-19/
LOCATION:Online
CATEGORIES:Essentials of Shop Management,Workshop
ATTACH;FMTTYPE=image/png:https://driveshops.com/wp-content/uploads/2019/04/screen-shot-2019-05-21-at-10.17.01-am-e1558471790866.png
END:VEVENT
BEGIN:VEVENT
DTSTART;TZID=America/Los_Angeles:20260708T080000
DTEND;TZID=America/Los_Angeles:20260708T110000
DTSTAMP:20260423T145917
CREATED:20260226T160658Z
LAST-MODIFIED:20260226T161628Z
UID:10007731-1783497600-1783508400@driveshops.com
SUMMARY:Essentials of Shop Management  Day 2 of 6
DESCRIPTION:
URL:https://driveshops.com/events/essentials-of-shop-management-day-6-of-6-15/
LOCATION:Online
CATEGORIES:Essentials of Shop Management,Workshop
ATTACH;FMTTYPE=image/png:https://driveshops.com/wp-content/uploads/2019/04/screen-shot-2019-05-21-at-10.17.01-am-e1558471790866.png
END:VEVENT
BEGIN:VEVENT
DTSTART;TZID=America/Los_Angeles:20260709T080000
DTEND;TZID=America/Los_Angeles:20260709T110000
DTSTAMP:20260423T145917
CREATED:20260226T162843Z
LAST-MODIFIED:20260226T162843Z
UID:10007733-1783584000-1783594800@driveshops.com
SUMMARY:Essentials of Shop Management  Day 3 of 6
DESCRIPTION:
URL:https://driveshops.com/events/essentials-of-shop-management-day-3-of-6-17/
LOCATION:Online
CATEGORIES:Essentials of Shop Management,Workshop
ATTACH;FMTTYPE=image/png:https://driveshops.com/wp-content/uploads/2019/04/screen-shot-2019-05-21-at-10.17.01-am-e1558471790866.png
END:VEVENT
BEGIN:VEVENT
DTSTART;TZID=America/Los_Angeles:20260714T080000
DTEND;TZID=America/Los_Angeles:20260714T110000
DTSTAMP:20260423T145917
CREATED:20260226T161006Z
LAST-MODIFIED:20260226T161736Z
UID:10007729-1784016000-1784026800@driveshops.com
SUMMARY:Essentials of Shop Management  Day 4 of 6
DESCRIPTION:
URL:https://driveshops.com/events/essentials-of-shop-management-day-4-of-6-17/
LOCATION:Online
CATEGORIES:Essentials of Shop Management,Workshop
ATTACH;FMTTYPE=image/png:https://driveshops.com/wp-content/uploads/2019/04/screen-shot-2019-05-21-at-10.17.01-am-e1558471790866.png
END:VEVENT
BEGIN:VEVENT
DTSTART;TZID=America/Los_Angeles:20260715T080000
DTEND;TZID=America/Los_Angeles:20260715T110000
DTSTAMP:20260423T145917
CREATED:20260226T161302Z
LAST-MODIFIED:20260226T161450Z
UID:10007730-1784102400-1784113200@driveshops.com
SUMMARY:Essentials of Shop Management  Day 5 of 6
DESCRIPTION:
URL:https://driveshops.com/events/essentials-of-shop-management-day-5-of-6-18/
LOCATION:Online
CATEGORIES:Essentials of Shop Management,Workshop
ATTACH;FMTTYPE=image/png:https://driveshops.com/wp-content/uploads/2019/04/screen-shot-2019-05-21-at-10.17.01-am-e1558471790866.png
END:VEVENT
BEGIN:VEVENT
DTSTART;TZID=America/Los_Angeles:20260716T080000
DTEND;TZID=America/Los_Angeles:20260716T110000
DTSTAMP:20260423T145917
CREATED:20260226T162902Z
LAST-MODIFIED:20260226T162902Z
UID:10007734-1784188800-1784199600@driveshops.com
SUMMARY:Essentials of Shop Management  Day 6 of 6
DESCRIPTION:
URL:https://driveshops.com/events/essentials-of-shop-management-day-6-of-6-16/
LOCATION:Online
CATEGORIES:Essentials of Shop Management,Workshop
ATTACH;FMTTYPE=image/png:https://driveshops.com/wp-content/uploads/2019/04/screen-shot-2019-05-21-at-10.17.01-am-e1558471790866.png
END:VEVENT
BEGIN:VEVENT
DTSTART;TZID=America/Los_Angeles:20260818T080000
DTEND;TZID=America/Los_Angeles:20260818T110000
DTSTAMP:20260423T145917
CREATED:20260226T163037Z
LAST-MODIFIED:20260226T163037Z
UID:10007735-1787040000-1787050800@driveshops.com
SUMMARY:Essentials of Shop Management  Day 1 of 6
DESCRIPTION:
URL:https://driveshops.com/events/essentials-of-shop-management-day-1-of-6-20/
LOCATION:Online
CATEGORIES:Essentials of Shop Management,Workshop
ATTACH;FMTTYPE=image/png:https://driveshops.com/wp-content/uploads/2019/04/screen-shot-2019-05-21-at-10.17.01-am-e1558471790866.png
END:VEVENT
BEGIN:VEVENT
DTSTART;TZID=America/Los_Angeles:20260819T080000
DTEND;TZID=America/Los_Angeles:20260819T110000
DTSTAMP:20260423T145917
CREATED:20260226T163046Z
LAST-MODIFIED:20260226T163046Z
UID:10007736-1787126400-1787137200@driveshops.com
SUMMARY:Essentials of Shop Management  Day 2 of 6
DESCRIPTION:
URL:https://driveshops.com/events/essentials-of-shop-management-day-2-of-6-17/
LOCATION:Online
CATEGORIES:Essentials of Shop Management,Workshop
ATTACH;FMTTYPE=image/png:https://driveshops.com/wp-content/uploads/2019/04/screen-shot-2019-05-21-at-10.17.01-am-e1558471790866.png
END:VEVENT
BEGIN:VEVENT
DTSTART;TZID=America/Los_Angeles:20260820T080000
DTEND;TZID=America/Los_Angeles:20260820T110000
DTSTAMP:20260423T145917
CREATED:20260226T163057Z
LAST-MODIFIED:20260226T163057Z
UID:10007737-1787212800-1787223600@driveshops.com
SUMMARY:Essentials of Shop Management  Day 3 of 6
DESCRIPTION:
URL:https://driveshops.com/events/essentials-of-shop-management-day-3-of-6-18/
LOCATION:Online
CATEGORIES:Essentials of Shop Management,Workshop
ATTACH;FMTTYPE=image/png:https://driveshops.com/wp-content/uploads/2019/04/screen-shot-2019-05-21-at-10.17.01-am-e1558471790866.png
END:VEVENT
BEGIN:VEVENT
DTSTART;TZID=America/Los_Angeles:20260825T080000
DTEND;TZID=America/Los_Angeles:20260825T110000
DTSTAMP:20260423T145917
CREATED:20260226T163111Z
LAST-MODIFIED:20260226T163111Z
UID:10007738-1787644800-1787655600@driveshops.com
SUMMARY:Essentials of Shop Management  Day 4 of 6
DESCRIPTION:
URL:https://driveshops.com/events/essentials-of-shop-management-day-4-of-6-18/
LOCATION:Online
CATEGORIES:Essentials of Shop Management,Workshop
ATTACH;FMTTYPE=image/png:https://driveshops.com/wp-content/uploads/2019/04/screen-shot-2019-05-21-at-10.17.01-am-e1558471790866.png
END:VEVENT
BEGIN:VEVENT
DTSTART;TZID=America/Los_Angeles:20260826T080000
DTEND;TZID=America/Los_Angeles:20260826T110000
DTSTAMP:20260423T145917
CREATED:20260226T163124Z
LAST-MODIFIED:20260226T163124Z
UID:10007739-1787731200-1787742000@driveshops.com
SUMMARY:Essentials of Shop Management  Day 5 of 6
DESCRIPTION:
URL:https://driveshops.com/events/essentials-of-shop-management-day-5-of-6-19/
LOCATION:Online
CATEGORIES:Essentials of Shop Management,Workshop
ATTACH;FMTTYPE=image/png:https://driveshops.com/wp-content/uploads/2019/04/screen-shot-2019-05-21-at-10.17.01-am-e1558471790866.png
END:VEVENT
BEGIN:VEVENT
DTSTART;TZID=America/Los_Angeles:20260827T080000
DTEND;TZID=America/Los_Angeles:20260827T110000
DTSTAMP:20260423T145917
CREATED:20260226T163135Z
LAST-MODIFIED:20260226T163135Z
UID:10007740-1787817600-1787828400@driveshops.com
SUMMARY:Essentials of Shop Management  Day 6 of 6
DESCRIPTION:
URL:https://driveshops.com/events/essentials-of-shop-management-day-6-of-6-17/
LOCATION:Online
CATEGORIES:Essentials of Shop Management,Workshop
ATTACH;FMTTYPE=image/png:https://driveshops.com/wp-content/uploads/2019/04/screen-shot-2019-05-21-at-10.17.01-am-e1558471790866.png
END:VEVENT
BEGIN:VEVENT
DTSTART;TZID=America/Los_Angeles:20261006T080000
DTEND;TZID=America/Los_Angeles:20261006T110000
DTSTAMP:20260423T145917
CREATED:20260226T163430Z
LAST-MODIFIED:20260226T163430Z
UID:10007741-1791273600-1791284400@driveshops.com
SUMMARY:Essentials of Shop Management  Day 1 of 6
DESCRIPTION:
URL:https://driveshops.com/events/essentials-of-shop-management-day-1-of-6-21/
LOCATION:Online
CATEGORIES:Essentials of Shop Management,Workshop
ATTACH;FMTTYPE=image/png:https://driveshops.com/wp-content/uploads/2019/04/screen-shot-2019-05-21-at-10.17.01-am-e1558471790866.png
END:VEVENT
BEGIN:VEVENT
DTSTART;TZID=America/Los_Angeles:20261007T080000
DTEND;TZID=America/Los_Angeles:20261007T110000
DTSTAMP:20260423T145917
CREATED:20260226T163437Z
LAST-MODIFIED:20260226T163437Z
UID:10007742-1791360000-1791370800@driveshops.com
SUMMARY:Essentials of Shop Management  Day 2 of 6
DESCRIPTION:
URL:https://driveshops.com/events/essentials-of-shop-management-day-2-of-6-18/
LOCATION:Online
CATEGORIES:Essentials of Shop Management,Workshop
ATTACH;FMTTYPE=image/png:https://driveshops.com/wp-content/uploads/2019/04/screen-shot-2019-05-21-at-10.17.01-am-e1558471790866.png
END:VEVENT
BEGIN:VEVENT
DTSTART;TZID=America/Los_Angeles:20261008T080000
DTEND;TZID=America/Los_Angeles:20261008T110000
DTSTAMP:20260423T145917
CREATED:20260226T163445Z
LAST-MODIFIED:20260226T163445Z
UID:10007743-1791446400-1791457200@driveshops.com
SUMMARY:Essentials of Shop Management  Day 3 of 6
DESCRIPTION:
URL:https://driveshops.com/events/essentials-of-shop-management-day-3-of-6-19/
LOCATION:Online
CATEGORIES:Essentials of Shop Management,Workshop
ATTACH;FMTTYPE=image/png:https://driveshops.com/wp-content/uploads/2019/04/screen-shot-2019-05-21-at-10.17.01-am-e1558471790866.png
END:VEVENT
BEGIN:VEVENT
DTSTART;TZID=America/Los_Angeles:20261013T080000
DTEND;TZID=America/Los_Angeles:20261013T110000
DTSTAMP:20260423T145917
CREATED:20260226T163459Z
LAST-MODIFIED:20260226T163459Z
UID:10007744-1791878400-1791889200@driveshops.com
SUMMARY:Essentials of Shop Management  Day 4 of 6
DESCRIPTION:
URL:https://driveshops.com/events/essentials-of-shop-management-day-4-of-6-19/
LOCATION:Online
CATEGORIES:Essentials of Shop Management,Workshop
ATTACH;FMTTYPE=image/png:https://driveshops.com/wp-content/uploads/2019/04/screen-shot-2019-05-21-at-10.17.01-am-e1558471790866.png
END:VEVENT
BEGIN:VEVENT
DTSTART;TZID=America/Los_Angeles:20261014T080000
DTEND;TZID=America/Los_Angeles:20261014T110000
DTSTAMP:20260423T145917
CREATED:20260226T163509Z
LAST-MODIFIED:20260226T163509Z
UID:10007745-1791964800-1791975600@driveshops.com
SUMMARY:Essentials of Shop Management  Day 5 of 6
DESCRIPTION:
URL:https://driveshops.com/events/essentials-of-shop-management-day-5-of-6-20/
LOCATION:Online
CATEGORIES:Essentials of Shop Management,Workshop
ATTACH;FMTTYPE=image/png:https://driveshops.com/wp-content/uploads/2019/04/screen-shot-2019-05-21-at-10.17.01-am-e1558471790866.png
END:VEVENT
BEGIN:VEVENT
DTSTART;TZID=America/Los_Angeles:20261015T080000
DTEND;TZID=America/Los_Angeles:20261015T110000
DTSTAMP:20260423T145917
CREATED:20260226T163518Z
LAST-MODIFIED:20260226T163518Z
UID:10007746-1792051200-1792062000@driveshops.com
SUMMARY:Essentials of Shop Management  Day 6 of 6
DESCRIPTION:
URL:https://driveshops.com/events/essentials-of-shop-management-day-6-of-6-18/
LOCATION:Online
CATEGORIES:Essentials of Shop Management,Workshop
ATTACH;FMTTYPE=image/png:https://driveshops.com/wp-content/uploads/2019/04/screen-shot-2019-05-21-at-10.17.01-am-e1558471790866.png
END:VEVENT
BEGIN:VEVENT
DTSTART;TZID=America/Los_Angeles:20261106T080000
DTEND;TZID=America/Los_Angeles:20261106T153000
DTSTAMP:20260423T145917
CREATED:20260226T180732Z
LAST-MODIFIED:20260226T180732Z
UID:10007747-1793952000-1793979000@driveshops.com
SUMMARY:Essentials of Shop Management  Day 1 of 3
DESCRIPTION:
URL:https://driveshops.com/events/essentials-of-shop-management-day-1-of-3-3/
LOCATION:Online
CATEGORIES:Essentials of Shop Management,Workshop
ATTACH;FMTTYPE=image/png:https://driveshops.com/wp-content/uploads/2019/04/screen-shot-2019-05-21-at-10.17.01-am-e1558471790866.png
END:VEVENT
BEGIN:VEVENT
DTSTART;TZID=America/Los_Angeles:20261107T080000
DTEND;TZID=America/Los_Angeles:20261107T153000
DTSTAMP:20260423T145917
CREATED:20260226T180753Z
LAST-MODIFIED:20260226T180753Z
UID:10007748-1794038400-1794065400@driveshops.com
SUMMARY:Essentials of Shop Management  Day 2 of 3
DESCRIPTION:
URL:https://driveshops.com/events/essentials-of-shop-management-day-2-of-3-4/
LOCATION:Online
CATEGORIES:Essentials of Shop Management,Workshop
ATTACH;FMTTYPE=image/png:https://driveshops.com/wp-content/uploads/2019/04/screen-shot-2019-05-21-at-10.17.01-am-e1558471790866.png
END:VEVENT
BEGIN:VEVENT
DTSTART;TZID=America/Los_Angeles:20261108T080000
DTEND;TZID=America/Los_Angeles:20261108T153000
DTSTAMP:20260423T145917
CREATED:20260226T180825Z
LAST-MODIFIED:20260226T180825Z
UID:10007749-1794124800-1794151800@driveshops.com
SUMMARY:Essentials of Shop Management  Day 3 of 3
DESCRIPTION:
URL:https://driveshops.com/events/essentials-of-shop-management-day-3-of-3-4/
LOCATION:Online
CATEGORIES:Essentials of Shop Management,Workshop
ATTACH;FMTTYPE=image/png:https://driveshops.com/wp-content/uploads/2019/04/screen-shot-2019-05-21-at-10.17.01-am-e1558471790866.png
END:VEVENT
END:VCALENDAR