BEGIN:VCALENDAR
VERSION:2.0
PRODID:-//DRIVE - ECPv6.15.18//NONSGML v1.0//EN
CALSCALE:GREGORIAN
METHOD:PUBLISH
X-ORIGINAL-URL:https://driveshops.com
X-WR-CALDESC:Events for DRIVE
REFRESH-INTERVAL;VALUE=DURATION:PT1H
X-Robots-Tag:noindex
X-PUBLISHED-TTL:PT1H
BEGIN:VTIMEZONE
TZID:America/Los_Angeles
BEGIN:DAYLIGHT
TZOFFSETFROM:-0800
TZOFFSETTO:-0700
TZNAME:PDT
DTSTART:20250309T100000
END:DAYLIGHT
BEGIN:STANDARD
TZOFFSETFROM:-0700
TZOFFSETTO:-0800
TZNAME:PST
DTSTART:20251102T090000
END:STANDARD
BEGIN:DAYLIGHT
TZOFFSETFROM:-0800
TZOFFSETTO:-0700
TZNAME:PDT
DTSTART:20260308T100000
END:DAYLIGHT
BEGIN:STANDARD
TZOFFSETFROM:-0700
TZOFFSETTO:-0800
TZNAME:PST
DTSTART:20261101T090000
END:STANDARD
BEGIN:DAYLIGHT
TZOFFSETFROM:-0800
TZOFFSETTO:-0700
TZNAME:PDT
DTSTART:20270314T100000
END:DAYLIGHT
BEGIN:STANDARD
TZOFFSETFROM:-0700
TZOFFSETTO:-0800
TZNAME:PST
DTSTART:20271107T090000
END:STANDARD
END:VTIMEZONE
BEGIN:VEVENT
DTSTART;TZID=America/Los_Angeles:20260609T080000
DTEND;TZID=America/Los_Angeles:20260609T110000
DTSTAMP:20260423T134308
CREATED:20260227T160741Z
LAST-MODIFIED:20260227T160741Z
UID:10007876-1780992000-1781002800@driveshops.com
SUMMARY:Expanding Your Auto Repair Shop Day 1 of 2
DESCRIPTION:
URL:https://driveshops.com/events/expanding-your-auto-repair-shop-day-1-of-2-4/
LOCATION:Online
CATEGORIES:Expanding Your Auto Shop
END:VEVENT
BEGIN:VEVENT
DTSTART;TZID=America/Los_Angeles:20260611T080000
DTEND;TZID=America/Los_Angeles:20260611T110000
DTSTAMP:20260423T134308
CREATED:20260227T160750Z
LAST-MODIFIED:20260227T160750Z
UID:10007877-1781164800-1781175600@driveshops.com
SUMMARY:Expanding Your Auto Repair Shop Day 2 of 2
DESCRIPTION:
URL:https://driveshops.com/events/expanding-your-auto-repair-shop-day-2-of-2-4/
LOCATION:Online
CATEGORIES:Expanding Your Auto Shop
END:VEVENT
BEGIN:VEVENT
DTSTART;TZID=America/Los_Angeles:20260915T080000
DTEND;TZID=America/Los_Angeles:20260915T110000
DTSTAMP:20260423T134308
CREATED:20260227T160828Z
LAST-MODIFIED:20260227T160828Z
UID:10007878-1789459200-1789470000@driveshops.com
SUMMARY:Expanding Your Auto Repair Shop Day 1 of 2
DESCRIPTION:
URL:https://driveshops.com/events/expanding-your-auto-repair-shop-day-1-of-2-5/
LOCATION:Online
CATEGORIES:Expanding Your Auto Shop
END:VEVENT
BEGIN:VEVENT
DTSTART;TZID=America/Los_Angeles:20260917T080000
DTEND;TZID=America/Los_Angeles:20260917T110000
DTSTAMP:20260423T134308
CREATED:20260227T160839Z
LAST-MODIFIED:20260227T160839Z
UID:10007879-1789632000-1789642800@driveshops.com
SUMMARY:Expanding Your Auto Repair Shop Day 2 of 2
DESCRIPTION:
URL:https://driveshops.com/events/expanding-your-auto-repair-shop-day-2-of-2-5/
LOCATION:Online
CATEGORIES:Expanding Your Auto Shop
END:VEVENT
END:VCALENDAR