BEGIN:VCALENDAR
VERSION:2.0
PRODID:-//DRIVE - ECPv6.15.18//NONSGML v1.0//EN
CALSCALE:GREGORIAN
METHOD:PUBLISH
X-ORIGINAL-URL:https://driveshops.com
X-WR-CALDESC:Events for DRIVE
REFRESH-INTERVAL;VALUE=DURATION:PT1H
X-Robots-Tag:noindex
X-PUBLISHED-TTL:PT1H
BEGIN:VTIMEZONE
TZID:UTC
BEGIN:STANDARD
TZOFFSETFROM:+0000
TZOFFSETTO:+0000
TZNAME:UTC
DTSTART:20240101T000000
END:STANDARD
END:VTIMEZONE
BEGIN:VEVENT
DTSTART;TZID=UTC:20250812T080000
DTEND;TZID=UTC:20250812T110000
DTSTAMP:20260424T020935
CREATED:20250318T190304Z
LAST-MODIFIED:20250417T165548Z
UID:10007515-1754985600-1754996400@driveshops.com
SUMMARY:Fundamentals of Wealth Day 1 of 5
DESCRIPTION:
URL:https://driveshops.com/events/fundamentals-of-wealth-day-1-of-5-2/
LOCATION:Online
CATEGORIES:Fundamentals of Wealth,Workshop
END:VEVENT
BEGIN:VEVENT
DTSTART;TZID=UTC:20250813T080000
DTEND;TZID=UTC:20250813T110000
DTSTAMP:20260424T020935
CREATED:20250318T190312Z
LAST-MODIFIED:20250417T165558Z
UID:10007516-1755072000-1755082800@driveshops.com
SUMMARY:Fundamentals of Wealth Day 2 of 5
DESCRIPTION:
URL:https://driveshops.com/events/fundamentals-of-wealth-day-2-of-5/
LOCATION:Online
CATEGORIES:Fundamentals of Wealth,Workshop
END:VEVENT
BEGIN:VEVENT
DTSTART;TZID=UTC:20250814T080000
DTEND;TZID=UTC:20250814T110000
DTSTAMP:20260424T020935
CREATED:20250318T190322Z
LAST-MODIFIED:20250417T165610Z
UID:10007517-1755158400-1755169200@driveshops.com
SUMMARY:Fundamentals of Wealth Day 3 of 5
DESCRIPTION:
URL:https://driveshops.com/events/fundamentals-of-wealth-day-3-of-5-2/
LOCATION:Online
CATEGORIES:Fundamentals of Wealth,Workshop
END:VEVENT
BEGIN:VEVENT
DTSTART;TZID=UTC:20250819T080000
DTEND;TZID=UTC:20250819T110000
DTSTAMP:20260424T020935
CREATED:20250318T190333Z
LAST-MODIFIED:20250417T165627Z
UID:10007518-1755590400-1755601200@driveshops.com
SUMMARY:Fundamentals of Wealth Day 4 of 5
DESCRIPTION:
URL:https://driveshops.com/events/fundamentals-of-wealth-day-4-of-5-2/
LOCATION:Online
CATEGORIES:Fundamentals of Wealth,Workshop
END:VEVENT
BEGIN:VEVENT
DTSTART;TZID=UTC:20250820T080000
DTEND;TZID=UTC:20250820T110000
DTSTAMP:20260424T020935
CREATED:20250318T190342Z
LAST-MODIFIED:20250318T190342Z
UID:10007519-1755676800-1755687600@driveshops.com
SUMMARY:Fundamentals of Wealth Day 5 of 5
DESCRIPTION:
URL:https://driveshops.com/events/fundamentals-of-wealth-day-5-of-5-2/
LOCATION:Online
CATEGORIES:Fundamentals of Wealth,Workshop
ATTACH;FMTTYPE=image/png:https://driveshops.com/wp-content/uploads/2019/04/screen-shot-2019-05-21-at-10.42.34-am-e1558471231325.png
END:VEVENT
END:VCALENDAR