BEGIN:VCALENDAR
VERSION:2.0
PRODID:-//DRIVE - ECPv6.15.18//NONSGML v1.0//EN
CALSCALE:GREGORIAN
METHOD:PUBLISH
X-WR-CALNAME:DRIVE
X-ORIGINAL-URL:https://driveshops.com
X-WR-CALDESC:Events for DRIVE
REFRESH-INTERVAL;VALUE=DURATION:PT1H
X-Robots-Tag:noindex
X-PUBLISHED-TTL:PT1H
BEGIN:VTIMEZONE
TZID:UTC
BEGIN:STANDARD
TZOFFSETFROM:+0000
TZOFFSETTO:+0000
TZNAME:UTC
DTSTART:20240101T000000
END:STANDARD
END:VTIMEZONE
BEGIN:VEVENT
DTSTART;TZID=UTC:20250813T080000
DTEND;TZID=UTC:20250813T110000
DTSTAMP:20260424T032329
CREATED:20250318T190312Z
LAST-MODIFIED:20250417T165558Z
UID:10007516-1755072000-1755082800@driveshops.com
SUMMARY:Fundamentals of Wealth Day 2 of 5
DESCRIPTION:
URL:https://driveshops.com/events/fundamentals-of-wealth-day-2-of-5/
LOCATION:Online
CATEGORIES:Fundamentals of Wealth,Workshop
END:VEVENT
END:VCALENDAR