BEGIN:VCALENDAR
VERSION:2.0
PRODID:-//DRIVE - ECPv6.15.18//NONSGML v1.0//EN
CALSCALE:GREGORIAN
METHOD:PUBLISH
X-WR-CALNAME:DRIVE
X-ORIGINAL-URL:https://driveshops.com
X-WR-CALDESC:Events for DRIVE
REFRESH-INTERVAL;VALUE=DURATION:PT1H
X-Robots-Tag:noindex
X-PUBLISHED-TTL:PT1H
BEGIN:VTIMEZONE
TZID:UTC
BEGIN:STANDARD
TZOFFSETFROM:+0000
TZOFFSETTO:+0000
TZNAME:UTC
DTSTART:20220101T000000
END:STANDARD
END:VTIMEZONE
BEGIN:VEVENT
DTSTART;TZID=UTC:20231205T080000
DTEND;TZID=UTC:20231205T110000
DTSTAMP:20260425T083130
CREATED:20221228T215455Z
LAST-MODIFIED:20221228T215455Z
UID:10003995-1701763200-1701774000@driveshops.com
SUMMARY:How to Increase Your Profits 1/4
DESCRIPTION:
URL:https://driveshops.com/events/how-to-increase-your-profits-1-4-6/
LOCATION:Online
CATEGORIES:How To Increase Your Profits,Workshop
ATTACH;FMTTYPE=image/png:https://driveshops.com/wp-content/uploads/2019/04/screen-shot-2019-05-21-at-10.25.56-am-e1558471321731.png
END:VEVENT
BEGIN:VEVENT
DTSTART;TZID=UTC:20231207T080000
DTEND;TZID=UTC:20231207T110000
DTSTAMP:20260425T083131
CREATED:20221228T215502Z
LAST-MODIFIED:20221228T215502Z
UID:10003997-1701936000-1701946800@driveshops.com
SUMMARY:How to Increase Your Profits 2/4
DESCRIPTION:
URL:https://driveshops.com/events/how-to-increase-your-profits-2-4-5/
LOCATION:Online
CATEGORIES:How To Increase Your Profits,Workshop
ATTACH;FMTTYPE=image/png:https://driveshops.com/wp-content/uploads/2019/04/screen-shot-2019-05-21-at-10.25.56-am-e1558471321731.png
END:VEVENT
BEGIN:VEVENT
DTSTART;TZID=UTC:20231212T080000
DTEND;TZID=UTC:20231212T110000
DTSTAMP:20260425T083131
CREATED:20221228T215511Z
LAST-MODIFIED:20221228T215511Z
UID:10003999-1702368000-1702378800@driveshops.com
SUMMARY:How to Increase Your Profits 3/4
DESCRIPTION:
URL:https://driveshops.com/events/how-to-increase-your-profits-3-4-5/
LOCATION:Online
CATEGORIES:How To Increase Your Profits,Workshop
ATTACH;FMTTYPE=image/png:https://driveshops.com/wp-content/uploads/2019/04/screen-shot-2019-05-21-at-10.25.56-am-e1558471321731.png
END:VEVENT
BEGIN:VEVENT
DTSTART;TZID=UTC:20231214T080000
DTEND;TZID=UTC:20231214T110000
DTSTAMP:20260425T083131
CREATED:20221228T215524Z
LAST-MODIFIED:20221228T215524Z
UID:10004001-1702540800-1702551600@driveshops.com
SUMMARY:How to Increase Your Profits 4/4
DESCRIPTION:
URL:https://driveshops.com/events/how-to-increase-your-profits-4-4-5/
LOCATION:Online
CATEGORIES:How To Increase Your Profits,Workshop
ATTACH;FMTTYPE=image/png:https://driveshops.com/wp-content/uploads/2019/04/screen-shot-2019-05-21-at-10.25.56-am-e1558471321731.png
END:VEVENT
END:VCALENDAR