BEGIN:VCALENDAR
VERSION:2.0
PRODID:-//DRIVE - ECPv6.15.18//NONSGML v1.0//EN
CALSCALE:GREGORIAN
METHOD:PUBLISH
X-WR-CALNAME:DRIVE
X-ORIGINAL-URL:https://driveshops.com
X-WR-CALDESC:Events for DRIVE
REFRESH-INTERVAL;VALUE=DURATION:PT1H
X-Robots-Tag:noindex
X-PUBLISHED-TTL:PT1H
BEGIN:VTIMEZONE
TZID:America/Los_Angeles
BEGIN:DAYLIGHT
TZOFFSETFROM:-0800
TZOFFSETTO:-0700
TZNAME:PDT
DTSTART:20240310T100000
END:DAYLIGHT
BEGIN:STANDARD
TZOFFSETFROM:-0700
TZOFFSETTO:-0800
TZNAME:PST
DTSTART:20241103T090000
END:STANDARD
BEGIN:DAYLIGHT
TZOFFSETFROM:-0800
TZOFFSETTO:-0700
TZNAME:PDT
DTSTART:20250309T100000
END:DAYLIGHT
BEGIN:STANDARD
TZOFFSETFROM:-0700
TZOFFSETTO:-0800
TZNAME:PST
DTSTART:20251102T090000
END:STANDARD
BEGIN:DAYLIGHT
TZOFFSETFROM:-0800
TZOFFSETTO:-0700
TZNAME:PDT
DTSTART:20260308T100000
END:DAYLIGHT
BEGIN:STANDARD
TZOFFSETFROM:-0700
TZOFFSETTO:-0800
TZNAME:PST
DTSTART:20261101T090000
END:STANDARD
END:VTIMEZONE
BEGIN:VEVENT
DTSTART;TZID=America/Los_Angeles:20250923T080000
DTEND;TZID=America/Los_Angeles:20250923T110000
DTSTAMP:20260423T232122
CREATED:20250319T191511Z
LAST-MODIFIED:20250319T191511Z
UID:10007626-1758614400-1758625200@driveshops.com
SUMMARY:How to Master Training Workshop Day 1 of 3
DESCRIPTION:
URL:https://driveshops.com/events/how-to-master-training-workshop-day-1-of-3-4/
LOCATION:Online
CATEGORIES:How to Master Training,Workshop
ORGANIZER;CN="Tony Wisler":MAILTO:scheduling@driveshops.com
END:VEVENT
BEGIN:VEVENT
DTSTART;TZID=America/Los_Angeles:20250924T080000
DTEND;TZID=America/Los_Angeles:20250924T110000
DTSTAMP:20260423T232122
CREATED:20250319T191531Z
LAST-MODIFIED:20250319T191531Z
UID:10007627-1758700800-1758711600@driveshops.com
SUMMARY:How to Master Training Workshop Day 2 of 3
DESCRIPTION:
URL:https://driveshops.com/events/how-to-master-training-workshop-day-2-of-3-4/
LOCATION:Online
CATEGORIES:How to Master Training,Workshop
ORGANIZER;CN="Tony Wisler":MAILTO:scheduling@driveshops.com
END:VEVENT
BEGIN:VEVENT
DTSTART;TZID=America/Los_Angeles:20250925T080000
DTEND;TZID=America/Los_Angeles:20250925T110000
DTSTAMP:20260423T232122
CREATED:20250319T191544Z
LAST-MODIFIED:20250319T191544Z
UID:10007628-1758787200-1758798000@driveshops.com
SUMMARY:How to Master Training Workshop Day 3 of 3
DESCRIPTION:
URL:https://driveshops.com/events/how-to-master-training-workshop-day-3-of-3-4/
LOCATION:Online
CATEGORIES:How to Master Training,Workshop
ORGANIZER;CN="Tony Wisler":MAILTO:scheduling@driveshops.com
END:VEVENT
END:VCALENDAR