BEGIN:VCALENDAR
VERSION:2.0
PRODID:-//DRIVE - ECPv6.15.18//NONSGML v1.0//EN
CALSCALE:GREGORIAN
METHOD:PUBLISH
X-ORIGINAL-URL:https://driveshops.com
X-WR-CALDESC:Events for DRIVE
REFRESH-INTERVAL;VALUE=DURATION:PT1H
X-Robots-Tag:noindex
X-PUBLISHED-TTL:PT1H
BEGIN:VTIMEZONE
TZID:UTC
BEGIN:STANDARD
TZOFFSETFROM:+0000
TZOFFSETTO:+0000
TZNAME:UTC
DTSTART:20230101T000000
END:STANDARD
END:VTIMEZONE
BEGIN:VEVENT
DTSTART;TZID=UTC:20240724T080000
DTEND;TZID=UTC:20240724T110000
DTSTAMP:20260425T063603
CREATED:20240425T170143Z
LAST-MODIFIED:20240425T170735Z
UID:10007118-1721808000-1721818800@driveshops.com
SUMMARY:How to Read and Use Financial Statements Day 5 of 6
DESCRIPTION:
URL:https://driveshops.com/events/how-to-read-and-use-financial-statements-day-5-of-6/
LOCATION:Online
CATEGORIES:How to Read and Use Financial Statements,Workshop
END:VEVENT
END:VCALENDAR