BEGIN:VCALENDAR
VERSION:2.0
PRODID:-//DRIVE - ECPv6.15.18//NONSGML v1.0//EN
CALSCALE:GREGORIAN
METHOD:PUBLISH
X-WR-CALNAME:DRIVE
X-ORIGINAL-URL:https://driveshops.com
X-WR-CALDESC:Events for DRIVE
REFRESH-INTERVAL;VALUE=DURATION:PT1H
X-Robots-Tag:noindex
X-PUBLISHED-TTL:PT1H
BEGIN:VTIMEZONE
TZID:UTC
BEGIN:STANDARD
TZOFFSETFROM:+0000
TZOFFSETTO:+0000
TZNAME:UTC
DTSTART:20250101T000000
END:STANDARD
END:VTIMEZONE
BEGIN:VEVENT
DTSTART;TZID=UTC:20260324T080000
DTEND;TZID=UTC:20260324T110000
DTSTAMP:20260423T160922
CREATED:20260227T175052Z
LAST-MODIFIED:20260227T175052Z
UID:10007892-1774339200-1774350000@driveshops.com
SUMMARY:How to Train Your Team Day 1 of 3
DESCRIPTION:
URL:https://driveshops.com/events/how-to-train-your-team-day-1-of-3-3/
CATEGORIES:How to Train Your Team,Workshop
ATTACH;FMTTYPE=image/png:https://driveshops.com/wp-content/uploads/2019/11/httyt_11.26.19-01.png
END:VEVENT
BEGIN:VEVENT
DTSTART;TZID=UTC:20260325T080000
DTEND;TZID=UTC:20260325T110000
DTSTAMP:20260423T160922
CREATED:20260227T175104Z
LAST-MODIFIED:20260227T175104Z
UID:10007893-1774425600-1774436400@driveshops.com
SUMMARY:How to Train Your Team Day 2 of 3
DESCRIPTION:
URL:https://driveshops.com/events/how-to-train-your-team-day-2-of-3-4/
CATEGORIES:How to Train Your Team,Workshop
ATTACH;FMTTYPE=image/png:https://driveshops.com/wp-content/uploads/2019/11/httyt_11.26.19-01.png
END:VEVENT
BEGIN:VEVENT
DTSTART;TZID=UTC:20260326T080000
DTEND;TZID=UTC:20260326T110000
DTSTAMP:20260423T160922
CREATED:20260227T175119Z
LAST-MODIFIED:20260227T175119Z
UID:10007894-1774512000-1774522800@driveshops.com
SUMMARY:How to Train Your Team Day 3 of 3
DESCRIPTION:
URL:https://driveshops.com/events/how-to-train-your-team-day-3-of-3-4/
CATEGORIES:How to Train Your Team,Workshop
ATTACH;FMTTYPE=image/png:https://driveshops.com/wp-content/uploads/2019/11/httyt_11.26.19-01.png
END:VEVENT
END:VCALENDAR