BEGIN:VCALENDAR
VERSION:2.0
PRODID:-//DRIVE - ECPv6.15.18//NONSGML v1.0//EN
CALSCALE:GREGORIAN
METHOD:PUBLISH
X-WR-CALNAME:DRIVE
X-ORIGINAL-URL:https://driveshops.com
X-WR-CALDESC:Events for DRIVE
REFRESH-INTERVAL;VALUE=DURATION:PT1H
X-Robots-Tag:noindex
X-PUBLISHED-TTL:PT1H
BEGIN:VTIMEZONE
TZID:America/Los_Angeles
BEGIN:DAYLIGHT
TZOFFSETFROM:-0800
TZOFFSETTO:-0700
TZNAME:PDT
DTSTART:20240310T100000
END:DAYLIGHT
BEGIN:STANDARD
TZOFFSETFROM:-0700
TZOFFSETTO:-0800
TZNAME:PST
DTSTART:20241103T090000
END:STANDARD
BEGIN:DAYLIGHT
TZOFFSETFROM:-0800
TZOFFSETTO:-0700
TZNAME:PDT
DTSTART:20250309T100000
END:DAYLIGHT
BEGIN:STANDARD
TZOFFSETFROM:-0700
TZOFFSETTO:-0800
TZNAME:PST
DTSTART:20251102T090000
END:STANDARD
BEGIN:DAYLIGHT
TZOFFSETFROM:-0800
TZOFFSETTO:-0700
TZNAME:PDT
DTSTART:20260308T100000
END:DAYLIGHT
BEGIN:STANDARD
TZOFFSETFROM:-0700
TZOFFSETTO:-0800
TZNAME:PST
DTSTART:20261101T090000
END:STANDARD
END:VTIMEZONE
BEGIN:VEVENT
DTSTART;TZID=America/Los_Angeles:20250715T080000
DTEND;TZID=America/Los_Angeles:20250715T110000
DTSTAMP:20260424T021226
CREATED:20250318T205035Z
LAST-MODIFIED:20250318T205210Z
UID:10007530-1752566400-1752577200@driveshops.com
SUMMARY:Managing an Effective Bookkeeping Area Day 1 of 6
DESCRIPTION:
URL:https://driveshops.com/events/managing-an-effective-bookkeeping-area-1-of-6-3/
LOCATION:Online
CATEGORIES:Managing an Effective Bookkeeping Area,Workshop
END:VEVENT
BEGIN:VEVENT
DTSTART;TZID=America/Los_Angeles:20250716T080000
DTEND;TZID=America/Los_Angeles:20250716T110000
DTSTAMP:20260424T021226
CREATED:20250318T205045Z
LAST-MODIFIED:20250318T205045Z
UID:10007531-1752652800-1752663600@driveshops.com
SUMMARY:Managing an Effective Bookkeeping Area  Day 2 of 6
DESCRIPTION:
URL:https://driveshops.com/events/managing-an-effective-bookkeeping-area-day-2-of-6-3/
LOCATION:Online
CATEGORIES:Managing an Effective Bookkeeping Area,Workshop
END:VEVENT
BEGIN:VEVENT
DTSTART;TZID=America/Los_Angeles:20250717T080000
DTEND;TZID=America/Los_Angeles:20250717T110000
DTSTAMP:20260424T021226
CREATED:20250318T205055Z
LAST-MODIFIED:20250318T205055Z
UID:10007532-1752739200-1752750000@driveshops.com
SUMMARY:Managing an Effective Bookkeeping Area Day 3 of 6
DESCRIPTION:
URL:https://driveshops.com/events/managing-an-effective-bookkeeping-area-day-3-of-6-3/
LOCATION:Online
CATEGORIES:Managing an Effective Bookkeeping Area,Workshop
END:VEVENT
BEGIN:VEVENT
DTSTART;TZID=America/Los_Angeles:20250722T080000
DTEND;TZID=America/Los_Angeles:20250722T110000
DTSTAMP:20260424T021226
CREATED:20250318T205108Z
LAST-MODIFIED:20250318T205108Z
UID:10007533-1753171200-1753182000@driveshops.com
SUMMARY:Managing an Effective Bookkeeping Area Day 4 of 6
DESCRIPTION:
URL:https://driveshops.com/events/managing-an-effective-bookkeeping-area-day-4-of-6-3/
LOCATION:Online
CATEGORIES:Managing an Effective Bookkeeping Area,Workshop
END:VEVENT
BEGIN:VEVENT
DTSTART;TZID=America/Los_Angeles:20250723T080000
DTEND;TZID=America/Los_Angeles:20250723T110000
DTSTAMP:20260424T021226
CREATED:20250318T205118Z
LAST-MODIFIED:20250318T205118Z
UID:10007534-1753257600-1753268400@driveshops.com
SUMMARY:Managing an Effective Bookkeeping Area Day 5 of 6
DESCRIPTION:
URL:https://driveshops.com/events/managing-an-effective-bookkeeping-area-day-5-of-6-3/
CATEGORIES:Managing an Effective Bookkeeping Area,Workshop
END:VEVENT
BEGIN:VEVENT
DTSTART;TZID=America/Los_Angeles:20250724T080000
DTEND;TZID=America/Los_Angeles:20250724T110000
DTSTAMP:20260424T021226
CREATED:20250318T205127Z
LAST-MODIFIED:20250318T205127Z
UID:10007535-1753344000-1753354800@driveshops.com
SUMMARY:Managing an Effective Bookkeeping Area Day 6 of 6
DESCRIPTION:
URL:https://driveshops.com/events/managing-an-effective-bookkeeping-area-day-6-of-6-3/
LOCATION:Online
CATEGORIES:Managing an Effective Bookkeeping Area,Workshop
END:VEVENT
END:VCALENDAR