BEGIN:VCALENDAR
VERSION:2.0
PRODID:-//DRIVE - ECPv6.15.18//NONSGML v1.0//EN
CALSCALE:GREGORIAN
METHOD:PUBLISH
X-ORIGINAL-URL:https://driveshops.com
X-WR-CALDESC:Events for DRIVE
REFRESH-INTERVAL;VALUE=DURATION:PT1H
X-Robots-Tag:noindex
X-PUBLISHED-TTL:PT1H
BEGIN:VTIMEZONE
TZID:America/Denver
BEGIN:DAYLIGHT
TZOFFSETFROM:-0700
TZOFFSETTO:-0600
TZNAME:MDT
DTSTART:20240310T090000
END:DAYLIGHT
BEGIN:STANDARD
TZOFFSETFROM:-0600
TZOFFSETTO:-0700
TZNAME:MST
DTSTART:20241103T080000
END:STANDARD
BEGIN:DAYLIGHT
TZOFFSETFROM:-0700
TZOFFSETTO:-0600
TZNAME:MDT
DTSTART:20250309T090000
END:DAYLIGHT
BEGIN:STANDARD
TZOFFSETFROM:-0600
TZOFFSETTO:-0700
TZNAME:MST
DTSTART:20251102T080000
END:STANDARD
BEGIN:DAYLIGHT
TZOFFSETFROM:-0700
TZOFFSETTO:-0600
TZNAME:MDT
DTSTART:20260308T090000
END:DAYLIGHT
BEGIN:STANDARD
TZOFFSETFROM:-0600
TZOFFSETTO:-0700
TZNAME:MST
DTSTART:20261101T080000
END:STANDARD
END:VTIMEZONE
BEGIN:VEVENT
DTSTART;TZID=America/Denver:20251104T080000
DTEND;TZID=America/Denver:20251104T110000
DTSTAMP:20260423T195832
CREATED:20250319T174617Z
LAST-MODIFIED:20250416T172457Z
UID:10007560-1762243200-1762254000@driveshops.com
SUMMARY:Managing Change Day 1 of 5
DESCRIPTION:Understand the basic principles of successful change.\nUnderstand how to make changes that result in a more profitable and successful business.\nPractice the procedure of making changes until it is mastered.
URL:https://driveshops.com/events/managing-change-day-1-of-5-5/
LOCATION:Online
CATEGORIES:Managing Change,Workshop
END:VEVENT
BEGIN:VEVENT
DTSTART;TZID=America/Denver:20251105T080000
DTEND;TZID=America/Denver:20251105T110000
DTSTAMP:20260423T195832
CREATED:20250319T174625Z
LAST-MODIFIED:20250416T172404Z
UID:10007561-1762329600-1762340400@driveshops.com
SUMMARY:Managing Change Day 2 of 5
DESCRIPTION:Understand the basic principles of successful change.\nUnderstand how to make changes that result in a more profitable and successful business.\nPractice the procedure of making changes until it is mastered.
URL:https://driveshops.com/events/managing-change-day-2-of-5-5/
LOCATION:Online
CATEGORIES:Managing Change,Workshop
END:VEVENT
BEGIN:VEVENT
DTSTART;TZID=America/Denver:20251106T080000
DTEND;TZID=America/Denver:20251106T110000
DTSTAMP:20260423T195832
CREATED:20250319T174635Z
LAST-MODIFIED:20250416T172327Z
UID:10007562-1762416000-1762426800@driveshops.com
SUMMARY:Managing Change Day 3 of 5
DESCRIPTION:Understand the basic principles of successful change.\nUnderstand how to make changes that result in a more profitable and successful business.\nPractice the procedure of making changes until it is mastered.
URL:https://driveshops.com/events/managing-change-day-3-of-5-5/
LOCATION:Online
CATEGORIES:Managing Change,Workshop
END:VEVENT
BEGIN:VEVENT
DTSTART;TZID=America/Denver:20251111T080000
DTEND;TZID=America/Denver:20251111T110000
DTSTAMP:20260423T195832
CREATED:20250319T174648Z
LAST-MODIFIED:20250319T174648Z
UID:10007563-1762848000-1762858800@driveshops.com
SUMMARY:Managing Change Day 4 of 5
DESCRIPTION:Understand the basic principles of successful change.\nUnderstand how to make changes that result in a more profitable and successful business.\nPractice the procedure of making changes until it is mastered.
URL:https://driveshops.com/events/managing-change-day-4-of-5-5/
LOCATION:Online
CATEGORIES:Managing Change,Workshop
ATTACH;FMTTYPE=image/png:https://driveshops.com/wp-content/uploads/2019/04/screen-shot-2019-05-21-at-10.47.53-am-e1558471201812.png
END:VEVENT
BEGIN:VEVENT
DTSTART;TZID=America/Denver:20251112T080000
DTEND;TZID=America/Denver:20251112T110000
DTSTAMP:20260423T195832
CREATED:20250319T174659Z
LAST-MODIFIED:20250416T171933Z
UID:10007564-1762934400-1762945200@driveshops.com
SUMMARY:Managing Change Day 5 of 5
DESCRIPTION:Understand the basic principles of successful change.\nUnderstand how to make changes that result in a more profitable and successful business.\nPractice the procedure of making changes until it is mastered.
URL:https://driveshops.com/events/managing-change-day-5-of-5-5/
LOCATION:Online
CATEGORIES:Managing Change,Workshop
END:VEVENT
END:VCALENDAR