BEGIN:VCALENDAR
VERSION:2.0
PRODID:-//DRIVE - ECPv6.15.18//NONSGML v1.0//EN
CALSCALE:GREGORIAN
METHOD:PUBLISH
X-ORIGINAL-URL:https://driveshops.com
X-WR-CALDESC:Events for DRIVE
REFRESH-INTERVAL;VALUE=DURATION:PT1H
X-Robots-Tag:noindex
X-PUBLISHED-TTL:PT1H
BEGIN:VTIMEZONE
TZID:America/Los_Angeles
BEGIN:DAYLIGHT
TZOFFSETFROM:-0800
TZOFFSETTO:-0700
TZNAME:PDT
DTSTART:20250309T100000
END:DAYLIGHT
BEGIN:STANDARD
TZOFFSETFROM:-0700
TZOFFSETTO:-0800
TZNAME:PST
DTSTART:20251102T090000
END:STANDARD
BEGIN:DAYLIGHT
TZOFFSETFROM:-0800
TZOFFSETTO:-0700
TZNAME:PDT
DTSTART:20260308T100000
END:DAYLIGHT
BEGIN:STANDARD
TZOFFSETFROM:-0700
TZOFFSETTO:-0800
TZNAME:PST
DTSTART:20261101T090000
END:STANDARD
BEGIN:DAYLIGHT
TZOFFSETFROM:-0800
TZOFFSETTO:-0700
TZNAME:PDT
DTSTART:20270314T100000
END:DAYLIGHT
BEGIN:STANDARD
TZOFFSETFROM:-0700
TZOFFSETTO:-0800
TZNAME:PST
DTSTART:20271107T090000
END:STANDARD
BEGIN:DAYLIGHT
TZOFFSETFROM:-0800
TZOFFSETTO:-0700
TZNAME:PDT
DTSTART:20280312T100000
END:DAYLIGHT
BEGIN:STANDARD
TZOFFSETFROM:-0700
TZOFFSETTO:-0800
TZNAME:PST
DTSTART:20281105T090000
END:STANDARD
END:VTIMEZONE
BEGIN:VEVENT
DTSTART;TZID=America/Los_Angeles:20260312T120000
DTEND;TZID=America/Los_Angeles:20270321T150000
DTSTAMP:20260423T145517
CREATED:20260302T182253Z
LAST-MODIFIED:20260302T182407Z
UID:10007946-1773316800-1805641200@driveshops.com
SUMMARY:Master and Control The Front of Your Shop Accelerated Day 3 of 3
DESCRIPTION:
URL:https://driveshops.com/events/master-and-control-the-front-of-your-shop-accelerated-day-3-of-3/
LOCATION:Online
CATEGORIES:Master and Control the Front of Your Shop,Workshop
END:VEVENT
BEGIN:VEVENT
DTSTART;TZID=America/Los_Angeles:20260609T080000
DTEND;TZID=America/Los_Angeles:20260609T110000
DTSTAMP:20260423T145517
CREATED:20260227T144235Z
LAST-MODIFIED:20260227T144235Z
UID:10007799-1780992000-1781002800@driveshops.com
SUMMARY:Master and Control The Front of Your Shop Day 1 of 5
DESCRIPTION:
URL:https://driveshops.com/events/master-and-control-the-front-of-your-shop-day-1-of-5-2/
LOCATION:Online
CATEGORIES:Master and Control the Front of Your Shop,Workshop
END:VEVENT
BEGIN:VEVENT
DTSTART;TZID=America/Los_Angeles:20260610T080000
DTEND;TZID=America/Los_Angeles:20260610T110000
DTSTAMP:20260423T145517
CREATED:20260227T144243Z
LAST-MODIFIED:20260227T144243Z
UID:10007800-1781078400-1781089200@driveshops.com
SUMMARY:Master and Control The Front of Your Shop Day 2 of 5
DESCRIPTION:
URL:https://driveshops.com/events/master-and-control-the-front-of-your-shop-day-2-of-5-2/
LOCATION:Online
CATEGORIES:Master and Control the Front of Your Shop,Workshop
END:VEVENT
BEGIN:VEVENT
DTSTART;TZID=America/Los_Angeles:20260611T080000
DTEND;TZID=America/Los_Angeles:20260611T110000
DTSTAMP:20260423T145517
CREATED:20260227T144258Z
LAST-MODIFIED:20260227T144258Z
UID:10007801-1781164800-1781175600@driveshops.com
SUMMARY:Master and Control The Front of Your Shop Day 3 of 5
DESCRIPTION:
URL:https://driveshops.com/events/master-and-control-the-front-of-your-shop-day-3-of-5-2/
LOCATION:Online
CATEGORIES:Master and Control the Front of Your Shop,Workshop
END:VEVENT
BEGIN:VEVENT
DTSTART;TZID=America/Los_Angeles:20260616T080000
DTEND;TZID=America/Los_Angeles:20260616T110000
DTSTAMP:20260423T145517
CREATED:20260227T144327Z
LAST-MODIFIED:20260227T144327Z
UID:10007802-1781596800-1781607600@driveshops.com
SUMMARY:Master and Control The Front of Your Shop Day 4 of 5
DESCRIPTION:
URL:https://driveshops.com/events/master-and-control-the-front-of-your-shop-day-4-of-5-2/
LOCATION:Online
CATEGORIES:Master and Control the Front of Your Shop,Workshop
END:VEVENT
BEGIN:VEVENT
DTSTART;TZID=America/Los_Angeles:20260617T080000
DTEND;TZID=America/Los_Angeles:20260617T110000
DTSTAMP:20260423T145517
CREATED:20260227T144339Z
LAST-MODIFIED:20260227T144339Z
UID:10007803-1781683200-1781694000@driveshops.com
SUMMARY:Master and Control The Front of Your Shop Day 5 of 5
DESCRIPTION:
URL:https://driveshops.com/events/master-and-control-the-front-of-your-shop-day-5-of-5-2/
LOCATION:Online
CATEGORIES:Master and Control the Front of Your Shop,Workshop
END:VEVENT
END:VCALENDAR