BEGIN:VCALENDAR
VERSION:2.0
PRODID:-//DRIVE - ECPv6.15.18//NONSGML v1.0//EN
CALSCALE:GREGORIAN
METHOD:PUBLISH
X-ORIGINAL-URL:https://driveshops.com
X-WR-CALDESC:Events for DRIVE
REFRESH-INTERVAL;VALUE=DURATION:PT1H
X-Robots-Tag:noindex
X-PUBLISHED-TTL:PT1H
BEGIN:VTIMEZONE
TZID:America/Los_Angeles
BEGIN:DAYLIGHT
TZOFFSETFROM:-0800
TZOFFSETTO:-0700
TZNAME:PDT
DTSTART:20250309T100000
END:DAYLIGHT
BEGIN:STANDARD
TZOFFSETFROM:-0700
TZOFFSETTO:-0800
TZNAME:PST
DTSTART:20251102T090000
END:STANDARD
BEGIN:DAYLIGHT
TZOFFSETFROM:-0800
TZOFFSETTO:-0700
TZNAME:PDT
DTSTART:20260308T100000
END:DAYLIGHT
BEGIN:STANDARD
TZOFFSETFROM:-0700
TZOFFSETTO:-0800
TZNAME:PST
DTSTART:20261101T090000
END:STANDARD
BEGIN:DAYLIGHT
TZOFFSETFROM:-0800
TZOFFSETTO:-0700
TZNAME:PDT
DTSTART:20270314T100000
END:DAYLIGHT
BEGIN:STANDARD
TZOFFSETFROM:-0700
TZOFFSETTO:-0800
TZNAME:PST
DTSTART:20271107T090000
END:STANDARD
BEGIN:DAYLIGHT
TZOFFSETFROM:-0800
TZOFFSETTO:-0700
TZNAME:PDT
DTSTART:20280312T100000
END:DAYLIGHT
BEGIN:STANDARD
TZOFFSETFROM:-0700
TZOFFSETTO:-0800
TZNAME:PST
DTSTART:20281105T090000
END:STANDARD
END:VTIMEZONE
BEGIN:VEVENT
DTSTART;TZID=America/Los_Angeles:20260312T120000
DTEND;TZID=America/Los_Angeles:20270321T150000
DTSTAMP:20260423T220843
CREATED:20260302T182253Z
LAST-MODIFIED:20260302T182407Z
UID:10007946-1773316800-1805641200@driveshops.com
SUMMARY:Master and Control The Front of Your Shop Accelerated Day 3 of 3
DESCRIPTION:
URL:https://driveshops.com/events/master-and-control-the-front-of-your-shop-accelerated-day-3-of-3/
LOCATION:Online
CATEGORIES:Master and Control the Front of Your Shop,Workshop
END:VEVENT
BEGIN:VEVENT
DTSTART;TZID=America/Los_Angeles:20261201T080000
DTEND;TZID=America/Los_Angeles:20261201T110000
DTSTAMP:20260423T220843
CREATED:20260227T151051Z
LAST-MODIFIED:20260227T151051Z
UID:10007814-1796112000-1796122800@driveshops.com
SUMMARY:Master and Control The Front of Your Shop Day 1 of 5
DESCRIPTION:
URL:https://driveshops.com/events/master-and-control-the-front-of-your-shop-day-1-of-5-5/
LOCATION:Online
CATEGORIES:Master and Control the Front of Your Shop,Workshop
END:VEVENT
BEGIN:VEVENT
DTSTART;TZID=America/Los_Angeles:20261202T080000
DTEND;TZID=America/Los_Angeles:20261202T110000
DTSTAMP:20260423T220843
CREATED:20260227T151059Z
LAST-MODIFIED:20260227T151059Z
UID:10007815-1796198400-1796209200@driveshops.com
SUMMARY:Master and Control The Front of Your Shop Day 2 of 5
DESCRIPTION:
URL:https://driveshops.com/events/master-and-control-the-front-of-your-shop-day-2-of-5-5/
LOCATION:Online
CATEGORIES:Master and Control the Front of Your Shop,Workshop
END:VEVENT
BEGIN:VEVENT
DTSTART;TZID=America/Los_Angeles:20261203T080000
DTEND;TZID=America/Los_Angeles:20261203T110000
DTSTAMP:20260423T220843
CREATED:20260227T151106Z
LAST-MODIFIED:20260227T151106Z
UID:10007816-1796284800-1796295600@driveshops.com
SUMMARY:Master and Control The Front of Your Shop Day 3 of 5
DESCRIPTION:
URL:https://driveshops.com/events/master-and-control-the-front-of-your-shop-day-3-of-5-5/
LOCATION:Online
CATEGORIES:Master and Control the Front of Your Shop,Workshop
END:VEVENT
BEGIN:VEVENT
DTSTART;TZID=America/Los_Angeles:20261208T080000
DTEND;TZID=America/Los_Angeles:20261208T110000
DTSTAMP:20260423T220843
CREATED:20260227T151134Z
LAST-MODIFIED:20260227T151134Z
UID:10007817-1796716800-1796727600@driveshops.com
SUMMARY:Master and Control The Front of Your Shop Day 4 of 5
DESCRIPTION:
URL:https://driveshops.com/events/master-and-control-the-front-of-your-shop-day-4-of-5-5/
LOCATION:Online
CATEGORIES:Master and Control the Front of Your Shop,Workshop
END:VEVENT
BEGIN:VEVENT
DTSTART;TZID=America/Los_Angeles:20261209T080000
DTEND;TZID=America/Los_Angeles:20261209T110000
DTSTAMP:20260423T220843
CREATED:20260227T151146Z
LAST-MODIFIED:20260227T151146Z
UID:10007818-1796803200-1796814000@driveshops.com
SUMMARY:Master and Control The Front of Your Shop Day 5 of 5
DESCRIPTION:
URL:https://driveshops.com/events/master-and-control-the-front-of-your-shop-day-5-of-5-5/
LOCATION:Online
CATEGORIES:Master and Control the Front of Your Shop,Workshop
END:VEVENT
END:VCALENDAR