BEGIN:VCALENDAR
VERSION:2.0
PRODID:-//DRIVE - ECPv6.15.18//NONSGML v1.0//EN
CALSCALE:GREGORIAN
METHOD:PUBLISH
X-WR-CALNAME:DRIVE
X-ORIGINAL-URL:https://driveshops.com
X-WR-CALDESC:Events for DRIVE
REFRESH-INTERVAL;VALUE=DURATION:PT1H
X-Robots-Tag:noindex
X-PUBLISHED-TTL:PT1H
BEGIN:VTIMEZONE
TZID:America/Denver
BEGIN:DAYLIGHT
TZOFFSETFROM:-0700
TZOFFSETTO:-0600
TZNAME:MDT
DTSTART:20230312T090000
END:DAYLIGHT
BEGIN:STANDARD
TZOFFSETFROM:-0600
TZOFFSETTO:-0700
TZNAME:MST
DTSTART:20231105T080000
END:STANDARD
BEGIN:DAYLIGHT
TZOFFSETFROM:-0700
TZOFFSETTO:-0600
TZNAME:MDT
DTSTART:20240310T090000
END:DAYLIGHT
BEGIN:STANDARD
TZOFFSETFROM:-0600
TZOFFSETTO:-0700
TZNAME:MST
DTSTART:20241103T080000
END:STANDARD
BEGIN:DAYLIGHT
TZOFFSETFROM:-0700
TZOFFSETTO:-0600
TZNAME:MDT
DTSTART:20250309T090000
END:DAYLIGHT
BEGIN:STANDARD
TZOFFSETFROM:-0600
TZOFFSETTO:-0700
TZNAME:MST
DTSTART:20251102T080000
END:STANDARD
END:VTIMEZONE
BEGIN:VEVENT
DTSTART;TZID=America/Denver:20241202T080000
DTEND;TZID=America/Denver:20241202T110000
DTSTAMP:20260424T141546
CREATED:20240405T144626Z
LAST-MODIFIED:20240405T144626Z
UID:10007044-1733126400-1733137200@driveshops.com
SUMMARY:Managing Shop Finances Day 1
DESCRIPTION:
URL:https://driveshops.com/events/managing-shop-finances-day-1/
LOCATION:Online
CATEGORIES:Mastering Shop Finances,Workshop
END:VEVENT
BEGIN:VEVENT
DTSTART;TZID=America/Denver:20241204T080000
DTEND;TZID=America/Denver:20241204T110000
DTSTAMP:20260424T141546
CREATED:20240405T144643Z
LAST-MODIFIED:20240405T144643Z
UID:10007045-1733299200-1733310000@driveshops.com
SUMMARY:Managing Shop Finances Day 2
DESCRIPTION:
URL:https://driveshops.com/events/managing-shop-finances-day-2/
LOCATION:Online
CATEGORIES:Mastering Shop Finances,Workshop
END:VEVENT
BEGIN:VEVENT
DTSTART;TZID=America/Denver:20241206T080000
DTEND;TZID=America/Denver:20241206T110000
DTSTAMP:20260424T141546
CREATED:20240405T144657Z
LAST-MODIFIED:20240405T144657Z
UID:10007046-1733472000-1733482800@driveshops.com
SUMMARY:Managing Shop Finances Day 3
DESCRIPTION:
URL:https://driveshops.com/events/managing-shop-finances-day-3/
LOCATION:Online
CATEGORIES:Mastering Shop Finances,Workshop
END:VEVENT
BEGIN:VEVENT
DTSTART;TZID=America/Denver:20241209T080000
DTEND;TZID=America/Denver:20241209T110000
DTSTAMP:20260424T141546
CREATED:20240405T144712Z
LAST-MODIFIED:20240405T144712Z
UID:10007047-1733731200-1733742000@driveshops.com
SUMMARY:Managing Shop Finances Day 4
DESCRIPTION:
URL:https://driveshops.com/events/managing-shop-finances-day-4/
LOCATION:Online
CATEGORIES:Mastering Shop Finances,Workshop
END:VEVENT
BEGIN:VEVENT
DTSTART;TZID=America/Denver:20241211T080000
DTEND;TZID=America/Denver:20241211T110000
DTSTAMP:20260424T141546
CREATED:20240405T144729Z
LAST-MODIFIED:20240405T144729Z
UID:10007048-1733904000-1733914800@driveshops.com
SUMMARY:Managing Shop Finances Day 5
DESCRIPTION:
URL:https://driveshops.com/events/managing-shop-finances-day-5/
LOCATION:Online
CATEGORIES:Mastering Shop Finances,Workshop
END:VEVENT
BEGIN:VEVENT
DTSTART;TZID=America/Denver:20241213T080000
DTEND;TZID=America/Denver:20241213T110000
DTSTAMP:20260424T141546
CREATED:20240405T144745Z
LAST-MODIFIED:20240405T144745Z
UID:10007049-1734076800-1734087600@driveshops.com
SUMMARY:Managing Shop Finances Day 6
DESCRIPTION:
URL:https://driveshops.com/events/managing-shop-finances-day-6-2/
LOCATION:Online
CATEGORIES:Mastering Shop Finances,Workshop
END:VEVENT
END:VCALENDAR