BEGIN:VCALENDAR
VERSION:2.0
PRODID:-//DRIVE - ECPv6.15.18//NONSGML v1.0//EN
CALSCALE:GREGORIAN
METHOD:PUBLISH
X-WR-CALNAME:DRIVE
X-ORIGINAL-URL:https://driveshops.com
X-WR-CALDESC:Events for DRIVE
REFRESH-INTERVAL;VALUE=DURATION:PT1H
X-Robots-Tag:noindex
X-PUBLISHED-TTL:PT1H
BEGIN:VTIMEZONE
TZID:America/Denver
BEGIN:DAYLIGHT
TZOFFSETFROM:-0700
TZOFFSETTO:-0600
TZNAME:MDT
DTSTART:20240310T090000
END:DAYLIGHT
BEGIN:STANDARD
TZOFFSETFROM:-0600
TZOFFSETTO:-0700
TZNAME:MST
DTSTART:20241103T080000
END:STANDARD
BEGIN:DAYLIGHT
TZOFFSETFROM:-0700
TZOFFSETTO:-0600
TZNAME:MDT
DTSTART:20250309T090000
END:DAYLIGHT
BEGIN:STANDARD
TZOFFSETFROM:-0600
TZOFFSETTO:-0700
TZNAME:MST
DTSTART:20251102T080000
END:STANDARD
BEGIN:DAYLIGHT
TZOFFSETFROM:-0700
TZOFFSETTO:-0600
TZNAME:MDT
DTSTART:20260308T090000
END:DAYLIGHT
BEGIN:STANDARD
TZOFFSETFROM:-0600
TZOFFSETTO:-0700
TZNAME:MST
DTSTART:20261101T080000
END:STANDARD
END:VTIMEZONE
BEGIN:VEVENT
DTSTART;TZID=America/Denver:20250812T080000
DTEND;TZID=America/Denver:20250812T110000
DTSTAMP:20260424T010756
CREATED:20250320T115623Z
LAST-MODIFIED:20250320T115623Z
UID:10007638-1754985600-1754996400@driveshops.com
SUMMARY:Managing Shop Finances Day 1 of 6
DESCRIPTION:
URL:https://driveshops.com/events/managing-shop-finances-day-1-of-6-2/
LOCATION:Online
CATEGORIES:Mastering Shop Finances,Workshop
END:VEVENT
BEGIN:VEVENT
DTSTART;TZID=America/Denver:20250813T080000
DTEND;TZID=America/Denver:20250813T110000
DTSTAMP:20260424T010756
CREATED:20250320T115635Z
LAST-MODIFIED:20250320T115635Z
UID:10007639-1755072000-1755082800@driveshops.com
SUMMARY:Managing Shop Finances Day 2 of 6
DESCRIPTION:
URL:https://driveshops.com/events/managing-shop-finances-day-2-of-6-2/
LOCATION:Online
CATEGORIES:Mastering Shop Finances,Workshop
END:VEVENT
BEGIN:VEVENT
DTSTART;TZID=America/Denver:20250814T080000
DTEND;TZID=America/Denver:20250814T110000
DTSTAMP:20260424T010756
CREATED:20250320T115647Z
LAST-MODIFIED:20250320T115647Z
UID:10007640-1755158400-1755169200@driveshops.com
SUMMARY:Managing Shop Finances Day 3 of 6
DESCRIPTION:
URL:https://driveshops.com/events/managing-shop-finances-day-3-of-6-2/
LOCATION:Online
CATEGORIES:Mastering Shop Finances,Workshop
END:VEVENT
BEGIN:VEVENT
DTSTART;TZID=America/Denver:20250819T080000
DTEND;TZID=America/Denver:20250819T110000
DTSTAMP:20260424T010756
CREATED:20250320T115659Z
LAST-MODIFIED:20250320T115659Z
UID:10007641-1755590400-1755601200@driveshops.com
SUMMARY:Managing Shop Finances Day 4 of 6
DESCRIPTION:
URL:https://driveshops.com/events/managing-shop-finances-day-4-of-6-2/
LOCATION:Online
CATEGORIES:Mastering Shop Finances,Workshop
END:VEVENT
BEGIN:VEVENT
DTSTART;TZID=America/Denver:20250820T080000
DTEND;TZID=America/Denver:20250820T110000
DTSTAMP:20260424T010756
CREATED:20250320T115709Z
LAST-MODIFIED:20250320T115709Z
UID:10007642-1755676800-1755687600@driveshops.com
SUMMARY:Managing Shop Finances Day 5 of 6
DESCRIPTION:
URL:https://driveshops.com/events/managing-shop-finances-day-5-of-6-2/
LOCATION:Online
CATEGORIES:Mastering Shop Finances,Workshop
END:VEVENT
BEGIN:VEVENT
DTSTART;TZID=America/Denver:20250821T080000
DTEND;TZID=America/Denver:20250821T110000
DTSTAMP:20260424T010756
CREATED:20250320T115719Z
LAST-MODIFIED:20250320T115719Z
UID:10007643-1755763200-1755774000@driveshops.com
SUMMARY:Managing Shop Finances Day 6 of 6
DESCRIPTION:
URL:https://driveshops.com/events/managing-shop-finances-day-6-of-6-2/
LOCATION:Online
CATEGORIES:Mastering Shop Finances,Workshop
END:VEVENT
END:VCALENDAR