BEGIN:VCALENDAR
VERSION:2.0
PRODID:-//DRIVE - ECPv6.15.18//NONSGML v1.0//EN
CALSCALE:GREGORIAN
METHOD:PUBLISH
X-ORIGINAL-URL:https://driveshops.com
X-WR-CALDESC:Events for DRIVE
REFRESH-INTERVAL;VALUE=DURATION:PT1H
X-Robots-Tag:noindex
X-PUBLISHED-TTL:PT1H
BEGIN:VTIMEZONE
TZID:America/Denver
BEGIN:DAYLIGHT
TZOFFSETFROM:-0700
TZOFFSETTO:-0600
TZNAME:MDT
DTSTART:20250309T090000
END:DAYLIGHT
BEGIN:STANDARD
TZOFFSETFROM:-0600
TZOFFSETTO:-0700
TZNAME:MST
DTSTART:20251102T080000
END:STANDARD
BEGIN:DAYLIGHT
TZOFFSETFROM:-0700
TZOFFSETTO:-0600
TZNAME:MDT
DTSTART:20260308T090000
END:DAYLIGHT
BEGIN:STANDARD
TZOFFSETFROM:-0600
TZOFFSETTO:-0700
TZNAME:MST
DTSTART:20261101T080000
END:STANDARD
BEGIN:DAYLIGHT
TZOFFSETFROM:-0700
TZOFFSETTO:-0600
TZNAME:MDT
DTSTART:20270314T090000
END:DAYLIGHT
BEGIN:STANDARD
TZOFFSETFROM:-0600
TZOFFSETTO:-0700
TZNAME:MST
DTSTART:20271107T080000
END:STANDARD
END:VTIMEZONE
BEGIN:VEVENT
DTSTART;TZID=America/Denver:20260310T080000
DTEND;TZID=America/Denver:20260310T110000
DTSTAMP:20260423T161611
CREATED:20260227T155951Z
LAST-MODIFIED:20260227T155951Z
UID:10007856-1773129600-1773140400@driveshops.com
SUMMARY:Managing Shop Finances Day 1 of 6
DESCRIPTION:
URL:https://driveshops.com/events/managing-shop-finances-day-1-of-6-4/
LOCATION:Online
CATEGORIES:Mastering Shop Finances,Workshop
END:VEVENT
BEGIN:VEVENT
DTSTART;TZID=America/Denver:20260311T080000
DTEND;TZID=America/Denver:20260311T110000
DTSTAMP:20260423T161611
CREATED:20260227T160000Z
LAST-MODIFIED:20260227T160000Z
UID:10007857-1773216000-1773226800@driveshops.com
SUMMARY:Managing Shop Finances Day 2 of 6
DESCRIPTION:
URL:https://driveshops.com/events/managing-shop-finances-day-2-of-6-4/
LOCATION:Online
CATEGORIES:Mastering Shop Finances,Workshop
END:VEVENT
BEGIN:VEVENT
DTSTART;TZID=America/Denver:20260312T080000
DTEND;TZID=America/Denver:20260312T110000
DTSTAMP:20260423T161611
CREATED:20260227T160008Z
LAST-MODIFIED:20260227T160008Z
UID:10007858-1773302400-1773313200@driveshops.com
SUMMARY:Managing Shop Finances Day 3 of 6
DESCRIPTION:
URL:https://driveshops.com/events/managing-shop-finances-day-3-of-6-4/
LOCATION:Online
CATEGORIES:Mastering Shop Finances,Workshop
END:VEVENT
BEGIN:VEVENT
DTSTART;TZID=America/Denver:20260317T080000
DTEND;TZID=America/Denver:20260317T110000
DTSTAMP:20260423T161611
CREATED:20260227T160017Z
LAST-MODIFIED:20260227T160017Z
UID:10007859-1773734400-1773745200@driveshops.com
SUMMARY:Managing Shop Finances Day 4 of 6
DESCRIPTION:
URL:https://driveshops.com/events/managing-shop-finances-day-4-of-6-4/
LOCATION:Online
CATEGORIES:Mastering Shop Finances,Workshop
END:VEVENT
BEGIN:VEVENT
DTSTART;TZID=America/Denver:20260318T080000
DTEND;TZID=America/Denver:20260318T110000
DTSTAMP:20260423T161611
CREATED:20260227T160025Z
LAST-MODIFIED:20260227T160025Z
UID:10007860-1773820800-1773831600@driveshops.com
SUMMARY:Managing Shop Finances Day 5 of 6
DESCRIPTION:
URL:https://driveshops.com/events/managing-shop-finances-day-5-of-6-4/
LOCATION:Online
CATEGORIES:Mastering Shop Finances,Workshop
END:VEVENT
BEGIN:VEVENT
DTSTART;TZID=America/Denver:20260319T080000
DTEND;TZID=America/Denver:20260319T110000
DTSTAMP:20260423T161611
CREATED:20260227T160036Z
LAST-MODIFIED:20260227T160036Z
UID:10007861-1773907200-1773918000@driveshops.com
SUMMARY:Managing Shop Finances Day 6 of 6
DESCRIPTION:
URL:https://driveshops.com/events/managing-shop-finances-day-6-of-6-4/
LOCATION:Online
CATEGORIES:Mastering Shop Finances,Workshop
END:VEVENT
END:VCALENDAR