BEGIN:VCALENDAR
VERSION:2.0
PRODID:-//DRIVE - ECPv6.15.18//NONSGML v1.0//EN
CALSCALE:GREGORIAN
METHOD:PUBLISH
X-WR-CALNAME:DRIVE
X-ORIGINAL-URL:https://driveshops.com
X-WR-CALDESC:Events for DRIVE
REFRESH-INTERVAL;VALUE=DURATION:PT1H
X-Robots-Tag:noindex
X-PUBLISHED-TTL:PT1H
BEGIN:VTIMEZONE
TZID:America/Denver
BEGIN:DAYLIGHT
TZOFFSETFROM:-0700
TZOFFSETTO:-0600
TZNAME:MDT
DTSTART:20250309T090000
END:DAYLIGHT
BEGIN:STANDARD
TZOFFSETFROM:-0600
TZOFFSETTO:-0700
TZNAME:MST
DTSTART:20251102T080000
END:STANDARD
BEGIN:DAYLIGHT
TZOFFSETFROM:-0700
TZOFFSETTO:-0600
TZNAME:MDT
DTSTART:20260308T090000
END:DAYLIGHT
BEGIN:STANDARD
TZOFFSETFROM:-0600
TZOFFSETTO:-0700
TZNAME:MST
DTSTART:20261101T080000
END:STANDARD
BEGIN:DAYLIGHT
TZOFFSETFROM:-0700
TZOFFSETTO:-0600
TZNAME:MDT
DTSTART:20270314T090000
END:DAYLIGHT
BEGIN:STANDARD
TZOFFSETFROM:-0600
TZOFFSETTO:-0700
TZNAME:MST
DTSTART:20271107T080000
END:STANDARD
END:VTIMEZONE
BEGIN:VEVENT
DTSTART;TZID=America/Denver:20260812T080000
DTEND;TZID=America/Denver:20260812T110000
DTSTAMP:20260423T145708
CREATED:20260227T160140Z
LAST-MODIFIED:20260227T160140Z
UID:10007863-1786521600-1786532400@driveshops.com
SUMMARY:Managing Shop Finances Day 2 of 6
DESCRIPTION:
URL:https://driveshops.com/events/managing-shop-finances-day-2-of-6-5/
LOCATION:Online
CATEGORIES:Mastering Shop Finances,Workshop
END:VEVENT
BEGIN:VEVENT
DTSTART;TZID=America/Denver:20260813T080000
DTEND;TZID=America/Denver:20260813T110000
DTSTAMP:20260423T145708
CREATED:20260227T160150Z
LAST-MODIFIED:20260227T160150Z
UID:10007864-1786608000-1786618800@driveshops.com
SUMMARY:Managing Shop Finances Day 3 of 6
DESCRIPTION:
URL:https://driveshops.com/events/managing-shop-finances-day-3-of-6-5/
LOCATION:Online
CATEGORIES:Mastering Shop Finances,Workshop
END:VEVENT
BEGIN:VEVENT
DTSTART;TZID=America/Denver:20260818T080000
DTEND;TZID=America/Denver:20260818T110000
DTSTAMP:20260423T145708
CREATED:20260227T160200Z
LAST-MODIFIED:20260227T160200Z
UID:10007865-1787040000-1787050800@driveshops.com
SUMMARY:Managing Shop Finances Day 4 of 6
DESCRIPTION:
URL:https://driveshops.com/events/managing-shop-finances-day-4-of-6-5/
LOCATION:Online
CATEGORIES:Mastering Shop Finances,Workshop
END:VEVENT
BEGIN:VEVENT
DTSTART;TZID=America/Denver:20260819T080000
DTEND;TZID=America/Denver:20260819T110000
DTSTAMP:20260423T145708
CREATED:20260227T160208Z
LAST-MODIFIED:20260227T160208Z
UID:10007866-1787126400-1787137200@driveshops.com
SUMMARY:Managing Shop Finances Day 5 of 6
DESCRIPTION:
URL:https://driveshops.com/events/managing-shop-finances-day-5-of-6-5/
LOCATION:Online
CATEGORIES:Mastering Shop Finances,Workshop
END:VEVENT
BEGIN:VEVENT
DTSTART;TZID=America/Denver:20260820T080000
DTEND;TZID=America/Denver:20260820T110000
DTSTAMP:20260423T145708
CREATED:20260227T160221Z
LAST-MODIFIED:20260227T160221Z
UID:10007867-1787212800-1787223600@driveshops.com
SUMMARY:Managing Shop Finances Day 6 of 6
DESCRIPTION:
URL:https://driveshops.com/events/managing-shop-finances-day-6-of-6-5/
LOCATION:Online
CATEGORIES:Mastering Shop Finances,Workshop
END:VEVENT
BEGIN:VEVENT
DTSTART;TZID=America/Denver:20261208T080000
DTEND;TZID=America/Denver:20261208T110000
DTSTAMP:20260423T145708
CREATED:20260227T160411Z
LAST-MODIFIED:20260227T160411Z
UID:10007868-1796716800-1796727600@driveshops.com
SUMMARY:Managing Shop Finances Day 1 of 6
DESCRIPTION:
URL:https://driveshops.com/events/managing-shop-finances-day-1-of-6-6/
LOCATION:Online
CATEGORIES:Mastering Shop Finances,Workshop
END:VEVENT
BEGIN:VEVENT
DTSTART;TZID=America/Denver:20261209T080000
DTEND;TZID=America/Denver:20261209T110000
DTSTAMP:20260423T145708
CREATED:20260227T160422Z
LAST-MODIFIED:20260227T160422Z
UID:10007869-1796803200-1796814000@driveshops.com
SUMMARY:Managing Shop Finances Day 2 of 6
DESCRIPTION:
URL:https://driveshops.com/events/managing-shop-finances-day-2-of-6-6/
LOCATION:Online
CATEGORIES:Mastering Shop Finances,Workshop
END:VEVENT
BEGIN:VEVENT
DTSTART;TZID=America/Denver:20261210T080000
DTEND;TZID=America/Denver:20261210T110000
DTSTAMP:20260423T145708
CREATED:20260227T160431Z
LAST-MODIFIED:20260227T160431Z
UID:10007870-1796889600-1796900400@driveshops.com
SUMMARY:Managing Shop Finances Day 3 of 6
DESCRIPTION:
URL:https://driveshops.com/events/managing-shop-finances-day-3-of-6-6/
LOCATION:Online
CATEGORIES:Mastering Shop Finances,Workshop
END:VEVENT
BEGIN:VEVENT
DTSTART;TZID=America/Denver:20261215T080000
DTEND;TZID=America/Denver:20261215T110000
DTSTAMP:20260423T145708
CREATED:20260227T160441Z
LAST-MODIFIED:20260227T160441Z
UID:10007871-1797321600-1797332400@driveshops.com
SUMMARY:Managing Shop Finances Day 4 of 6
DESCRIPTION:
URL:https://driveshops.com/events/managing-shop-finances-day-4-of-6-6/
LOCATION:Online
CATEGORIES:Mastering Shop Finances,Workshop
END:VEVENT
BEGIN:VEVENT
DTSTART;TZID=America/Denver:20261216T080000
DTEND;TZID=America/Denver:20261216T110000
DTSTAMP:20260423T145708
CREATED:20260227T160450Z
LAST-MODIFIED:20260227T160450Z
UID:10007872-1797408000-1797418800@driveshops.com
SUMMARY:Managing Shop Finances Day 5 of 6
DESCRIPTION:
URL:https://driveshops.com/events/managing-shop-finances-day-5-of-6-6/
LOCATION:Online
CATEGORIES:Mastering Shop Finances,Workshop
END:VEVENT
BEGIN:VEVENT
DTSTART;TZID=America/Denver:20261217T080000
DTEND;TZID=America/Denver:20261217T110000
DTSTAMP:20260423T145708
CREATED:20260227T160501Z
LAST-MODIFIED:20260227T160501Z
UID:10007873-1797494400-1797505200@driveshops.com
SUMMARY:Managing Shop Finances Day 6 of 6
DESCRIPTION:
URL:https://driveshops.com/events/managing-shop-finances-day-6-of-6-6/
LOCATION:Online
CATEGORIES:Mastering Shop Finances,Workshop
END:VEVENT
END:VCALENDAR