BEGIN:VCALENDAR
VERSION:2.0
PRODID:-//DRIVE - ECPv6.15.18//NONSGML v1.0//EN
CALSCALE:GREGORIAN
METHOD:PUBLISH
X-ORIGINAL-URL:https://driveshops.com
X-WR-CALDESC:Events for DRIVE
REFRESH-INTERVAL;VALUE=DURATION:PT1H
X-Robots-Tag:noindex
X-PUBLISHED-TTL:PT1H
BEGIN:VTIMEZONE
TZID:UTC
BEGIN:STANDARD
TZOFFSETFROM:+0000
TZOFFSETTO:+0000
TZNAME:UTC
DTSTART:20250101T000000
END:STANDARD
END:VTIMEZONE
BEGIN:VEVENT
DTSTART;TZID=UTC:20260428T080000
DTEND;TZID=UTC:20260428T110000
DTSTAMP:20260423T134257
CREATED:20260306T181501Z
LAST-MODIFIED:20260306T181501Z
UID:10007982-1777363200-1777374000@driveshops.com
SUMMARY:Teamwork Strategies to Increase Efficiency Day 1 of 2
DESCRIPTION:
URL:https://driveshops.com/events/teamwork-strategies-to-increase-efficiency-day-1-of-2-4/
LOCATION:Online
CATEGORIES:Teamwork Strategies to Increase Efficiency,The Power of Trust,Workshop
ATTACH;FMTTYPE=image/png:https://driveshops.com/wp-content/uploads/2019/09/screen-shot-2019-09-04-at-11.31.36-am.png
END:VEVENT
END:VCALENDAR