BEGIN:VCALENDAR
VERSION:2.0
PRODID:-//DRIVE - ECPv6.15.18//NONSGML v1.0//EN
CALSCALE:GREGORIAN
METHOD:PUBLISH
X-ORIGINAL-URL:https://driveshops.com
X-WR-CALDESC:Events for DRIVE
REFRESH-INTERVAL;VALUE=DURATION:PT1H
X-Robots-Tag:noindex
X-PUBLISHED-TTL:PT1H
BEGIN:VTIMEZONE
TZID:America/Los_Angeles
BEGIN:DAYLIGHT
TZOFFSETFROM:-0800
TZOFFSETTO:-0700
TZNAME:PDT
DTSTART:20250309T100000
END:DAYLIGHT
BEGIN:STANDARD
TZOFFSETFROM:-0700
TZOFFSETTO:-0800
TZNAME:PST
DTSTART:20251102T090000
END:STANDARD
BEGIN:DAYLIGHT
TZOFFSETFROM:-0800
TZOFFSETTO:-0700
TZNAME:PDT
DTSTART:20260308T100000
END:DAYLIGHT
BEGIN:STANDARD
TZOFFSETFROM:-0700
TZOFFSETTO:-0800
TZNAME:PST
DTSTART:20261101T090000
END:STANDARD
BEGIN:DAYLIGHT
TZOFFSETFROM:-0800
TZOFFSETTO:-0700
TZNAME:PDT
DTSTART:20270314T100000
END:DAYLIGHT
BEGIN:STANDARD
TZOFFSETFROM:-0700
TZOFFSETTO:-0800
TZNAME:PST
DTSTART:20271107T090000
END:STANDARD
END:VTIMEZONE
BEGIN:VEVENT
DTSTART;TZID=America/Los_Angeles:20260324T080000
DTEND;TZID=America/Los_Angeles:20260324T110000
DTSTAMP:20260423T160920
CREATED:20260302T191126Z
LAST-MODIFIED:20260302T192251Z
UID:10007961-1774339200-1774350000@driveshops.com
SUMMARY:Clase de Ventas para el Asesor de Servicio Dia 1 de 6
DESCRIPTION:
URL:https://driveshops.com/events/clase-de-ventas-para-el-asesor-de-servicio/
CATEGORIES:Professional Service Advisor School
END:VEVENT
BEGIN:VEVENT
DTSTART;TZID=America/Los_Angeles:20260325T080000
DTEND;TZID=America/Los_Angeles:20260325T110000
DTSTAMP:20260423T160920
CREATED:20260302T191413Z
LAST-MODIFIED:20260302T191705Z
UID:10007962-1774425600-1774436400@driveshops.com
SUMMARY:Clase de Ventas para el Asesor de Servicio Dia 2 de 6
DESCRIPTION:
URL:https://driveshops.com/events/clase-de-ventas-para-el-asesor-de-servicio-dia-1-de-2/
CATEGORIES:Professional Service Advisor School
END:VEVENT
BEGIN:VEVENT
DTSTART;TZID=America/Los_Angeles:20260326T080000
DTEND;TZID=America/Los_Angeles:20260326T110000
DTSTAMP:20260423T160920
CREATED:20260302T191652Z
LAST-MODIFIED:20260302T191732Z
UID:10007963-1774512000-1774522800@driveshops.com
SUMMARY:Clase de Ventas para el Asesor de Servicio Dia 3 de 6
DESCRIPTION:
URL:https://driveshops.com/events/clase-de-ventas-para-el-asesor-de-servicio-dia-3-de-6/
CATEGORIES:Professional Service Advisor School
END:VEVENT
END:VCALENDAR