BEGIN:VCALENDAR
VERSION:2.0
PRODID:-//DRIVE - ECPv6.15.18//NONSGML v1.0//EN
CALSCALE:GREGORIAN
METHOD:PUBLISH
X-WR-CALNAME:DRIVE
X-ORIGINAL-URL:https://driveshops.com
X-WR-CALDESC:Events for DRIVE
REFRESH-INTERVAL;VALUE=DURATION:PT1H
X-Robots-Tag:noindex
X-PUBLISHED-TTL:PT1H
BEGIN:VTIMEZONE
TZID:UTC
BEGIN:STANDARD
TZOFFSETFROM:+0000
TZOFFSETTO:+0000
TZNAME:UTC
DTSTART:20220101T000000
END:STANDARD
END:VTIMEZONE
BEGIN:VEVENT
DTSTART;TZID=UTC:20231205T080000
DTEND;TZID=UTC:20231205T110000
DTSTAMP:20260425T073816
CREATED:20221228T215058Z
LAST-MODIFIED:20221228T215058Z
UID:10003987-1701763200-1701774000@driveshops.com
SUMMARY:Reputation Management 1/3
DESCRIPTION:
URL:https://driveshops.com/events/reputation-management-1-3-4/
LOCATION:Online
CATEGORIES:Public Relations,Workshop
ATTACH;FMTTYPE=image/png:https://driveshops.com/wp-content/uploads/2019/04/prw-e1564077485189.png
END:VEVENT
END:VCALENDAR