BEGIN:VCALENDAR
VERSION:2.0
PRODID:-//DRIVE - ECPv6.15.18//NONSGML v1.0//EN
CALSCALE:GREGORIAN
METHOD:PUBLISH
X-WR-CALNAME:DRIVE
X-ORIGINAL-URL:https://driveshops.com
X-WR-CALDESC:Events for DRIVE
REFRESH-INTERVAL;VALUE=DURATION:PT1H
X-Robots-Tag:noindex
X-PUBLISHED-TTL:PT1H
BEGIN:VTIMEZONE
TZID:UTC
BEGIN:STANDARD
TZOFFSETFROM:+0000
TZOFFSETTO:+0000
TZNAME:UTC
DTSTART:20240101T000000
END:STANDARD
END:VTIMEZONE
BEGIN:VEVENT
DTSTART;TZID=UTC:20250507T080000
DTEND;TZID=UTC:20250507T110000
DTSTAMP:20260424T054049
CREATED:20250127T173740Z
LAST-MODIFIED:20250319T194452Z
UID:10007447-1746604800-1746615600@driveshops.com
SUMMARY:Reputation Management Day 2 of 3
DESCRIPTION:
URL:https://driveshops.com/events/reputation-management-day-2-of-3-3/
LOCATION:Online
CATEGORIES:Public Relations,Workshop
ATTACH;FMTTYPE=image/png:https://driveshops.com/wp-content/uploads/2019/04/prw-e1564077485189.png
END:VEVENT
END:VCALENDAR