BEGIN:VCALENDAR
VERSION:2.0
PRODID:-//DRIVE - ECPv6.15.18//NONSGML v1.0//EN
CALSCALE:GREGORIAN
METHOD:PUBLISH
X-ORIGINAL-URL:https://driveshops.com
X-WR-CALDESC:Events for DRIVE
REFRESH-INTERVAL;VALUE=DURATION:PT1H
X-Robots-Tag:noindex
X-PUBLISHED-TTL:PT1H
BEGIN:VTIMEZONE
TZID:America/Denver
BEGIN:DAYLIGHT
TZOFFSETFROM:-0700
TZOFFSETTO:-0600
TZNAME:MDT
DTSTART:20230312T090000
END:DAYLIGHT
BEGIN:STANDARD
TZOFFSETFROM:-0600
TZOFFSETTO:-0700
TZNAME:MST
DTSTART:20231105T080000
END:STANDARD
BEGIN:DAYLIGHT
TZOFFSETFROM:-0700
TZOFFSETTO:-0600
TZNAME:MDT
DTSTART:20240310T090000
END:DAYLIGHT
BEGIN:STANDARD
TZOFFSETFROM:-0600
TZOFFSETTO:-0700
TZNAME:MST
DTSTART:20241103T080000
END:STANDARD
BEGIN:DAYLIGHT
TZOFFSETFROM:-0700
TZOFFSETTO:-0600
TZNAME:MDT
DTSTART:20250309T090000
END:DAYLIGHT
BEGIN:STANDARD
TZOFFSETFROM:-0600
TZOFFSETTO:-0700
TZNAME:MST
DTSTART:20251102T080000
END:STANDARD
END:VTIMEZONE
BEGIN:VEVENT
DTSTART;TZID=America/Denver:20240311T080000
DTEND;TZID=America/Denver:20240311T110000
DTSTAMP:20260425T071459
CREATED:20230718T201406Z
LAST-MODIFIED:20230718T201406Z
UID:10006945-1710144000-1710154800@driveshops.com
SUMMARY:Sales Training for Collision Shops 1/5
DESCRIPTION:
URL:https://driveshops.com/events/sales-training-for-collision-shops-1-5-6/
LOCATION:Online
CATEGORIES:Sales Training for Collision Shops,Workshop
ATTACH;FMTTYPE=image/png:https://driveshops.com/wp-content/uploads/2019/04/screen-shot-2019-05-21-at-10.29.28-am-e1558471305153.png
END:VEVENT
BEGIN:VEVENT
DTSTART;TZID=America/Denver:20240313T080000
DTEND;TZID=America/Denver:20240313T110000
DTSTAMP:20260425T071459
CREATED:20230718T201429Z
LAST-MODIFIED:20230718T201429Z
UID:10006946-1710316800-1710327600@driveshops.com
SUMMARY:Sales Training for Collision Shops 2/5
DESCRIPTION:
URL:https://driveshops.com/events/sales-training-for-collision-shops-2-5-6/
LOCATION:Online
CATEGORIES:Sales Training for Collision Shops,Workshop
ATTACH;FMTTYPE=image/png:https://driveshops.com/wp-content/uploads/2019/04/screen-shot-2019-05-21-at-10.29.28-am-e1558471305153.png
END:VEVENT
BEGIN:VEVENT
DTSTART;TZID=America/Denver:20240315T080000
DTEND;TZID=America/Denver:20240315T110000
DTSTAMP:20260425T071459
CREATED:20230718T201450Z
LAST-MODIFIED:20230718T201450Z
UID:10006947-1710489600-1710500400@driveshops.com
SUMMARY:Sales Training for Collision Shops 3/5
DESCRIPTION:
URL:https://driveshops.com/events/sales-training-for-collision-shops-3-5-7/
LOCATION:Online
CATEGORIES:Sales Training for Collision Shops,Workshop
ATTACH;FMTTYPE=image/png:https://driveshops.com/wp-content/uploads/2019/04/screen-shot-2019-05-21-at-10.29.28-am-e1558471305153.png
END:VEVENT
BEGIN:VEVENT
DTSTART;TZID=America/Denver:20240318T080000
DTEND;TZID=America/Denver:20240318T110000
DTSTAMP:20260425T071459
CREATED:20230718T201526Z
LAST-MODIFIED:20230718T201526Z
UID:10006948-1710748800-1710759600@driveshops.com
SUMMARY:Sales Training for Collision Shops 4/5
DESCRIPTION:
URL:https://driveshops.com/events/sales-training-for-collision-shops-4-5-5/
LOCATION:Online
CATEGORIES:Sales Training for Collision Shops,Workshop
ATTACH;FMTTYPE=image/png:https://driveshops.com/wp-content/uploads/2019/04/screen-shot-2019-05-21-at-10.29.28-am-e1558471305153.png
END:VEVENT
BEGIN:VEVENT
DTSTART;TZID=America/Denver:20240320T080000
DTEND;TZID=America/Denver:20240320T110000
DTSTAMP:20260425T071459
CREATED:20230718T201544Z
LAST-MODIFIED:20230718T201544Z
UID:10006949-1710921600-1710932400@driveshops.com
SUMMARY:Sales Training for Collision Shops 5/5
DESCRIPTION:
URL:https://driveshops.com/events/sales-training-for-collision-shops-5-5-6/
LOCATION:Online
CATEGORIES:Sales Training for Collision Shops,Workshop
ATTACH;FMTTYPE=image/png:https://driveshops.com/wp-content/uploads/2019/04/screen-shot-2019-05-21-at-10.29.28-am-e1558471305153.png
END:VEVENT
END:VCALENDAR