BEGIN:VCALENDAR
VERSION:2.0
PRODID:-//DRIVE - ECPv6.15.18//NONSGML v1.0//EN
CALSCALE:GREGORIAN
METHOD:PUBLISH
X-ORIGINAL-URL:https://driveshops.com
X-WR-CALDESC:Events for DRIVE
REFRESH-INTERVAL;VALUE=DURATION:PT1H
X-Robots-Tag:noindex
X-PUBLISHED-TTL:PT1H
BEGIN:VTIMEZONE
TZID:America/Denver
BEGIN:DAYLIGHT
TZOFFSETFROM:-0700
TZOFFSETTO:-0600
TZNAME:MDT
DTSTART:20240310T090000
END:DAYLIGHT
BEGIN:STANDARD
TZOFFSETFROM:-0600
TZOFFSETTO:-0700
TZNAME:MST
DTSTART:20241103T080000
END:STANDARD
BEGIN:DAYLIGHT
TZOFFSETFROM:-0700
TZOFFSETTO:-0600
TZNAME:MDT
DTSTART:20250309T090000
END:DAYLIGHT
BEGIN:STANDARD
TZOFFSETFROM:-0600
TZOFFSETTO:-0700
TZNAME:MST
DTSTART:20251102T080000
END:STANDARD
BEGIN:DAYLIGHT
TZOFFSETFROM:-0700
TZOFFSETTO:-0600
TZNAME:MDT
DTSTART:20260308T090000
END:DAYLIGHT
BEGIN:STANDARD
TZOFFSETFROM:-0600
TZOFFSETTO:-0700
TZNAME:MST
DTSTART:20261101T080000
END:STANDARD
END:VTIMEZONE
BEGIN:VEVENT
DTSTART;TZID=America/Denver:20250408T080000
DTEND;TZID=America/Denver:20250408T110000
DTSTAMP:20260424T121611
CREATED:20250127T163637Z
LAST-MODIFIED:20250319T173937Z
UID:10007387-1744099200-1744110000@driveshops.com
SUMMARY:Sales Training for Collision Shops Day 1 of 5
DESCRIPTION:
URL:https://driveshops.com/events/sales-training-for-collision-shops-day-1-of-5/
LOCATION:Online
CATEGORIES:Sales Training for Collision Shops,Workshop
ATTACH;FMTTYPE=image/png:https://driveshops.com/wp-content/uploads/2019/04/screen-shot-2019-05-21-at-10.29.28-am-e1558471305153.png
END:VEVENT
BEGIN:VEVENT
DTSTART;TZID=America/Denver:20250409T080000
DTEND;TZID=America/Denver:20250409T110000
DTSTAMP:20260424T121611
CREATED:20250127T163657Z
LAST-MODIFIED:20250127T163657Z
UID:10007388-1744185600-1744196400@driveshops.com
SUMMARY:Sales Training for Collision Shops Day 2 of 5
DESCRIPTION:
URL:https://driveshops.com/events/sales-training-for-collision-shops-day-2-of-5/
LOCATION:Online
CATEGORIES:Sales Training for Collision Shops,Workshop
ATTACH;FMTTYPE=image/png:https://driveshops.com/wp-content/uploads/2019/04/screen-shot-2019-05-21-at-10.29.28-am-e1558471305153.png
END:VEVENT
BEGIN:VEVENT
DTSTART;TZID=America/Denver:20250410T080000
DTEND;TZID=America/Denver:20250410T110000
DTSTAMP:20260424T121611
CREATED:20250127T163715Z
LAST-MODIFIED:20250319T173945Z
UID:10007389-1744272000-1744282800@driveshops.com
SUMMARY:Sales Training for Collision Shops Day 3 of 5
DESCRIPTION:
URL:https://driveshops.com/events/sales-training-for-collision-shops-day-3-of-5/
LOCATION:Online
CATEGORIES:Sales Training for Collision Shops,Workshop
ATTACH;FMTTYPE=image/png:https://driveshops.com/wp-content/uploads/2019/04/screen-shot-2019-05-21-at-10.29.28-am-e1558471305153.png
END:VEVENT
BEGIN:VEVENT
DTSTART;TZID=America/Denver:20250415T080000
DTEND;TZID=America/Denver:20250415T110000
DTSTAMP:20260424T121611
CREATED:20250127T163737Z
LAST-MODIFIED:20250319T173953Z
UID:10007390-1744704000-1744714800@driveshops.com
SUMMARY:Sales Training for Collision Shops Day 4 of 5
DESCRIPTION:
URL:https://driveshops.com/events/sales-training-for-collision-shops-day-4-of-5/
LOCATION:Online
CATEGORIES:Sales Training for Collision Shops,Workshop
ATTACH;FMTTYPE=image/png:https://driveshops.com/wp-content/uploads/2019/04/screen-shot-2019-05-21-at-10.29.28-am-e1558471305153.png
END:VEVENT
BEGIN:VEVENT
DTSTART;TZID=America/Denver:20250416T080000
DTEND;TZID=America/Denver:20250416T110000
DTSTAMP:20260424T121611
CREATED:20250127T163807Z
LAST-MODIFIED:20250127T163807Z
UID:10007391-1744790400-1744801200@driveshops.com
SUMMARY:Sales Training for Collision Shops Day 5 of 5
DESCRIPTION:
URL:https://driveshops.com/events/sales-training-for-collision-shops-day-5-of-5/
LOCATION:Online
CATEGORIES:Sales Training for Collision Shops,Workshop
ATTACH;FMTTYPE=image/png:https://driveshops.com/wp-content/uploads/2019/04/screen-shot-2019-05-21-at-10.29.28-am-e1558471305153.png
END:VEVENT
END:VCALENDAR